BEGIN:VCALENDAR
VERSION:2.0
PRODID:-//ChamberMaster//Event Calendar 2.0//EN
METHOD:PUBLISH
X-PUBLISHED-TTL:P3D
REFRESH-INTERVAL:P3D
CALSCALE:GREGORIAN
BEGIN:VEVENT
DTSTART:20240623T220000Z
DTEND:20240624T000000Z
X-MICROSOFT-CDO-ALLDAYEVENT:FALSE
SUMMARY:9th Annual Kids Catch-All
DESCRIPTION:The Kids Catch-All Fishing Tournament will be held at the Indian River Marina\, one of the best fishing areas located on the East Coast. Great fishing...an all-you-can-eat dinner event for the whole family each night with a free event t-shirt\, door prizes\, and custom made trophies. Every angler receives an award!\n\n\n\nKids from ages 3-18 can register online or in person at the Indian River Marina Friday\, June 21st from 6-8pm or Saturday\, June 22nd from 7-9am. Kids can fish wherever they like and then bring their fish to the Marina to be weighed Saturday 3-6:30pm or Sunday 3-6pm.\n\n\n\nTHE CAUSE The Kids Catch-all Fishing Tournament helps raise money for the Lyme Disease Association of Delmarva\, Inc. - a 501(c)(3) non-profit organization whose purpose is to provide educational resources on Lyme disease and other tick-borne illnesses. The Lyme Disease Association of Delmarva was started 20 years ago by two mothers with sick kids. After multiple doctors visits and many tests to determine the cause of their childrens' illnesses\, it was research done by both of the mothers which lead to the correct diagnosis of Lyme disease and other tick-borne illnesses. The two mothers joined forces and started the Lyme Disease Association of the Eastern Shore of Maryland\, holding monthly support group meetings in Salisbury\, Maryland and having a table of information at community events. The organization's efforts increased through the years as tick-borne diseases became more endemic on the Delmarva Peninsula\, and the group changed its name in 2016 to the Lyme Disease Association of Delmarva\, Inc. ("LDAD") to better reflect its wider geographical influence.
X-ALT-DESC;FMTTYPE=text/html:The Kids Catch-All Fishing Tournament will be held at the Indian River Marina\, one of the best fishing areas located on the East Coast. Great fishing...an all-you-can-eat dinner event for the whole family each night with a free event t-shirt\, door prizes\, and custom made trophies. Every angler receives an award!<br />\n<br />\nKids from ages 3-18 can register online or in person at the Indian River Marina Friday\, June 21st from 6-8pm or Saturday\, June 22nd from 7-9am. Kids can fish wherever they like and then bring their fish to the Marina to be weighed Saturday 3-6:30pm or Sunday 3-6pm.<br />\n<br />\nTHE CAUSE The Kids Catch-all Fishing Tournament helps raise money for the Lyme Disease Association of Delmarva\, Inc. - a 501(c)(3) non-profit organization whose purpose is to provide educational resources on Lyme disease and other tick-borne illnesses. The Lyme Disease Association of Delmarva was started 20 years ago by two mothers with sick kids. After multiple doctors visits and many tests to determine the cause of their childrens&#39\; illnesses\, it was research done by both of the mothers which lead to the correct diagnosis of Lyme disease and other tick-borne illnesses. The two mothers joined forces and started the Lyme Disease Association of the Eastern Shore of Maryland\, holding monthly support group meetings in Salisbury\, Maryland and having a table of information at community events. The organization&#39\;s efforts increased through the years as tick-borne diseases became more endemic on the Delmarva Peninsula\, and the group changed its name in 2016 to the Lyme Disease Association of Delmarva\, Inc. (&quot\;LDAD&quot\;) to better reflect its wider geographical influence.
LOCATION:Indian River Marina 9415 Inlet Rd. Rehoboth Beach\, DE 19971
UID:e.2126.30057
SEQUENCE:3
DTSTAMP:20260420T092356Z
URL:http://business.thequietresorts.com/events/details/9th-annual-kids-catch-all-06-23-2024-30057
END:VEVENT

END:VCALENDAR
