BEGIN:VCALENDAR
VERSION:2.0
PRODID:-//ChamberMaster//Event Calendar 2.0//EN
METHOD:PUBLISH
X-PUBLISHED-TTL:P3D
REFRESH-INTERVAL:P3D
CALSCALE:GREGORIAN
BEGIN:VEVENT
DTSTART:20241013T130000Z
DTEND:20241013T190000Z
X-MICROSOFT-CDO-ALLDAYEVENT:FALSE
SUMMARY:10th Annual Arts in the Garden at Inland Bays Garden Center
DESCRIPTION:The 10th Annual Arts in the Garden takes place on Sunday\, October 13th\, from 9am-3pm. Mark the date on your calendar and get ready to enjoy this Autumn extravaganza! Arts in the Garden now boasts a unique collection of over 22 local artists\, a photo booth for families and friends designed by Alison Webb\, AIFD\, a Bonsai Display\, a kids' craft table\, and of course\, Southern Delaware's most extensive collection of Native plants. Enjoy food from Taco Reho and music by Norman Gaither\, acoustical guitarist. \n\nRain Date Monday\, October 14th.
X-ALT-DESC;FMTTYPE=text/html:<h4>The 10th Annual Arts in the Garden takes place on Sunday\, October 13th\, from 9am-3pm. Mark the date on your calendar and get ready to enjoy this Autumn extravaganza! Arts in the Garden now boasts a unique collection of over 22 local artists\, a photo booth for families and friends designed by Alison Webb\, AIFD\, a Bonsai Display\, a kids&rsquo\; craft table\, and of course\, Southern Delaware&rsquo\;s most extensive collection of Native plants. Enjoy food from Taco Reho and music by Norman Gaither\, acoustical guitarist.&nbsp\;</h4>\n\n<h4><em>Rain Date Monday\, October 14th.</em></h4>\n
LOCATION:Inland Bays Garden Center 38320 Muddy Neck Rd. Frankford\, DE 19945
UID:e.2126.26585
SEQUENCE:3
DTSTAMP:20260425T153445Z
URL:http://business.thequietresorts.com/events/details/9th-annual-arts-in-the-garden-at-inland-bays-garden-center-26585
END:VEVENT

END:VCALENDAR
