BEGIN:VCALENDAR
VERSION:2.0
PRODID:-//ChamberMaster//Event Calendar 2.0//EN
METHOD:PUBLISH
X-PUBLISHED-TTL:P3D
REFRESH-INTERVAL:P3D
CALSCALE:GREGORIAN
BEGIN:VEVENT
DTSTART:20220712T153000Z
DTEND:20220713T030000Z
X-MICROSOFT-CDO-ALLDAYEVENT:FALSE
SUMMARY:9th Anniversary Party! The Salted Rim
DESCRIPTION:The Salted Rim Margarita Bar & Grille \n\n9th Anniversary Party\n\nTuesday\, July 12\n\nParty All Day & Night\n\n\n\nPig Roast\n\nstarts 1:00pm\n\n \n\n  Pulled Pork Platter - $15\n\n  pulled pig\, baked beans\, cole slaw\, corn bread\, corn on the cob\n\n\n\n  Pulled Pork Sandwich - $10\n\n   cole slaw\, baked beans\n\n\n\n  Pulled Pork Slides (3) - $10\n\n\n\nWhile Supplies Last - Dine-In Only\n\n\n\nHappy Hour Drink Specials ALL DAY\n\nHappy Hour Food Specials not available during 9th Anniversary event\n\n\n\nEntertainment\n\n2-6pm    DJ Pat\n\n7-10pm   Lauren Glick Trio
X-ALT-DESC;FMTTYPE=text/html:<div style="text-align:center"><span style="font-size:14px"><span style="font-family:arial"><span style="font-size:18px"><strong><span style="color:#0000FF">The Salted Rim Margarita Bar &amp\; Grille&nbsp\;</span><br />\n<span style="color:#FF0000"><span style="font-size:20px">9th Anniversary Party</span></span></strong></span></span></span><br />\n<span style="font-size:16px"><span style="font-family:arial"><span style="color:#000000"><em>Tuesday\, July 12</em></span><br />\n<strong><span style="color:#66cc33">Party All Day &amp\; Night</span></strong><br />\n<br />\n<span style="color:#990033"><span style="font-size:24px"><span style="font-size:26px"><strong>Pig Roast</strong></span></span></span><br />\n<span style="font-size:14px">starts 1:00pm</span></span></span><br />\n&nbsp\;</div>\n\n<div><span style="font-size:16px"><span style="font-family:arial"><span style="font-size:14px">&bull\; <em><strong>Pulled Pork Platter - $15</strong></em><br />\n&nbsp\; <span style="font-size:11px">pulled pig\, baked beans\, cole slaw\, corn bread\, corn on the cob</span><br />\n<br />\n&bull\; <em><strong>Pulled Pork Sandwich - $10</strong></em><br />\n&nbsp\; &nbsp\;<span style="font-size:11px">cole slaw\, baked beans</span><br />\n<br />\n&bull\; <strong>Pulled Pork Slides (3) - $10</strong><br />\n<br />\n<span style="font-size:11px">While Supplies Last - Dine-In Only</span></span></span><br />\n<br />\n<span style="color:#FF0000"><strong><em>Happy Hour Drink Specials ALL DAY</em></strong></span><br />\n<span style="font-size:14px"><span style="font-size:11px">Happy Hour Food Specials not available during 9th Anniversary event</span></span><br />\n<br />\n<span style="color:#0000FF"><strong><em><span style="font-family:comic sans ms">Entertainment</span></em></strong></span><br />\n<span style="font-family:comic sans ms"><span style="font-size:14px">2-6pm</span></span></span>&nbsp\;&nbsp\;&nbsp\;<strong>&nbsp\;DJ Pat</strong><br />\n7-10pm&nbsp\;&nbsp\;&nbsp\;<strong>Lauren Glick Trio</strong><br />\n&nbsp\;</div>\n
LOCATION:The Salted Rim 35553 Atlantic Avenue Millville\, DE 19967 302-537-7373
UID:e.2126.23832
SEQUENCE:3
DTSTAMP:20260421T205106Z
URL:http://business.thequietresorts.com/events/details/9th-anniversary-party-the-salted-rim-23832
END:VEVENT

END:VCALENDAR
