BEGIN:VCALENDAR
VERSION:2.0
PRODID:-//ChamberMaster//Event Calendar 2.0//EN
METHOD:PUBLISH
X-PUBLISHED-TTL:P3D
REFRESH-INTERVAL:P3D
CALSCALE:GREGORIAN
BEGIN:VEVENT
DTSTART;VALUE=DATE:20240307
DTEND;VALUE=DATE:20240311
TRANSP:TRANSPARENT
X-MICROSOFT-CDO-ALLDAYEVENT:TRUE
SUMMARY:8th Annual Ocean City Film Festival
DESCRIPTION:The Art League of Ocean City is proud to announce the 8th Annual Ocean City Film Festival at the Ocean City Performing Arts Center.\n\n\n\nCome for a weekend of films\, food\, friends and fun! More than 100 shorts and feature-length films\, parties with the filmmakers\, and John Waters LIVE on stage with a special screening of "Hairspray". \n\n\n\nGet your 1-day or 4-day bundle pass.\n\n\n\nThe Film Fest was founded in 2017 and is a production of the nonprofit Art League of Ocean City\, whose youth and outreach programs benefit from the festival. An annual event that attracts international\, national\, and regional artists working in film\, in 2024 the festival will screen 100 independent films\, both short and feature length\, and offer socializing with the filmmakers. The 4-day festival creates community engagement for film lovers and networking opportunities for filmmakers of all levels.
X-ALT-DESC;FMTTYPE=text/html:<span style="color: rgb(0\, 0\, 0)\; font-family: &quot\;PT Sans Narrow&quot\;\, sans-serif\; font-size: 24px\; text-align: center\;">The Art League of Ocean City is proud to announce the 8th Annual Ocean City Film Festival at the Ocean City Performing Arts Center.<br />\n<br />\nCome for a weekend of films\, food\, friends and fun! More than 100 shorts and feature-length films\, parties with the filmmakers\, and John Waters LIVE on stage with a special screening of &quot\;Hairspray&quot\;.&nbsp\;<br />\n<br />\nGet your 1-day or 4-day bundle pass.<br />\n<br />\nThe Film Fest was founded in 2017 and is a production of the nonprofit Art League of Ocean City\, whose youth and outreach programs benefit from the festival. An annual event that attracts international\, national\, and regional artists working in film\, in 2024 the festival will screen 100 independent films\, both short and feature length\, and offer socializing with the filmmakers. The 4-day festival creates community engagement for film lovers and networking opportunities for filmmakers of all levels.&nbsp\;</span>
LOCATION:Ocean City Performing Arts Center 4001 Coastal Hwy. Ocean City\, MD 21842
UID:e.2126.28399
SEQUENCE:3
DTSTAMP:20260420T074536Z
URL:http://business.thequietresorts.com/events/details/8th-annual-ocean-city-film-festival-28399
END:VEVENT

END:VCALENDAR
