BEGIN:VCALENDAR
VERSION:2.0
PRODID:-//ChamberMaster//Event Calendar 2.0//EN
METHOD:PUBLISH
X-PUBLISHED-TTL:P3D
REFRESH-INTERVAL:P3D
CALSCALE:GREGORIAN
BEGIN:VEVENT
DTSTART;VALUE=DATE:20220625
DTEND;VALUE=DATE:20220627
TRANSP:TRANSPARENT
X-MICROSOFT-CDO-ALLDAYEVENT:TRUE
SUMMARY:7th Annual Kids Catch-all Fishing Tournament
DESCRIPTION:Join us on June 25th & 26th for the 7th Annual Kids Catch-all Fishing Tournament. The event is open to kids ages 3 to 18\, and each participating child receives an event t-shirt\, goodies bag\, free all-u-can  eat dinner each night\, a chance to win lots of great door prizes during dinner\, pictures taken with their catches at our bragging board\, Free Gift at the Awards Night from Hook 'Em and Cook 'Em\, free lure from Tinman Lures\, and a chance to win a custom-made trophy in 14 different categories. A portion of the proceeds benefits the Lyme Disease Association of Delmarva\, Inc. For the rules on the 2022 Tournament\, please click here.\n\n\n\nThe Lyme Disease Association of Delmarva\, Inc. will keep the registration table manned throughout the tournament from 7:00 a.m. to 6:30 p.m. on Saturday and 9:00 a.m. to 6:00 p.m. on Sunday. In-person Registration Hours: Friday\, June 24th from 6:00 p.m. to 8:00 p.m. and Saturday\, June 25th from 7:00 a.m. to 9:00 a.m. If you pre-register online\, you can stop by any time to pick up your kids' t-shirts and bags - you do not have to come to the Marina during the in-person registration hours. All registrations must be received either online or in person by 9:00 am on Saturday\, June 25th.\n\n\n\nPlease complete the RSVP for dinner on the registration form to help us in ordering food. Tournament Kids eat free and additional family members pay only (Kids 10 and under $10\, adults $20 per person) for the all-u-can-eat dinner each night. Dinner tickets can be purchased any time at the registration booth\, where you can also pick up the participating kids' dinner wristbands.
X-ALT-DESC;FMTTYPE=text/html:<span style="font-size:14px\;"><span style="font-family:arial\;">Join us on&nbsp\;June 25th &amp\; 26th&nbsp\;for the 7th Annual Kids Catch-all Fishing Tournament.&nbsp\;The event is open to kids ages 3 to 18\, and each participating child receives an event t-shirt\, goodies bag\, free all-u-can &shy\;eat dinner each night\, a chance to win lots of great door prizes during dinner\, pictures taken with their catches at our bragging board\, Free Gift at the Awards Night from Hook &#39\;Em and Cook &#39\;Em\, free lure from Tinman Lures\, and a chance to win a custom-made trophy in 14 different categories. A portion of the proceeds benefits the Lyme Disease Association of Delmarva\, Inc. For the rules on the 2022 Tournament\, please <a href="https://chambermaster.blob.core.windows.net/userfiles/UserFiles/chambers/2126/File/Community_Events/Kids_Catch_All_Tournament/DOC034.pdf" target="_blank">click here</a>.<br />\n<br />\nThe Lyme Disease Association of Delmarva\, Inc. will keep the registration table manned throughout the tournament from 7:00 a.m. to 6:30 p.m. on Saturday and 9:00 a.m. to 6:00 p.m. on Sunday.&nbsp\;In-person Registration Hours: Friday\, June 24th from 6:00 p.m. to 8:00 p.m. and Saturday\, June 25th from 7:00 a.m. to 9:00 a.m.&nbsp\;If you pre-register <a href="https://www.kidscatchall.com/" target="_blank">online</a>\, you can stop by any time to pick up your kids&#39\; t-shirts and bags - you do not have to come to the Marina during the in-person registration hours. All registrations must be received either online or in person by 9:00 am on Saturday\, June 25th.<br />\n<br />\nPlease complete the RSVP for dinner on the registration form to help us in ordering food. Tournament Kids eat free and additional family members pay only (Kids 10 and under $10\, adults $20 per person) for the all-u-can-eat dinner each night. Dinner tickets can be purchased any time at the registration booth\, where you can also pick up the participating kids&#39\; dinner wristbands.</span></span>
LOCATION:Indian River Marina 39415 Inlet Rd Rehoboth Beach\, DE 19971
UID:e.2126.23592
SEQUENCE:3
DTSTAMP:20260421T223741Z
URL:http://business.thequietresorts.com/events/details/7th-annual-kids-catch-all-fishing-tournament-23592
END:VEVENT

END:VCALENDAR
