BEGIN:VCALENDAR
VERSION:2.0
PRODID:-//ChamberMaster//Event Calendar 2.0//EN
METHOD:PUBLISH
X-PUBLISHED-TTL:P3D
REFRESH-INTERVAL:P3D
CALSCALE:GREGORIAN
BEGIN:VEVENT
DTSTART:20200201T230000Z
DTEND:20200202T040000Z
X-MICROSOFT-CDO-ALLDAYEVENT:FALSE
SUMMARY:7th Annual Adult Prom/Seacrets A NIGHT AT THE OSCARS
DESCRIPTION:Walk the RED CARPET and smile for the paparazzi at A NIGHT AT THE OSCARS at Seacrets from 7-11pm!! Full buffet dinner\, fantastic silent auction items\, gift baskets\, and more. Dress as your favorite star or come as you are.. All proceeds benefit Believe In Tomorrow Children's House By The Sea..providing respite housing for critically ill children and their families. For ticket information call Wayne at 410-723-2842. www.believeintomorrow.org
X-ALT-DESC;FMTTYPE=text/html:<span style="font-size: 14px\;"><span style="font-family: arial\;">Walk the RED CARPET and smile for the paparazzi at A NIGHT AT THE OSCARS at Seacrets from 7-11pm!! Full buffet dinner\, fantastic silent auction items\, gift baskets\, and more. Dress as your favorite star or come as you are.. All proceeds benefit Believe In Tomorrow Children&#39\;s House By The Sea..providing respite housing for critically ill children and their families. For ticket information call Wayne at 410-723-2842. <a href="http://www.believeintomorrow.org">www.believeintomorrow.org</a></span></span>
LOCATION:Seacrets 117 49th St Ocean City\, MD 21842
UID:e.2126.20064
SEQUENCE:3
DTSTAMP:20260426T003709Z
URL:http://business.thequietresorts.com/events/details/7th-annual-adult-prom-seacrets-a-night-at-the-oscars-20064
END:VEVENT

END:VCALENDAR
