BEGIN:VCALENDAR
VERSION:2.0
PRODID:-//ChamberMaster//Event Calendar 2.0//EN
METHOD:PUBLISH
X-PUBLISHED-TTL:P3D
REFRESH-INTERVAL:P3D
CALSCALE:GREGORIAN
BEGIN:VEVENT
DTSTART;VALUE=DATE:20240615
DTEND;VALUE=DATE:20240616
TRANSP:TRANSPARENT
X-MICROSOFT-CDO-ALLDAYEVENT:TRUE
SUMMARY:67th Annual Old Timers' Day: Volunteer Registration
DESCRIPTION:Calling all volunteers!\n \n\nThe Town of Selbyville and the Bethany-Fenwick Area Chamber of Commerce travel back in time as they celebrate tradition and the classics. Now in its 67th year\, classic and antique cars\, trucks\, and more line Church Street in Selbyville for their shot to win "Best in Show" while socializing with other classic fanatics. Live music\, food\, games\, fire truck rides\, and family-friendly activities round out the festivities - this is event is fun for all ages!\n\n \n\n*This event is rain or shine. \n\n \n\nVolunteers keep the good times rollin' when it comes to events. Register to sign up to be a part of the action!\n\n\n\nVolunteer Opportunities:\n\n\n	Check-In/Registration Tent\n\n	\n		Description: Volunteers help pre-registered vehicles check in and on-site vehicle registration. Volunteers will also assist in distributing event materials and answer questions.\n\n		\n			Pre-registered check-in\n			Day of registration\n		\n		\n		Shift Time(s): 6:00 am - 10:00 am\n	\n	\n	 Parking\n	\n		Description: Volunteers assist in directing registered vehicles for event parking on Church Street.\n		Shift Time(s): 7:00 am - 11:00 am\n	\n	\n	Information Station & Runners\n	\n		Description: Volunteers assist in distributing event information and actively handing out Historic Walking Tour cards and Promoting People's Choice surveys.\n		Shift Time(s):\n		\n			8:00 am -11:30 am\n			11:30 am -3:00 pm\n		\n		\n	\n	\n	Golf Cart Drivers\n	\n		Description: Volunteers will be responsible for safe transport of event supplies\, volunteers\, staff\, and guests as needed. Must be 25 years old with valid driver's license.\n		Shift Time(s):\n		\n			8:00 am-11:30 am\n			11:30 am - 3:00pm\n		\n		\n	\n	\n	Children's Activities \n	\n		 Description: Volunteers will be responsible for supervision of the children's area (inflatables\, games\, dunk tank\, etc.) and ensure the following of rules.\n		Shift Time(s):\n		\n			9:00 am - 12:00 pm\n			12:00 pm - 3:00pm\n		\n		\n	\n	\n	Beer Garden (must be 21 to work\, ABC certified)\n	\n		Description: Volunteers will be responsible to check ID and ensure everyone entering is 21+\n		Shift Time(s): \n		\n			9:00 am - 12:00 pm\n			12:00pm - 2:00 pm\n		\n		\n	\n	\n\n\nRegistration Instructions\n\n\n	Select the green "Register Now" button at the top of the event page\n	Select "Click here to continue your registration" under the "Not a member" section on the right hand side of the screen\n	Enter your name and contact information in appropriate fields. Double-check your email address!\n	Select the volunteer assignment you would like. Note* if you are interested in volunteering for more than one time slot\, select Add Attendee and complete the info section for each additional volunteer shift you would like.\n	You will receive a confirmation email that confirms your volunteer registration. You will receive communication of more details for your assignment closer to the date you will be helping. All questions can be directed to Alyssa at events@thequietresorts.com\n\n Thank you in advance for helping!
X-ALT-DESC;FMTTYPE=text/html:<span style="font-size:16px\;"><span style="font-family:tahoma\;"><strong>Calling all volunteers!</strong></span></span>\n<div>&nbsp\;</div>\n\n<div><span style="font-family:tahoma\;">The Town of Selbyville and the Bethany-Fenwick Area Chamber of Commerce travel back in time as they celebrate tradition and the classics. Now in its 67th year\, classic and antique cars\, trucks\, and more&nbsp\;line Church Street in Selbyville for their shot to win &ldquo\;Best in Show&rdquo\; while socializing with other classic fanatics. Live music\, food\, games\, fire truck rides\, and family-friendly activities round out the festivities - this is event is fun for all ages!</span></div>\n\n<div>&nbsp\;</div>\n\n<div><span style="font-family:tahoma\;">*This event is rain or shine.&nbsp\;</span></div>\n\n<div>&nbsp\;</div>\n\n<div><span style="font-family:tahoma\;">Volunteers keep the good times rollin&#39\; when it comes to events. Register to sign up to be a part of the action!<br />\n<br />\n<span style="font-size:16px\;"><strong>Volunteer Opportunities:</strong></span></span></div>\n\n<ul>\n	<li><span style="font-family:tahoma\;"><strong>Check-In/Registration Tent</strong></span>\n\n	<ul>\n		<li><span style="font-family:tahoma\;">Description: Volunteers help pre-registered vehicles check in and on-site vehicle registration. Volunteers will also assist in distributing event materials and answer questions.</span>\n\n		<ul>\n			<li><span style="font-family:tahoma\;">Pre-registered&nbsp\;check-in</span></li>\n			<li><span style="font-family:tahoma\;">Day of registration</span></li>\n		</ul>\n		</li>\n		<li><span style="font-family:tahoma\;">Shift Time(s): 6:00 am - 10:00 am</span></li>\n	</ul>\n	</li>\n	<li><span style="font-family:tahoma\;">&#8203\;<strong>Parking</strong></span>\n	<ul>\n		<li><span style="font-family:tahoma\;">Description: Volunteers assist in directing registered vehicles for event parking on Church Street.</span></li>\n		<li><span style="font-family:tahoma\;">Shift Time(s): 7:00 am - 11:00 am</span></li>\n	</ul>\n	</li>\n	<li><span style="font-family:tahoma\;"><strong>Information Station &amp\; Runners</strong></span>\n	<ul>\n		<li><span style="font-family:tahoma\;">Description: Volunteers assist in distributing event information and actively handing out Historic Walking Tour cards and Promoting People&#39\;s Choice surveys.</span></li>\n		<li><span style="font-family:tahoma\;">Shift Time(s):</span>\n		<ul>\n			<li><span style="font-family:tahoma\;">8:00 am -11:30 am</span></li>\n			<li><span style="font-family:tahoma\;">11:30 am -3:00 pm</span></li>\n		</ul>\n		</li>\n	</ul>\n	</li>\n	<li><span style="font-family:tahoma\;"><strong>Golf Cart Drivers</strong></span>\n	<ul>\n		<li><span style="font-family:tahoma\;">Description: Volunteers will be responsible for safe transport of event supplies\, volunteers\, staff\, and guests as needed. Must be 25 years old with valid driver&#39\;s license.</span></li>\n		<li><span style="font-family:tahoma\;">Shift Time(s):</span>\n		<ul>\n			<li><span style="font-family:tahoma\;">8:00 am-11:30 am</span></li>\n			<li><span style="font-family:tahoma\;">11:30 am - 3:00pm</span></li>\n		</ul>\n		</li>\n	</ul>\n	</li>\n	<li><span style="font-family:tahoma\;"><strong>Children&#39\;s Activities&nbsp\;</strong></span>\n	<ul>\n		<li><span style="font-family:tahoma\;"><strong>&#8203\;</strong>Description: Volunteers will be responsible for supervision of the children&#39\;s area (inflatables\, games\, dunk tank\, etc.) and ensure the following of rules.</span></li>\n		<li><span style="font-family:tahoma\;">Shift Time(s):</span>\n		<ul>\n			<li><span style="font-family:tahoma\;">9:00 am - 12:00 pm</span></li>\n			<li><span style="font-family:tahoma\;">12:00 pm - 3:00pm</span></li>\n		</ul>\n		</li>\n	</ul>\n	</li>\n	<li><span style="font-family:tahoma\;"><strong>Beer Garden</strong> (must be 21 to work\, ABC certified)</span>\n	<ul>\n		<li><span style="font-family:tahoma\;">Description: Volunteers will be responsible to check ID and ensure everyone entering is 21+</span></li>\n		<li><span style="font-family:tahoma\;">Shift Time(s):&nbsp\;</span>\n		<ul>\n			<li><span style="font-family:tahoma\;">9:00 am - 12:00 pm</span></li>\n			<li><span style="font-family:tahoma\;">12:00pm - 2:00 pm</span></li>\n		</ul>\n		</li>\n	</ul>\n	</li>\n</ul>\n\n<div font-size:="" style="color: rgb(51\, 51\, 51)\; font-family: sans-serif\, Arial\, Verdana\, " trebuchet=""><span style="font-size:16px\;"><span style="font-family:tahoma\;"><font color="#0000ff"><b>Registration Instructions</b></font></span></span></div>\n\n<ol font-size:="" style="padding: 0px 40px\; color: rgb(51\, 51\, 51)\; font-family: sans-serif\, Arial\, Verdana\, " trebuchet="">\n	<li><span style="font-family:tahoma\;">Select the green<strong>&nbsp\;&quot\;Register Now&quot\;</strong>&nbsp\;button at the top of the event page</span></li>\n	<li><span style="font-family:tahoma\;">Select&nbsp\;<strong>&quot\;Click here to continue your registration&quot\;</strong>&nbsp\;under the &quot\;Not a member&quot\; section on the right hand side of the screen</span></li>\n	<li><span style="font-family:tahoma\;">Enter your name and contact information in appropriate fields. <u>Double-check your email address!</u></span></li>\n	<li><span style="font-family:tahoma\;">Select the&nbsp\;volunteer assignment you would like. Note* if you are interested in volunteering for more than one time slot\, select&nbsp\;<strong>Add Attendee&nbsp\;</strong>and complete the info section for each additional volunteer shift you would like.</span></li>\n	<li><span style="font-family:tahoma\;">You will receive a confirmation email that confirms your volunteer registration. You will receive communication of more details for your assignment closer to the date you will be helping. All questions can be directed to Alyssa at events@thequietresorts.com</span></li>\n</ol>\n<span style="font-family:tahoma\;"> <span font-size:="" style="color: rgb(51\, 51\, 51)\; font-family: sans-serif\, Arial\, Verdana\, " trebuchet=""><strong><span style="color: rgb(0\, 0\, 255)\;">Thank you in advance for helping!</span></strong></span></span>
LOCATION:Uptown Selbyville (Church Street) Volunteer Check-in will take place on the day of at the registration tent located at 1 Church St (Town Hall).
UID:e.2126.28568
SEQUENCE:3
DTSTAMP:20260420T091021Z
URL:http://business.thequietresorts.com/events/details/67th-annual-old-timers-day-volunteer-registration-28568
END:VEVENT

END:VCALENDAR
