BEGIN:VCALENDAR
VERSION:2.0
PRODID:-//ChamberMaster//Event Calendar 2.0//EN
METHOD:PUBLISH
X-PUBLISHED-TTL:P3D
REFRESH-INTERVAL:P3D
CALSCALE:GREGORIAN
BEGIN:VEVENT
DTSTART:20240615T120000Z
DTEND:20240615T190000Z
X-MICROSOFT-CDO-ALLDAYEVENT:FALSE
SUMMARY:67th Annual Old Timers' Day Classic Car Show & Family Festival
DESCRIPTION:The 67th Annual Old Timers' Day Classic Car Show & Family Festival will be hosted on Uptown Church Street in Selbyville\, DE. Save the date for June 15th\, 2024\, from 8 am - 3 pm. Classic cars dating back to the 1910s begin parking at 8am. Enjoy festival fun with a live band & DJ\, food vendors\, a beer garden\, artisans and local sidewalk sale\, and children's activities round out the festivities. Fun for all ages\, don't miss this family-friendly event featuring a new brand new event layout this year.\n\n\n\nPRINTABLE FLYER\n\n\n\nSaturday Event Schedule: *Continue to check back for updates!*\n\n\n	8:00 AM - 10:00 AM - On-site Vehicle Registration & Pre-Registered Vehicle Check-in\n	\n		Vehicle Judging Begins\n	\n	\n	8:00 AM - 12:00 PM - Live DJ - BKH Entertainment sponsored by Bank of OC\n	8:00 AM - 2:00 PM - Artisans and Food Stands/Food Trucks\n	10:00 AM - 3:00 PM - Beer Garden: Benefitting the Selbyville Volunteer Fire Department sponsored by Banks Wines & Spirits\n	10:00 AM - 2:00 PM Festival Activities\n	\n		Inflatable Bumpers Cars & "Beat the Bucket" Water Game\n		\n			Donations benefit Friends of the Selbyville Public Library\n		\n		\n		Bounce house sponsored by McDonalds of Selbyville and Barton's Grand Rental\n		Carnival Games\n		Ray's Wraps & Sand Art\n		\n			Portion of proceeds donated to event beneficiary\n		\n		\n		Indoor Roller Rink at Salem Church\n		\n			$5 skate rental\n			Portion of proceeds donated to mission\n		\n		\n		Historic Walking Tour\n		\n			Completed Walking Tour cards can be turned in for a chance to win a special prize!\n		\n		\n		Fire Truck Rides \n		\n			Starting at 11am behind Town Hall\n		\n		\n	\n	\n	11:00 AM - 2:00 PM - Live music: Glass Onion Band\n	2:00 PM - 3:00 PM: Awards Ceremony announcing Top 25 Winners and more!\n\n\nCar Show Registration:\n\nOnline Car Registration closes Wednesday\, June 6 at 12pm. \n\nDay of Registration will be available on-site!\n\n\n\nCar Show Awards:\n\nCash Prizes offered to:\n\nBest Overall Winner\n\nOldest of the Old Timers Award\n\nUPDATE! All cars submitting for judging will be in the running to win a Top 25 award. \n\n*Scoring will no longer be categorized by decades. Top overall scores receive an award!\n\n\n\nJudging:\n\nAll judging will be done the DelMarVa Judging Group\, an experienced crew of individuals using a 40-point rubric that takes into consideration overall body appearance\, interior\, engine components\, and paint. \n\n\n\n"Day of" Car Registration\n\nVehicle Registration Fee: $10.  Register on the day of the event by following the route indicated on the event map. Classic Cars will be given a registration form and placard. Registrants are encouraged to pay with cash to expedite the check-in process! Email info@thequietresorts.com for any information.\n\n\n\nFirst 100 Vehicles:\n\nBe one of the first 100 registered vehicles and receive a commemorative Old Timers' Day gift.\n\nCome for the Cars\, Stay for the Fun!\n\n\n	Food Trucks & Beer Garden\n	\n		Beer Garden Sponsored by Banks Wines & Spirits\n		Blazen Grill\n		Changing Mains\, LLC\n		Squash Blossom\n		Taste of the South Street Kitchens\n		Women of Faith - Salem Church \n	\n	\n	 Children's & Family-Friendly Activities: inflatables\, face painting\, an indoor roller rink\, inflatables\, carnival games\, water game\, and more!\n	Fire Truck Rides  \n	Historic Walking Tour - Participate to win a prize!\n	Sidewalk Sale\n	\n		Details coming soon!\n	\n	\n\nLive Music\n\nBKH Entertainment will be keeping the tunes rolling from 8 am - 12 pm (next to Salem United Methodist Church) sponsored by Bank of Ocean City \n\nThe Glass Onion Band will be performing live by Town Hall from 11 am - 2 pm\n\nBeer Garden \n\nBack once again\, the 67th Annual Old Timers Day event will feature a pop-up beer garden\, sponsored by Banks Wines & Spirits. Come join us from 10:00 am - 3:00 pm to enjoy some beer and all of the beautiful vehicles on display. Proceeds benefit the Selbyville Fire Department.\n\nParking: \n\nOld Timers' Day classic car registrants will be parked along Church Street in Selbyville.\n\nGuest & family parking is available on all side streets and Southern Delaware School for the Arts & Along Railroad Ave. \n\n\n\nGolf Carts will be running up and down Church St. (between Church Ave. and the Town Hall Building) from 9 am - 3 pm courtesy of Bethany Golf Cart Rentals. Handicap parking is reserved by the municipal lot on Main St.\n\n\n\nVolunteers: \n\nIf you would like to sign up to volunteer for the event\, email events@thequietresorts.com.\n\n\n\nSponsorship Opportunities: Open\n\nIf you are interested in being a sponsor for this event\, please contact events@thequietresorts.com\n\n\n\nVendor Registration:\n\nIf you are a food or retail vendor or a nonprofit organization interested in participating in Old Timers' Day\, please fill out the Vendor Application and Information Form. Please email your completed form to events@thequietresorts.com. Approved vendors will be notified and required to submit a Certificate of Insurance with BFACC listed as additionally insured. If you need to acquire a short-term coverage COI - please see below.\n\nCOI: June 15th Old Timers' Day Classic Car Show & Family Festival\n\nACT- https://app.actinsurance.com/events/8735\n\nFLIP- https://app.fliprogram.com/events/8736
X-ALT-DESC;FMTTYPE=text/html:<p><span style="font-size:14px\;"><span style="font-family:arial\;">The 67th Annual Old Timers&#39\; Day Classic Car Show &amp\; Family Festival will be hosted on Uptown Church Street in Selbyville\, DE. Save the date for June 15th\, 2024\, from 8&nbsp\;am -&nbsp\;3 pm. Classic cars dating back to the 1910s begin parking at 8am. Enjoy&nbsp\;festival fun with a&nbsp\;live band &amp\; DJ\, food vendors\, a beer garden\, artisans and local sidewalk sale\, and children&#39\;s activities round out the festivities. Fun for all ages\, don&#39\;t miss this family-friendly event featuring a new brand new event layout this year.<br />\n<br />\n<strong><a href="https://chambermaster.blob.core.windows.net/userfiles/UserFiles/chambers/2126/File/Old_Timers/2024/OTD_Flyer_242.pdf">PRINTABLE FLYER</a></strong><br />\n<br />\n<span background-color:="" font-size:="" trebuchet=""><span new="" times=""><strong>Saturday Event Schedule: *Continue to check back for updates!*</strong></span></span></span></span></p>\n\n<ul>\n	<li>8:00 AM - 10:00 AM - On-site Vehicle Registration &amp\; Pre-Registered Vehicle Check-in\n	<ul>\n		<li>Vehicle Judging Begins</li>\n	</ul>\n	</li>\n	<li>8:00 AM - 12:00 PM - Live DJ - BKH Entertainment sponsored by Bank of OC</li>\n	<li>8:00 AM - 2:00 PM - Artisans and Food&nbsp\;Stands/Food Trucks</li>\n	<li>10:00 AM - 3:00 PM -&nbsp\;Beer Garden:&nbsp\;Benefitting the Selbyville Volunteer Fire Department sponsored by Banks Wines &amp\; Spirits</li>\n	<li>10:00 AM&nbsp\;- 2:00 PM Festival Activities\n	<ul>\n		<li>Inflatable Bumpers Cars &amp\; &quot\;Beat the Bucket&quot\; Water Game\n		<ul>\n			<li>Donations benefit Friends of the Selbyville Public Library</li>\n		</ul>\n		</li>\n		<li>Bounce house&nbsp\;sponsored by McDonalds of Selbyville and Barton&#39\;s&nbsp\;Grand Rental</li>\n		<li>Carnival Games</li>\n		<li>Ray&#39\;s Wraps &amp\; Sand Art\n		<ul>\n			<li>Portion of proceeds donated to event beneficiary</li>\n		</ul>\n		</li>\n		<li>Indoor Roller Rink at Salem Church\n		<ul>\n			<li>$5&nbsp\;skate rental</li>\n			<li>Portion of proceeds donated to mission</li>\n		</ul>\n		</li>\n		<li>Historic Walking Tour\n		<ul>\n			<li>Completed Walking Tour cards can be turned in for a chance to win a special prize!</li>\n		</ul>\n		</li>\n		<li>Fire Truck Rides&nbsp\;\n		<ul>\n			<li>Starting at 11am behind Town Hall</li>\n		</ul>\n		</li>\n	</ul>\n	</li>\n	<li>11:00 AM - 2:00 PM - Live music: Glass Onion Band</li>\n	<li>2:00 PM - 3:00 PM: Awards Ceremony announcing Top 25 Winners and more!</li>\n</ul>\n\n<p><strong style="color: rgb(51\, 51\, 51)\; font-family: arial\; font-size: 14px\; background-color: rgb(255\, 255\, 255)\;"><span style="color: rgb(128\, 0\, 0)\;">Car Show Registration:</span></strong><br />\n<span style="font-size:14px\;"><span style="font-family:arial\;"><span background-color:="" font-size:="" trebuchet=""><span new="" times=""><strong>Online Car Registration closes Wednesday\, June 6 at 12pm. </strong><br />\n<strong>Day of Registration will be available on-site!<br />\n<br />\n<span style="color:#800000\;">Car Show Awards:</span></strong></span></span><br />\n<span background-color:="" font-size:="" trebuchet=""><span new="" style="line-height: 14.98px\;" times="">Cash Prizes offered to:<br />\nBest Overall Winner</span></span><br background-color:="" font-size:="" style="color: rgb(51\, 51\, 51)\; font-family: sans-serif\, Arial\, Verdana\, " trebuchet="" />\n<span style="background-color: rgb(255\, 255\, 255)\;">Oldest of the Old Timers Award</span><br background-color:="" font-size:="" style="color: rgb(51\, 51\, 51)\; font-family: sans-serif\, Arial\, Verdana\, " trebuchet="" />\n<span background-color:="" font-size:="" trebuchet=""><span new="" style="line-height: 14.98px\;" times="">UPDATE! All cars submitting for judging will be in the running to win a Top 25&nbsp\;award.&nbsp\;<br />\n*Scoring&nbsp\;will no longer be categorized by decades. Top overall scores receive an award!<br />\n<br />\n<span style="color:#800000\;"><strong>Judging:</strong></span></span></span><br />\nAll judging will be done&nbsp\;the DelMarVa Judging Group\, an experienced crew of individuals using a 40-point rubric that takes into consideration overall body appearance\, interior\, engine components\, and paint.&nbsp\;<br />\n<br />\n<strong><span style="color:#800000\;">&quot\;Day of&quot\; Car&nbsp\;Registration</span></strong><br style="color: rgb(51\, 51\, 51)\; font-family: arial\; font-size: 14px\; background-color: rgb(255\, 255\, 255)\;" />\n<span style="background-color: rgb(255\, 255\, 255)\;">Vehicle Registration Fee: $10.&nbsp\; Register on the day of the event by following the route indicated on the event map. Classic Cars will be given a registration form and placard. Registrants are encouraged to pay with cash to expedite the check-in process!&nbsp\;Email info@thequietresorts.com for any information.</span><br />\n<br />\n<span style="color:#800000\;"><b style="color: rgb(165\, 42\, 42)\; font-family: arial\; font-size: 14px\;">First 100 Vehicles:</b></span><br />\nBe one of the first 100 registered vehicles and receive a commemorative&nbsp\;Old Timers&#39\; Day gift.</span></span></p>\n\n<p><span style="font-size:14px\;"><span style="font-family:arial\;"><b style="color: rgb(165\, 42\, 42)\; font-family: arial\; font-size: 14px\;">Come for the Cars\, Stay for the Fun!</b></span></span></p>\n\n<ul>\n	<li>Food Trucks &amp\; Beer Garden\n	<ul>\n		<li>Beer Garden Sponsored by Banks Wines &amp\; Spirits</li>\n		<li>Blazen Grill</li>\n		<li>Changing Mains\, LLC</li>\n		<li>Squash Blossom</li>\n		<li>Taste of the South Street Kitchens</li>\n		<li>Women of Faith - Salem Church&nbsp\;</li>\n	</ul>\n	</li>\n	<li><span style="font-size:14px\;"><span style="font-family:arial\;">&#8203\;Children&#39\;s &amp\; Family-Friendly Activities: inflatables\, face painting\, an indoor roller rink\, inflatables\, carnival games\, water game\, and more!</span></span></li>\n	<li><span style="font-size:14px\;"><span style="font-family:arial\;">Fire Truck Rides&nbsp\;&#8203\;</span></span></li>\n	<li><span style="font-size:14px\;"><span style="font-family:arial\;">Historic Walking Tour - Participate to win a prize!</span></span></li>\n	<li><span style="font-size:14px\;"><span style="font-family:arial\;">Sidewalk Sale</span></span>\n	<ul>\n		<li><font face="arial"><span style="font-size: 14px\;">Details coming soon!</span></font></li>\n	</ul>\n	</li>\n</ul>\n<span style="font-size:14px\;"><span style="font-family:arial\;"><span style="color:#800000\;"><span style="box-sizing: content-box\; inset: auto\; clear: none\; content: normal\; direction: inherit\; empty-cells: show\; font-variant-numeric: inherit\; font-variant-east-asian: inherit\; font-stretch: inherit\; line-height: inherit\; margin: 0px\; max-height: none\; max-width: none\; min-height: initial\; min-width: initial\; opacity: 1\; outline-offset: 0px\; overflow: visible\; padding: 0px\; position: static\; resize: none\; table-layout: auto\; text-overflow: clip\; vertical-align: baseline\; visibility: inherit\; word-break: inherit\; overflow-wrap: inherit\; z-index: auto\; background-image: none\; background-position: initial\; background-size: initial\; background-repeat: initial\; background-attachment: initial\; background-origin: initial\; background-clip: initial\; border-width: initial\; border-style: none\; border-color: initial\; border-collapse: separate\; border-image: none 100% 1 0 / 1 / 0 stretch\; border-radius: 0px\; height: auto\; width: auto\; box-shadow: none\;"><span style="box-sizing: content-box\; font-weight: bolder\; inset: auto\; clear: none\; content: normal\; direction: inherit\; empty-cells: show\; font-style: inherit\; font-variant: inherit\; font-stretch: inherit\; letter-spacing: inherit\; line-height: inherit\; margin: 0px\; max-height: none\; max-width: none\; min-height: initial\; min-width: initial\; opacity: 1\; outline-offset: 0px\; overflow: visible\; padding: 0px\; position: static\; resize: none\; table-layout: auto\; text-align: inherit\; text-indent: inherit\; text-overflow: clip\; text-transform: inherit\; vertical-align: baseline\; visibility: inherit\; white-space: inherit\; word-break: inherit\; word-spacing: inherit\; overflow-wrap: inherit\; z-index: auto\; background: none\; border-width: initial\; border-style: none\; border-color: initial\; border-collapse: separate\; border-image: none 100% 1 0 / 1 / 0 stretch\; border-radius: 0px\; height: auto\; width: auto\; box-shadow: none\;"><span style="box-sizing: content-box\; inset: auto\; clear: none\; content: normal\; direction: inherit\; empty-cells: show\; font-style: inherit\; font-variant: inherit\; font-weight: inherit\; font-stretch: inherit\; letter-spacing: inherit\; line-height: inherit\; margin: 0px\; max-height: none\; max-width: none\; min-height: initial\; min-width: initial\; opacity: 1\; outline-offset: 0px\; overflow: visible\; padding: 0px\; position: static\; resize: none\; table-layout: auto\; text-align: inherit\; text-indent: inherit\; text-overflow: clip\; text-transform: inherit\; vertical-align: baseline\; visibility: inherit\; white-space: inherit\; word-break: inherit\; word-spacing: inherit\; overflow-wrap: inherit\; z-index: auto\; background: none\; border-width: initial\; border-style: none\; border-color: initial\; border-collapse: separate\; border-image: none 100% 1 0 / 1 / 0 stretch\; border-radius: 0px\; height: auto\; width: auto\; box-shadow: none\;">Live Music</span></span></span></span><br />\n<span style="background-color: rgb(255\, 255\, 255)\;">BKH Entertainment will be keeping the tunes rolling from 8 am - 12 pm (next to Salem United Methodist Church) sponsored by Bank of Ocean City&nbsp\;<br />\nThe Glass Onion Band will be performing live by Town Hall from 11 am - 2 pm</span></span></span>\n\n<p><span style="font-size:14px\;"><span style="font-family:arial\;"><span style="color:#800000\;"><span style="font-weight: 700\; background-color: rgb(255\, 255\, 255)\;">Beer Garden&nbsp\;</span></span><br />\n<span style="box-sizing: content-box\; inset: auto\; clear: none\; content: normal\; direction: inherit\; empty-cells: show\; font-variant-numeric: inherit\; font-variant-east-asian: inherit\; font-stretch: inherit\; line-height: inherit\; margin: 0px\; max-height: none\; max-width: none\; min-height: initial\; min-width: initial\; opacity: 1\; outline-offset: 0px\; overflow: visible\; padding: 0px\; position: static\; resize: none\; table-layout: auto\; text-overflow: clip\; vertical-align: baseline\; visibility: inherit\; word-break: inherit\; overflow-wrap: inherit\; z-index: auto\; background-image: none\; background-position: initial\; background-size: initial\; background-repeat: initial\; background-attachment: initial\; background-origin: initial\; background-clip: initial\; border-width: initial\; border-style: none\; border-color: initial\; border-collapse: separate\; border-image: none 100% 1 0 / 1 / 0 stretch\; border-radius: 0px\; height: auto\; width: auto\; box-shadow: none\;"><span style="box-sizing: content-box\; inset: auto\; clear: none\; content: normal\; direction: inherit\; empty-cells: show\; font-style: inherit\; font-variant: inherit\; font-weight: inherit\; font-stretch: inherit\; letter-spacing: inherit\; line-height: inherit\; margin: 0px\; max-height: none\; max-width: none\; min-height: initial\; min-width: initial\; opacity: 1\; outline-offset: 0px\; overflow: visible\; padding: 0px\; position: static\; resize: none\; table-layout: auto\; text-align: inherit\; text-indent: inherit\; text-overflow: clip\; text-transform: inherit\; vertical-align: baseline\; visibility: inherit\; white-space: inherit\; word-break: inherit\; word-spacing: inherit\; overflow-wrap: inherit\; z-index: auto\; background: none\; border-width: initial\; border-style: none\; border-color: initial\; border-collapse: separate\; border-image: none 100% 1 0 / 1 / 0 stretch\; border-radius: 0px\; height: auto\; width: auto\; box-shadow: none\;">Back once again\, the 67th Annual Old Timers Day event will feature a pop-up beer garden\, sponsored by Banks Wines &amp\; Spirits. Come join us from 10:00 am - 3:00 pm to enjoy some beer and all of the beautiful vehicles on display. Proceeds benefit the Selbyville Fire Department.</span></span></span></span></p>\n\n<p><span style="font-size:14px\;"><span style="font-family:arial\;"><span new="" style="line-height: 107%\; mso-fareast-font-family: Calibri\; mso-fareast-theme-font: minor-latin\;" times=""><span style="color:#800000\;"><strong>Parking:&nbsp\;</strong></span><br />\nOld Timers&#39\;&nbsp\;Day classic car registrants will be parked along Church Street in Selbyville.<br />\nGuest &amp\; family&nbsp\;parking is available on all side streets and Southern Delaware School for the Arts &amp\; Along Railroad Ave.&nbsp\;<br />\n<br />\nGolf Carts will be running up and down Church St. (between Church Ave. and the Town Hall Building)&nbsp\;from 9 am - 3 pm courtesy of Bethany Golf Cart Rentals.&nbsp\;Handicap parking is reserved by the municipal lot on Main St.</span><br />\n<br />\n<span style="color:#800000\;"><strong>Volunteers:&nbsp\;</strong></span><br />\nIf you would like to sign up to volunteer for the event\, email events@thequietresorts.com.<br />\n<br />\n<span style="background-color: rgb(255\, 255\, 255)\;"><strong><span style="color:#800000\;">Sponsorship Opportunities: Open</span></strong><br />\nIf you are interested in being a sponsor for this event\, please contact events@thequietresorts.com</span><br />\n<br />\n<span style="color:#800000\;"><strong>Vendor Registration:</strong></span></span></span><br />\n<font color="#333333" face="arial"><span style="font-size: 14px\; background-color: rgb(255\, 255\, 255)\;">If you are a food or retail vendor or a nonprofit organization interested in participating in&nbsp\;Old Timers&#39\; Day\, please fill out the <a href="https://chambermaster.blob.core.windows.net/userfiles/UserFiles/chambers/2126/File/Old_Timers/2024/2024-OTD-Vendor-Application-Fillable-Form.pdf">Vendor Application and Information Form</a>. Please email your completed form to events@thequietresorts.com. Approved vendors will be notified and required to submit a Certificate of Insurance with BFACC listed as additionally insured. If you need to acquire a short-term coverage COI - please see below.</span></font><br />\n<span style="font-family:helvetica\,sans-serif\;"><span style="font-size:10.5pt\;">COI: June 15th Old Timers&#39\; Day Classic Car Show &amp\; Family Festival</span></span><br />\n<span style="font-family:helvetica\,sans-serif\;"><span style="font-size:10.5pt\;">ACT-&nbsp\;<a href="https://cQPvY04.na1.hs-sales-engage.com/Ctc/5D+23284/cQPvY04/JkM2-6qcW6N1vHY6lZ3n4N6-zHnfJtcBjN5ZmJzJ2VVDCVv3WbN3SZg3tW1MbQDk5SW4YDW97Hc-D7zNwwYW15M6dK8MnD4FVGG_Cc31h-PBW1j4pZr7cfyh5W46yShx3y7X3lW4Sn-hF7_s1xYN4xm-QQM16xTW74FZs-1m3krCW44MKPM7P6X7rW2GnQ8H2YnbRTW50Hz9T7Y2CyPW3yjPFb8ZV17JW6wyt8H1ybWw9W98PQMh58bTt4W7JFD0B35KZw-W7h-g9v7PrH7kW63symr52FC-9W8qm2jC61jzHvf5J4FQq04" target="_blank"><strong>https://app.actinsurance.com/events/8735</strong></a></span></span><br />\n<span style="font-family:helvetica\,sans-serif\;"><span style="font-size:10.5pt\;">FLIP-&nbsp\;<a href="https://cQPvY04.na1.hs-sales-engage.com/Ctc/5D+23284/cQPvY04/JkM2-6qcW6N1vHY6lZ3q5V30y7g1B-TDPW1nYvpm9h4RbXVd5VDx6M9-hBW2wQFFs25Tn6RW5w9xDx3dY0RGW4_q8jp3fWRgrW14rWw17XwHhvW8PsqVH7LKV3yN7s8X30MJckkW2KWmV826c3mwV69ZtS794_kfW8kLCVw2csHG6W8B5rkJ2_sgdpW7XXKkg8-sbfdVR2MGh1px_cQW6kQslk33Nw5dW3hSD1w37-tttW22PkD23PMmq0W4FnyJ82hKMscW4pr_Yk8HqzHyW78sgkz28VtJMW25M8QQ2pRr0_f8cc-xj04" target="_blank"><strong>https://app.fliprogram.com/events/8736</strong></a></span></span><br />\n<br />\n<br />\n<br />\n<br />\n&nbsp\;</p>\n
LOCATION:W. Church Street Selbyville\, DE 19975
UID:e.2126.27325
SEQUENCE:3
DTSTAMP:20260420T092942Z
URL:http://business.thequietresorts.com/events/details/67th-annual-old-timers-day-classic-car-show-family-festival-27325
END:VEVENT

END:VCALENDAR
