BEGIN:VCALENDAR
VERSION:2.0
PRODID:-//ChamberMaster//Event Calendar 2.0//EN
METHOD:PUBLISH
X-PUBLISHED-TTL:P3D
REFRESH-INTERVAL:P3D
CALSCALE:GREGORIAN
BEGIN:VEVENT
DTSTART;VALUE=DATE:20230617
DTEND;VALUE=DATE:20230618
TRANSP:TRANSPARENT
X-MICROSOFT-CDO-ALLDAYEVENT:TRUE
SUMMARY:66th Annual Old Timers' Day: Volunteer Registration
DESCRIPTION:Calling all volunteers!\n \n\nThe Town of Selbyville and the Bethany-Fenwick Area Chamber of Commerce travel back in time as they celebrate tradition and the classics. Now in its 66th year\, vehicles from 1993 and earlier line Church Street in Selbyville for their shot to win "Best in Show" while socializing with other classic fanatics. Live music\, food\, games\, fire truck rides\, and beautiful classic cars. Fun for all ages\, don't miss this family-friendly event. \n\n \n\n*This event is rain or shine. \n\n \n\nVolunteers keep the good times rollin' when it comes to events. Register to sign up to be a part of this wonderful event!\n\n\n\nVolunteer Opportunities:\n\n\n	Check-In/Registration Tent\n\n	\n		Description: Volunteers help pre-registered vehicles check in and on-site vehicle registration. Volunteers will also assist in distributing event materials and answer questions.\n		\n			Pre-registered check-in\n			Day of registration\n		\n		\n		Shift Time(s): 6:00 am - 10:00 am\n	\n	\n\n\n\n	Parking\n\n	\n		Description: Volunteers assist in directing registered vehicles for event parking on Church Street.\n		Shift Time(s): 7:00 am - 11:00 am\n	\n	\n	Information Station & Runners\n	\n		Description: Volunteers assist in distributing event information and actively handing out Historic Walking Tour cards and Promoting People's Choice surveys.\n		Shift Time(s):\n		\n			8:00 am -11:30 am\n			11:30 am -3:00 pm\n		\n		\n	\n	\n	Golf Cart Drivers\n	\n		Description: Volunteers will be responsible for safe transport of event supplies\, volunteers\, staff\, and guests as needed. Must be 25 years old with valid driver's license.\n		Shift Time(s):\n		\n			8:00 am-11:30 am\n			11:30 am - 3:00pm\n		\n		\n	\n	\n	Children's Activities - VOLUNTEERS NEEDED\n	\n		 Description: Volunteers will be responsible for supervision of the children's area (inflatables\, etc.) and ensure the following of rules.\n		Shift Time(s):\n		\n			9:00 am - 12:00 pm\n			12:00 pm - 3:00pm\n		\n		\n	\n	\n	Beer Garden (must be 21 to work\, ABC certified)\n	\n		Description: Volunteers will be responsible to check ID and ensure everyone entering is 21+\n		Shift Time(s): \n		\n			9:00 am - 12:00 pm\n			12:00pm - 2:00 pm\n		\n		\n	\n	\n	Carnival Games - VOLUNTEERS NEEDED \n	\n		 Description: Volunteers will assist in overseeing games located outside Salem Church.\n		\n			Shift Time(s):\n			\n				9:00 am - 12:00 pm\n				12:00 pm - 3:00 pm\n			\n			\n		\n		\n	\n	\n\n\nRegistration Instructions\n\n\n	Select the green "Register Now" button at the top of the event page\n	Select "Click here to continue your registration" under the "Not a member" section on the right hand side of the screen\n	Enter your name and contact information in appropriate fields. Double-check your email address!\n	Select the volunteer assignment you would like. Note* if you are interested in volunteering for more than one time slot\, select Add Attendee and complete the info section for each additional volunteer shift you would like.\n	You will receive a confirmation email that confirms your volunteer registration. You will receive communication of more details for your assignment closer to the date you will be helping. All questions can be directed to Alyssa at events@thequietresorts.com\n\nThank you in advance for helping!
X-ALT-DESC;FMTTYPE=text/html:<span style="font-size:14px\;"><strong>Calling all volunteers!</strong></span>\n<div>&nbsp\;</div>\n\n<div>The Town of Selbyville and the Bethany-Fenwick Area Chamber of Commerce travel back in time as they celebrate tradition and the classics. Now in its 66th year\, vehicles from 1993 and earlier line Church Street in Selbyville for their shot to win &ldquo\;Best in Show&rdquo\; while socializing with other classic fanatics. Live music\, food\, games\, fire truck rides\, and beautiful classic cars. Fun for all ages\, don&rsquo\;t miss this family-friendly event.&nbsp\;</div>\n\n<div>&nbsp\;</div>\n\n<div>*This event is rain or shine.&nbsp\;</div>\n\n<div>&nbsp\;</div>\n\n<div>Volunteers keep the good times rollin&#39\; when it comes to events. Register to sign up to be a part of this wonderful event!<br />\n<br />\n<span style="font-size:14px\;"><strong>Volunteer Opportunities:</strong></span></div>\n\n<ul>\n	<li><strong>Check-In/Registration Tent</strong>\n\n	<ul>\n		<li>Description: Volunteers help pre-registered vehicles check in and on-site vehicle registration. Volunteers will also assist in distributing event materials and answer questions.\n		<ul>\n			<li>Pre-registered&nbsp\;check-in</li>\n			<li>Day of registration</li>\n		</ul>\n		</li>\n		<li>Shift Time(s): 6:00 am - 10:00 am</li>\n	</ul>\n	</li>\n</ul>\n\n<ul>\n	<li><strong>Parking</strong>\n\n	<ul>\n		<li>Description: Volunteers assist in directing registered vehicles for event parking on Church Street.</li>\n		<li>Shift Time(s): 7:00 am - 11:00 am</li>\n	</ul>\n	</li>\n	<li><strong>Information Station &amp\; Runners</strong>\n	<ul>\n		<li>Description: Volunteers assist in distributing event information and actively handing out Historic Walking Tour cards and Promoting People&#39\;s Choice surveys.</li>\n		<li>Shift Time(s):\n		<ul>\n			<li>8:00 am -11:30 am</li>\n			<li>11:30 am -3:00 pm</li>\n		</ul>\n		</li>\n	</ul>\n	</li>\n	<li><strong>Golf Cart Drivers</strong>\n	<ul>\n		<li>Description: Volunteers will be responsible for safe transport of event supplies\, volunteers\, staff\, and guests as needed. Must be 25 years old with valid driver&#39\;s license.</li>\n		<li>Shift Time(s):\n		<ul>\n			<li>8:00 am-11:30 am</li>\n			<li>11:30 am - 3:00pm</li>\n		</ul>\n		</li>\n	</ul>\n	</li>\n	<li><strong>Children&#39\;s Activities - <font color="#006400">VOLUNTEERS NEEDED</font></strong>\n	<ul>\n		<li><strong>&#8203\;</strong>Description: Volunteers will be responsible for supervision of the children&#39\;s area (inflatables\, etc.) and ensure the following of rules.</li>\n		<li>Shift Time(s):\n		<ul>\n			<li>9:00 am - 12:00 pm</li>\n			<li>12:00 pm - 3:00pm</li>\n		</ul>\n		</li>\n	</ul>\n	</li>\n	<li><strong>Beer Garden</strong> (must be 21 to work\, ABC certified)\n	<ul>\n		<li>Description: Volunteers will be responsible to check ID and ensure everyone entering is 21+</li>\n		<li>Shift Time(s):&nbsp\;\n		<ul>\n			<li>9:00 am - 12:00 pm</li>\n			<li>12:00pm - 2:00 pm</li>\n		</ul>\n		</li>\n	</ul>\n	</li>\n	<li><strong>Carnival Games&nbsp\;<span style="color:#006400\;">- VOLUNTEERS NEEDED</span>&nbsp\;</strong>\n	<ul>\n		<li><strong>&#8203\;</strong>Description: Volunteers will assist in overseeing games located outside Salem Church.\n		<ul>\n			<li>Shift Time(s):\n			<ul>\n				<li>9:00 am - 12:00 pm</li>\n				<li>12:00 pm - 3:00 pm</li>\n			</ul>\n			</li>\n		</ul>\n		</li>\n	</ul>\n	</li>\n</ul>\n\n<div style="color: rgb(51\, 51\, 51)\; font-family: sans-serif\, Arial\, Verdana\, &quot\;Trebuchet MS&quot\;\; font-size: 13px\;"><font color="#0000ff"><span style="font-size: 18px\;"><b>Registration Instructions</b></span></font></div>\n\n<ol style="padding: 0px 40px\; color: rgb(51\, 51\, 51)\; font-family: sans-serif\, Arial\, Verdana\, &quot\;Trebuchet MS&quot\;\; font-size: 13px\;">\n	<li><span style="font-size: 14px\;">Select the green<strong>&nbsp\;&quot\;Register Now&quot\;</strong>&nbsp\;button at the top of the event page</span></li>\n	<li><span style="font-size: 14px\;">Select&nbsp\;<strong>&quot\;Click here to continue your registration&quot\;</strong>&nbsp\;under the &quot\;Not a member&quot\; section on the right hand side of the screen</span></li>\n	<li><span style="font-size: 14px\;">Enter your name and contact information in appropriate fields. <u>Double-check your email address!</u></span></li>\n	<li><span style="font-size: 14px\;">Select the&nbsp\;volunteer assignment you would like. Note* if you are interested in volunteering for more than one time slot\, select&nbsp\;<strong>Add Attendee&nbsp\;</strong>and complete the info section for each additional volunteer shift you would like.</span></li>\n	<li><span style="font-size: 14px\;">You will receive a confirmation email that confirms your volunteer registration. You will receive communication of more details for your assignment closer to the date you will be helping. All questions can be directed to Alyssa at events@thequietresorts.com</span></li>\n</ol>\n<span style="color: rgb(51\, 51\, 51)\; font-family: sans-serif\, Arial\, Verdana\, &quot\;Trebuchet MS&quot\;\; font-size: 14px\;"><strong><span style="color: rgb(0\, 0\, 255)\;">Thank you in advance for helping!</span></strong></span>
LOCATION:Uptown Selbyville (Church Street) Volunteer Check-in will take place on the day of at the registration tent located at 1 Church St (Town Hall).
UID:e.2126.25572
SEQUENCE:3
DTSTAMP:20260421T004838Z
URL:http://business.thequietresorts.com/events/details/66th-annual-old-timers-day-volunteer-registration-25572
END:VEVENT

END:VCALENDAR
