BEGIN:VCALENDAR
VERSION:2.0
PRODID:-//ChamberMaster//Event Calendar 2.0//EN
METHOD:PUBLISH
X-PUBLISHED-TTL:P3D
REFRESH-INTERVAL:P3D
CALSCALE:GREGORIAN
BEGIN:VEVENT
DTSTART:20230617T120000Z
DTEND:20230617T190000Z
X-MICROSOFT-CDO-ALLDAYEVENT:FALSE
SUMMARY:66th Annual Old Timers' Day Sponsorship
DESCRIPTION:The 66th Annual Old Timer's Day Classic Car Show & Family Festival will be hosted on Uptown Church Street in Selbyville\, DE. Save the date for June 17th\, 2023\, from 8 am   3 pm. A live band\, food vendors\, DJs\, a beer garden\, and activities round out the festivities. Fun for all ages\, don't miss this family-friendly event featuring a new brand new event layout this year.\n\n\n\nPRINTABLE FLYER\n\nSPONSORSHIP FORM\n\n\n\n*CSA SPONSORS --PLEASE NOTE: IF YOU OLD TIMERS DAY IS ALREADY INCLUDED IN YOUR CSA\, PLEASE DO NOT COMPLETE THIS ONLINE REGISTRATION. YOUR SPONSORSHIP HAS ALREADY BEEN RESERVED. \n\n\n\n*NON-CSA MEMBERS\, IF YOU WOULD LIKE MORE INFORMATION ON BECOMING A CSA SPONSOR\, PLEASE CONTACT LAUREN@THEQUIETRESORTS.COM\n\n\n\nSponsorship Opportunities\n\n\n\n	\n		\n			Sponsor Level\n			Sold/Available\n		\n		\n			PRESENTING SPONSOR ($2\,000)\n			SOLD\n		\n		\n			\n			\n				Press Release announcing sponsorship\n				Mentions in all media and event advertising as "Presenting Sponsor"\n				    -Marketing Time Frame: March  June \n				Company logo on event banners\n				Company logo on Rack Cards (2000)\n				Company logo on all awards\n				Company vendor table during the event at Town Hall *recommended*\n				Company logo and hyperlink listed on event webpage\n				First right of refusal for 2024 sponsorship within 180 days post event\n				Hold Harmless Agreement\n			\n			\n			 \n		\n		\n			SUPPORTING SPONSOR ($1\,500)\n			SOLD\n		\n		\n			\n			\n				Mentions in all media and event advertising as "Supporting Sponsor"\n				Company vendor table during the event at Town Hall *recommended*\n				Company logo and hyperlink listed on event webpage\n				Hold Harmless Agreement\n			\n			\n			 \n		\n		\n			SIGNATURE SPONSOR ($1\,000)\n			SEE DETAILS BELOW\n		\n		\n			\n			\n				Mentions in all media and event advertising as "Supporting Sponsor" \n				Company vendor table during the event at Town Hall *recommended*\n				Company logo and hyperlink listed on event webpage\n				Hold Harmless Agreement\n			\n			    \n			Beer Garden:\n\n			SOLD\n\n			\n\n			Commemorative T-shirt: \n\n			AVAILABLE\n		\n		\n			PREMIUM SPONSORS ($500)\n			SEE DETAILS BELOW\n		\n		\n			\n			\n				Mentions in media and event advertising as "Premium Sponsor" \n				Company presence at event location or designated area day of event\n				Company signage at event locations \n				Company vendor table during the event \n				Company logo and hyperlink listed on event web site\n				Hold Harmless Agreement\n			\n			\n			\n			 DJ Sponsor: \n\n			SOLD\n\n			 \n\n			 Pony Ride Sponsor: \n\n			AVAILABLE\n\n			\n\n			Petting Farm Sponsor:\n\n			 SOLD\n\n			\n\n			Golf Cart Sponsor: \n\n			SOLD\n			\n		\n		\n			ASSOCIATE SPONSOR ($250)\n			SEE DETAILS BELOW\n		\n		\n			\n			\n				Mentions in media and event advertising as "Associate Sponsor"\n				Company signage at selected "activity" location or brand item.\n				Company logo and hyperlink listed on event website\n				Hold Harmless Agreement\n			\n			\n			\n			Obstacle Course Sponsor:\n\n			AVAILABLE\n\n			 \n\n			Balloon Sponsor:\n\n			AVAILABLE\n\n			\n\n			Volunteer "Thank You" Sponsor:\n\n			AVAILABLE\n\n			\n\n			First 100 Gift Sponsor: \n\n			SOLD\n\n			\n\n			Face Painting Sponsor: \n\n			AVAILABLE\n\n			\n\n			Clown/Juggler Sponsor: \n\n			AVAILABLE\n\n			\n\n			Outdoor Carnival Games Sponsor:\n\n			SOLD\n			\n		\n		\n			"BEST IN SHOW" AWARD SPONSOR   ($100)\n			SEE DETAILS BELOW\n		\n		\n			\n			\n				Mentions in media and event advertising as "Best in Show Sponsor"\n				Company representative present during awards presentation and photoshoot\n				Company name and hyperlink listed on event website\n				Company name on selected award\n				Hold Harmless Agreement\n			\n			\n			\n			Best in Show "Overall" Vehicle:\n\n			SOLD\n\n			\n\n			People's Choice Award: \n\n			SOLD\n\n			\n\n			Oldest of the Old Timers:\n\n			 AVAILABLE\n			\n		\n		\n			AWARD SPONSORS ($100)\n			 SEE DETAILS BELOW\n		\n		\n			\n			\n				Company name on event webpage\n				Company name announced at award presentation\n				Company name on all 3-decade awards\n				Opportunity to present awards\n				Hold Harmless Agreement\n			\n			\n			\n\n			Best of the Decade Sponsor   30's- 90's:\n\n			AVAILABLE   \n\n			         \n\n			*Includes 3 awards for each decade:\n\n			Best Engine\, Best Interior\, Best Exterior\n		\n	\n\n \n\n\n\n\n\nAwards Info\n\nBest Overall Car/Truck: $100 cash prize \n\nPeople's Choice Award: $100 cash prize\n\nOldest of the Old Timer's Award: $50 cash prize sponsored \n\n\n\nBy the Decade Awards: 30's\, 40's\, 50's\, 60's\, 70's\, 80's\, 90's\n\nBest Interior Award\; Best Exterior Award\; Best Engine Award\n\n\n\nFood Vendor Registration\n\nIf you are interested in being a Food Vendor for Old Timer's Day please fill out the application here and e-mail it back to events@thequietresorts.com or fill out our online application.\n\n\n\nVendor Registration\n\nIf you are interested in being a Vendor for Old Timer's Day please complete an application and e-mail it to events@thequietresorts.com or fill out our online application.\n\n\n\nPaper Car Registration Form\n\nIf you would like to fill out a paper registration form\, please e-mail events@thequietresorts.com.\n\n\n\nVolunteers\n\nSign up online to volunteer\n\nPaper volunteer form can also be completed and emailed to events@thequietresorts.com
X-ALT-DESC;FMTTYPE=text/html:<p><strong>The 66th Annual Old Timer&rsquo\;s Day Classic Car Show &amp\; Family Festival</strong> will be hosted on Uptown Church Street in Selbyville\, DE. Save the date for <strong>June 17th\, 2023\, from 8 am &ndash\; 3 pm</strong>. A live band\, food vendors\, DJs\, a beer garden\, and activities round out the festivities. Fun for all ages\, don&rsquo\;t miss this family-friendly event featuring a new brand new event layout this year.<br />\n<br />\n<span style="font-size:14px\;"><a href="https://acrobat.adobe.com/link/track?uri=urn:aaid:scds:US:020e6d8b-fb3e-3967-8ab7-9a6dd7c095dc">PRINTABLE FLYER</a><br />\n<a href="https://chambermaster.blob.core.windows.net/userfiles/UserFiles/chambers/2126/File/2023Sponsorshipupdated-OTD.pdf">SPONSORSHIP FORM</a></span><br />\n<br />\n<strong><u>*CSA SPONSORS</u> --PLEASE NOTE: IF YOU OLD TIMERS DAY IS ALREADY INCLUDED IN YOUR CSA\, PLEASE DO <u>NOT</u> COMPLETE THIS ONLINE REGISTRATION. YOUR SPONSORSHIP HAS ALREADY BEEN RESERVED.&nbsp\;<br />\n<br />\n<u>*NON-CSA MEMBERS</u>\, IF YOU WOULD LIKE MORE INFORMATION ON BECOMING A CSA SPONSOR\, PLEASE CONTACT LAUREN@THEQUIETRESORTS.COM</strong><br />\n<br />\n<span style="font-size:18px\;"><font color="#b22222" face="arial"><span style="background-color: rgb(255\, 255\, 255)\;"><b><i>Sponsorship Opportunities</i></b></span></font></span></p>\n\n<div>\n<table border="3" cellpadding="1" cellspacing="1" style="width:500px\;">\n	<tbody>\n		<tr>\n			<td style="text-align: center\;"><span style="font-size: 14px\;"><span style="font-family: arial\;"><strong>Sponsor Level</strong></span></span></td>\n			<td style="text-align: center\;"><span style="font-size: 14px\;"><span style="font-family: arial\;"><strong>Sold/Available</strong></span></span></td>\n		</tr>\n		<tr>\n			<td style="text-align: center\;"><span style="font-size: 14px\;"><span style="font-family: arial\;"><strong>PRESENTING SPONSOR ($2\,000)</strong></span></span></td>\n			<td style="text-align: center\;"><span style="font-size: 14px\;"><span style="font-family: arial\;"><span style="color: rgb(255\, 0\, 0)\;"><b>SOLD</b></span></span></span></td>\n		</tr>\n		<tr>\n			<td>\n			<ul>\n				<li><span style="font-size: 14px\;"><span style="font-family: arial\;">Press Release announcing sponsorship</span></span></li>\n				<li><span style="font-size: 14px\;"><span style="font-family: arial\;">Mentions in all media and event advertising as &ldquo\;Presenting Sponsor&rdquo\;</span></span></li>\n				<li><span style="font-size: 14px\;"><span style="font-family: arial\;">&nbsp\; &nbsp\; -Marketing Time Frame: March&ndash\; June&nbsp\;</span></span></li>\n				<li><span style="font-size: 14px\;"><span style="font-family: arial\;">Company logo on event banners</span></span></li>\n				<li><span style="font-size: 14px\;"><span style="font-family: arial\;">Company logo on Rack Cards (2000)</span></span></li>\n				<li><span style="font-size: 14px\;"><span style="font-family: arial\;">Company logo on all awards</span></span></li>\n				<li><span style="font-size: 14px\;"><span style="font-family: arial\;">Company vendor table during the event at Town Hall *recommended*</span></span></li>\n				<li><span style="font-size: 14px\;"><span style="font-family: arial\;">Company logo and hyperlink listed on event webpage</span></span></li>\n				<li><span style="font-size: 14px\;"><span style="font-family: arial\;">First right of refusal for 2024 sponsorship within 180 days post event</span></span></li>\n				<li><span style="font-size: 14px\;"><span style="font-family: arial\;">Hold Harmless Agreement</span></span></li>\n			</ul>\n			</td>\n			<td>&nbsp\;</td>\n		</tr>\n		<tr>\n			<td style="text-align: center\;"><span style="font-size: 14px\;"><span style="font-family: arial\;"><strong>SUPPORTING SPONSOR ($1\,500)</strong></span></span></td>\n			<td style="text-align: center\;"><span style="font-size: 14px\;"><span style="font-family: arial\;"><strong><span style="color: rgb(255\, 0\, 0)\;">SOLD</span></strong></span></span></td>\n		</tr>\n		<tr>\n			<td>\n			<ul>\n				<li><span style="font-size: 14px\;"><span style="font-family: arial\;">Mentions in all media and event advertising as &ldquo\;Supporting Sponsor&rdquo\;</span></span></li>\n				<li><span style="font-size: 14px\;"><span style="font-family: arial\;">Company vendor table during the event at Town Hall *recommended*</span></span></li>\n				<li><span style="font-size: 14px\;"><span style="font-family: arial\;">Company logo and hyperlink listed on event webpage</span></span></li>\n				<li><span style="font-size: 14px\;"><span style="font-family: arial\;">Hold Harmless Agreement</span></span></li>\n			</ul>\n			</td>\n			<td>&nbsp\;</td>\n		</tr>\n		<tr>\n			<td style="text-align: center\;"><span style="font-size: 14px\;"><span style="font-family: arial\;"><b>SIGNATURE SPONSOR ($1\,000)</b></span></span></td>\n			<td style="text-align: center\;"><span style="font-size: 14px\;"><span style="font-family: arial\;"><strong>SEE DETAILS BELOW</strong></span></span></td>\n		</tr>\n		<tr>\n			<td>\n			<ul>\n				<li><span style="font-size: 14px\;"><span style="font-family: arial\;">Mentions in all media and event advertising as &ldquo\;Supporting Sponsor&rdquo\;&nbsp\;</span></span></li>\n				<li><span style="font-size: 14px\;"><span style="font-family: arial\;">Company vendor table during the event at Town Hall *recommended*</span></span></li>\n				<li><span style="font-size: 14px\;"><span style="font-family: arial\;">Company logo and hyperlink listed on event webpage</span></span></li>\n				<li><span style="font-size: 14px\;"><span style="font-family: arial\;">Hold Harmless Agreement</span></span></li>\n			</ul>\n			<span style="font-size: 14px\;"><span style="font-family: arial\;">&nbsp\;&nbsp\;&nbsp\;&nbsp\;</span></span></td>\n			<td style="text-align: center\;"><span style="font-size: 14px\;"><span style="font-family: arial\;"><strong>Beer Garden:<br />\n			<span style="color: rgb(255\, 0\, 0)\;">SOLD</span><br />\n			<br />\n			Commemorative T-shirt:&nbsp\;<br />\n			<span style="color: rgb(0\, 128\, 0)\;">AVAILABLE</span></strong></span></span></td>\n		</tr>\n		<tr>\n			<td style="text-align: center\;"><strong><span style="font-size: 14px\;"><span style="font-family: arial\;">PREMIUM SPONSORS ($500)</span></span></strong></td>\n			<td style="text-align: center\;"><span style="font-size: 14px\;"><span style="font-family: arial\;"><strong>SEE DETAILS BELOW</strong></span></span></td>\n		</tr>\n		<tr>\n			<td>\n			<ul>\n				<li><span style="font-size: 14px\;"><span style="font-family: arial\;">Mentions in media and event advertising as &ldquo\;Premium Sponsor&rdquo\;&nbsp\;</span></span></li>\n				<li><span style="font-size: 14px\;"><span style="font-family: arial\;">Company presence at event location or designated area day of event</span></span></li>\n				<li><span style="font-size: 14px\;"><span style="font-family: arial\;">Company signage at event locations&nbsp\;</span></span></li>\n				<li><span style="font-size: 14px\;"><span style="font-family: arial\;">Company vendor table during the event&nbsp\;</span></span></li>\n				<li><span style="font-size: 14px\;"><span style="font-family: arial\;">Company logo and hyperlink listed on event web site</span></span></li>\n				<li><span style="font-size: 14px\;"><span style="font-family: arial\;">Hold Harmless Agreement</span></span></li>\n			</ul>\n			</td>\n			<td>\n			<div style="text-align: center\;"><strong><span style="font-size: 14px\;"><span style="font-family: arial\;">&nbsp\;DJ Sponsor:&nbsp\;</span></span></strong></div>\n\n			<div style="text-align: center\;"><strong><span style="color: rgb(255\, 0\, 0)\;">SOLD</span></strong><br />\n			&nbsp\;</div>\n\n			<div style="text-align: center\;"><strong><span style="font-size: 14px\;"><span style="font-family: arial\;">&nbsp\;Pony Ride Sponsor:&nbsp\;<br />\n			<span style="color: rgb(0\, 128\, 0)\;">AVAILABLE</span><br />\n			<br />\n			Petting Farm Sponsor:<br />\n			&nbsp\;<span style="color:#FF0000\;">SOLD</span><br />\n			<br />\n			Golf Cart Sponsor:&nbsp\;<br />\n			<span style="color: rgb(255\, 0\, 0)\;">SOLD</span></span></span></strong></div>\n			</td>\n		</tr>\n		<tr>\n			<td style="text-align: center\;"><strong><span style="font-size: 14px\;"><span style="font-family: arial\;">ASSOCIATE SPONSOR ($250)</span></span></strong></td>\n			<td style="text-align: center\;"><span style="font-size: 14px\;"><span style="font-family: arial\;"><strong>SEE DETAILS BELOW</strong></span></span></td>\n		</tr>\n		<tr>\n			<td>\n			<ul>\n				<li><span style="font-size: 14px\;"><span style="font-family: arial\;">Mentions in media and event advertising as &ldquo\;Associate Sponsor&rdquo\;</span></span></li>\n				<li><span style="font-size: 14px\;"><span style="font-family: arial\;">Company signage at selected &ldquo\;activity&rdquo\; location or brand item.</span></span></li>\n				<li><span style="font-size: 14px\;"><span style="font-family: arial\;">Company logo and hyperlink listed on event website</span></span></li>\n				<li><span style="font-size: 14px\;"><span style="font-family: arial\;">Hold Harmless Agreement</span></span></li>\n			</ul>\n			</td>\n			<td>\n			<div style="text-align: center\;"><span style="font-size: 14px\;"><span style="font-family: arial\;"><strong>Obstacle Course Sponsor:<br />\n			<span style="color: rgb(0\, 128\, 0)\;">AVAILABLE<br />\n			&nbsp\;</span><br />\n			Balloon Sponsor:<br />\n			<span style="color: rgb(0\, 128\, 0)\;">AVAILABLE</span><br />\n			<br />\n			Volunteer &ldquo\;Thank You&rdquo\; Sponsor:<br />\n			<span style="color: rgb(0\, 128\, 0)\;">AVAILABLE</span><br />\n			<br />\n			First 100 Gift Sponsor:&nbsp\;<br />\n			<span style="color:#FF0000\;">SOLD</span><br />\n			<br />\n			Face Painting Sponsor:&nbsp\;<br />\n			<span style="color: rgb(0\, 128\, 0)\;">AVAILABLE</span><br />\n			<br />\n			Clown/Juggler Sponsor:&nbsp\;<br />\n			<span style="color: rgb(0\, 128\, 0)\;">AVAILABLE</span><br />\n			<br />\n			Outdoor Carnival&nbsp\;Games Sponsor:<br />\n			<span style="color:#FF0000\;">SOLD</span></strong></span></span></div>\n			</td>\n		</tr>\n		<tr>\n			<td style="text-align: center\;"><strong><span style="font-size: 14px\;"><span style="font-family: arial\;">&quot\;BEST IN SHOW&quot\; AWARD SPONSOR&nbsp\; &nbsp\;($100)</span></span></strong></td>\n			<td style="text-align: center\;"><strong>SEE DETAILS BELOW</strong></td>\n		</tr>\n		<tr>\n			<td>\n			<ul>\n				<li><span style="font-size: 14px\;"><span style="font-family: arial\;">Mentions in media and event advertising as &ldquo\;Best in Show Sponsor&rdquo\;</span></span></li>\n				<li><span style="font-size: 14px\;"><span style="font-family: arial\;">Company representative present during awards presentation and photoshoot</span></span></li>\n				<li><span style="font-size: 14px\;"><span style="font-family: arial\;">Company name and hyperlink listed on event website</span></span></li>\n				<li><span style="font-size: 14px\;"><span style="font-family: arial\;">Company name on selected award</span></span></li>\n				<li><span style="font-size: 14px\;"><span style="font-family: arial\;">Hold Harmless Agreement</span></span></li>\n			</ul>\n			</td>\n			<td>\n			<div style="text-align: center\;"><span style="font-size: 14px\;"><span style="font-family: arial\;"><strong>Best in Show &ldquo\;Overall&rdquo\; Vehicle:<br />\n			<span style="color:#FF0000\;">SOLD</span><br />\n			<br />\n			People&rsquo\;s Choice Award:&nbsp\;<br />\n			<span style="color:#FF0000\;">SOLD</span><br />\n			<br />\n			Oldest of the Old Timers:<br />\n			&nbsp\;<span style="color: rgb(0\, 128\, 0)\;">AVAILABLE</span></strong></span></span></div>\n			</td>\n		</tr>\n		<tr>\n			<td style="text-align: center\;"><strong><span style="font-size: 14px\;"><span style="font-family: arial\;">AWARD SPONSORS ($100)</span></span></strong></td>\n			<td style="text-align: center\;"><strong><span style="font-size: 14px\;"><span style="font-family: arial\;">&nbsp\;SEE DETAILS BELOW</span></span></strong></td>\n		</tr>\n		<tr>\n			<td>\n			<ul>\n				<li><span style="font-size: 14px\;"><span style="font-family: arial\;">Company name on event webpage</span></span></li>\n				<li><span style="font-size: 14px\;"><span style="font-family: arial\;">Company name announced at award presentation</span></span></li>\n				<li><span style="font-size: 14px\;"><span style="font-family: arial\;">Company name on all 3-decade awards</span></span></li>\n				<li><span style="font-size: 14px\;"><span style="font-family: arial\;">Opportunity to present awards</span></span></li>\n				<li><span style="font-size: 14px\;"><span style="font-family: arial\;">Hold Harmless Agreement</span></span></li>\n			</ul>\n			</td>\n			<td style="text-align: center\;"><br />\n			<strong><span style="font-size: 14px\;"><span style="font-family: arial\;">Best of the Decade Sponsor &ndash\; 30&rsquo\;s- 90&#39\;s:<br />\n			<span style="color: rgb(0\, 128\, 0)\;">AVAILABLE&nbsp\;</span>&nbsp\;&nbsp\;<br />\n			&nbsp\; &nbsp\; &nbsp\; &nbsp\; &nbsp\;<br />\n			*Includes 3 awards for each decade:<br />\n			Best Engine\, Best Interior\, Best Exterior</span></span></strong></td>\n		</tr>\n	</tbody>\n</table>\n&nbsp\;\n\n<div style="text-align: center\;"><br />\n<br />\n<span background-color:="" font-size:="" style="color: rgb(51\, 51\, 51)\; font-family: sans-serif\, Arial\, Verdana\, " trebuchet=""><span style="font-family: arial\;"><em><span new="" times=""><span style="color: rgb(178\, 34\, 34)\;"><strong><span style="font-size: 16px\;">Awards Info</span></strong></span></span></em><br />\n<em><span style="font-size:14px\;"><span new="" style="line-height: 14.98px\;" times=""><font color="#000000">Best Overall Car/Truck: $100 cash prize&nbsp\;<br />\nPeople&#39\;s Choice Award: $100 cash prize</font></span></span></em></span></span><br background-color:="" font-size:="" style="color: rgb(51\, 51\, 51)\; font-family: sans-serif\, Arial\, Verdana\, " trebuchet="" />\n<em><span style="font-size:14px\;"><span style="background-color: rgb(255\, 255\, 255)\; font-family: arial\;">Oldest of the Old Timer&#39\;s Award: $50 cash prize sponsored&nbsp\;</span><br background-color:="" font-size:="" style="color: rgb(51\, 51\, 51)\; font-family: sans-serif\, Arial\, Verdana\, " trebuchet="" />\n<br background-color:="" font-size:="" style="color: rgb(51\, 51\, 51)\; font-family: sans-serif\, Arial\, Verdana\, " trebuchet="" />\n<span background-color:="" font-size:="" style="color: rgb(51\, 51\, 51)\; font-family: sans-serif\, Arial\, Verdana\, " trebuchet=""><span style="font-family: arial\;"><span new="" style="line-height: 14.98px\;" times=""><font color="#000000">By the Decade Awards: 30&#39\;s\, 40&#39\;s\, 50&#39\;s\, 60&#39\;s\, 70&#39\;s\, 80&#39\;s\, 90&#39\;s</font></span></span><br />\n<span new="" style="line-height: 14.98px\;" times=""><font color="#000000">Best Interior Award\;&nbsp\;</font></span><span style="font-family: arial\;"><span new="" style="line-height: 14.98px\;" times=""><font color="#000000">Best Exterior Award\; Best Engine Award</font></span></span></span></span><br background-color:="" font-size:="" style="color: rgb(51\, 51\, 51)\; font-family: sans-serif\, Arial\, Verdana\, " trebuchet="" />\n<br background-color:="" font-size:="" style="color: rgb(51\, 51\, 51)\; font-family: sans-serif\, Arial\, Verdana\, " trebuchet="" />\n<b style="color: rgb(178\, 34\, 34)\; font-family: arial\; font-size: 16px\; background-color: rgb(255\, 255\, 255)\;">Food Vendor Registration</b><br background-color:="" font-size:="" style="color: rgb(51\, 51\, 51)\; font-family: sans-serif\, Arial\, Verdana\, " trebuchet="" />\n<span style="background-color: rgb(255\, 255\, 255)\; font-family: arial\; font-size: 14px\;">If you are interested in being a Food Vendor for Old Timer&#39\;s Day please fill out the application&nbsp\;<a href="https://chambermaster.blob.core.windows.net/userfiles/UserFiles/chambers/2126/File/Old_Timers/2023/FoodVendorInfoFormOTD1.pdf">here&nbsp\;</a>and e-mail it back to events@thequietresorts.com or fill out our online application.</span><br style="background-color: rgb(255\, 255\, 255)\; font-family: arial\; font-size: 14px\;" />\n<br background-color:="" font-size:="" style="color: rgb(51\, 51\, 51)\; font-family: sans-serif\, Arial\, Verdana\, " trebuchet="" />\n<b style="color: rgb(178\, 34\, 34)\; font-family: arial\; font-size: 16px\; background-color: rgb(255\, 255\, 255)\;">Vendor Registration</b><br background-color:="" font-size:="" style="color: rgb(51\, 51\, 51)\; font-family: sans-serif\, Arial\, Verdana\, " trebuchet="" />\n<span style="color: rgb(51\, 51\, 51)\; font-family: arial\; font-size: 14px\; background-color: rgb(255\, 255\, 255)\;">If you are interested in being a Vendor for Old Timer&#39\;s Day please complete an <a href="https://chambermaster.blob.core.windows.net/userfiles/UserFiles/chambers/2126/File/Old_Timers/2023/VendorLicenseFormOTD.pdf">application</a> and&nbsp\;e-mail it to events@thequietresorts.com or fill out our online application.</span><br />\n<br />\n<font color="#a52a2a" face="arial"><span style="font-size: 16px\;"><b>Paper Car&nbsp\;Registration Form</b></span></font><br style="color: rgb(51\, 51\, 51)\; font-family: arial\; font-size: 14px\; background-color: rgb(255\, 255\, 255)\;" />\n<span style="color: rgb(51\, 51\, 51)\; font-family: arial\; font-size: 14px\; background-color: rgb(255\, 255\, 255)\;">If you would like to fill out a paper registration form\, please e-mail&nbsp\;events@thequietresorts.com.</span><br />\n<br />\n<strong style="color: rgb(178\, 34\, 34)\; font-family: arial\; font-size: 16px\;">Volunteers</strong><br />\n<font color="#000000" face="arial"><span style="font-size: 14px\;"><a href="https://business.bethany-fenwick.org/events/details/66th-old-timer-s-day-volunteer-registration-25315">Sign up online to volunteer</a><br />\n<a href="https://chambermaster.blob.core.windows.net/userfiles/UserFiles/chambers/2126/File/VolunteerForm2023.pdf">Paper volunteer form</a> can also be completed and emailed to events@thequietresorts.com</span></font></em></div>\n</div>\n
LOCATION:W. Church Street Selbyville\, DE 19975
UID:e.2126.25318
SEQUENCE:3
DTSTAMP:20260421T004716Z
URL:http://business.thequietresorts.com/events/details/66th-annual-old-timers-day-sponsorship-25318
END:VEVENT

END:VCALENDAR
