BEGIN:VCALENDAR
VERSION:2.0
PRODID:-//ChamberMaster//Event Calendar 2.0//EN
METHOD:PUBLISH
X-PUBLISHED-TTL:P3D
REFRESH-INTERVAL:P3D
CALSCALE:GREGORIAN
BEGIN:VEVENT
DTSTART:20230617T120000Z
DTEND:20230617T160000Z
X-MICROSOFT-CDO-ALLDAYEVENT:FALSE
SUMMARY:66th Annual Old Timers' Day: Community Yard Sale
DESCRIPTION:If you haven't gotten around to hosting your own garage/yard sale\, this event is for you! On Saturday\, June 17 from 8:00AM - 12:00PM\, hundreds of visitors and locals will be strolling through Selbyville for the Classic Car Show and Family Festival. At the same time\, the Selbyville Public Library will be the host site for the Adkins Farmers Market and a Community Yard Sale! Whether you have a few items to sell or a truckload\, view details to reserve your spot in the community sale below. \n\n\n\n*Number of spaces will be limited. \n\n\n\nAll proceeds of the Old Timers' Day Community Yard Sale Vendor fees will benefit the construction of the new Selbyville Public Library. individuals/groups wishing to sell items at the Community Sale have the option to donate a portion of their own proceeds to the Library.\n\n\n\n*Spaces are limited! general description of items being sold must be listed in application and will be submitted for official approval* Please note that weapons will not be permitted for sale.\n\n\n\nVendors will be provided with a 10x10 area in the grass lot behind the Selbyville Public Library. All vendors must be pre-registered and check in prior to set up. Note that the Community Yard Sale will be taking place in the grassy area. In the event of rain\, prior to or on the event date\, vendors are encouraged to stage their items for sale on tables\, etc.\n\n\n\nVendor Registration Details\n\nCost: $25\n\nSale Location: Future Library lot (grass): McCabe Street\, Selbyville\n\nSet-up Time: 7:00AM - 8:00AM\n\nEvent Time: 8:00AM - 12:00PM\n\nRegistration Deadline: Wednesday\, June 13\, 2023\n\n\n\nRegistration Instructions\n\n\n	\n	Select the green "Register Now" button at the top of the event page\n	\n	\n	Select "Click here to continue your registration" under the "Not a member" section on the right hand side of the screen\n	\n	\n	Enter your name and contact information in appropriate fields. Double-check your email address!\n	\n	\n	Complete all required fields\n	\n	\n	Online payment only. If you have any additional questions\, please call the events manager\, Alyssa\, at 302-539-2100 or email events@thequietresorts.com\n	\n\nOld Timers' Day in Selbyville will be loads of fun for the entire family-- classic cars\, food trucks\, children's area\, beer garden\, petting zoo\, community sale\, farmer's market and more! Click the link for more details about the 66th Annual Old Timers' Day Classic Car Show & Family Festival.
X-ALT-DESC;FMTTYPE=text/html:<p>If you haven&#39\;t gotten around to hosting your own garage/yard sale\, this event is for you!&nbsp\;On Saturday\, June 17 from 8:00AM - 12:00PM\, hundreds&nbsp\;of visitors and locals will be strolling through Selbyville for the Classic Car Show and Family Festival. At the same time\, the Selbyville Public Library will be the host site for the Adkins Farmers Market and a <strong>Community Yard Sale! </strong>Whether you have a few items to sell or a truckload\,&nbsp\;view details to reserve your spot in the community sale below.&nbsp\;<br />\n<br />\n*Number of spaces&nbsp\;will be limited.&nbsp\;<br />\n<br />\n<strong>All proceeds of the Old Timers&#39\; Day Community Yard Sale Vendor fees will benefit the construction of the new Selbyville Public&nbsp\;Library. individuals/groups wishing to sell items at the Community Sale&nbsp\;have&nbsp\;the option to donate a portion of their own proceeds to the Library.</strong><br />\n<br />\n*Spaces are limited! general&nbsp\;description of items being sold must be listed in application and will be submitted for official approval*&nbsp\;Please note that weapons will not be permitted for sale.<br />\n<br />\nVendors will be provided with a 10x10 area in the grass lot behind the Selbyville Public Library. All vendors must be pre-registered and check in prior to set up. Note that the Community Yard Sale will be taking place in the grassy area. In the event of rain\, prior to or on the event date\, vendors are encouraged to stage their items for sale on&nbsp\;tables\, etc.<br />\n<br />\n<span style="color:#800000\;"><strong>Vendor Registration Details</strong></span><br />\n<strong>Cost</strong>: $25<br />\n<strong>Sale Location</strong>: Future&nbsp\;Library lot (grass): McCabe Street\, Selbyville<br />\n<strong>Set-up Time</strong>: 7:00AM - 8:00AM<br />\n<strong>Event Time</strong>: 8:00AM - 12:00PM<br />\n<strong>Registration Deadline</strong>: Wednesday\, June 13\, 2023<br />\n<br />\n<strong><span style="color:#800000\;">Registration Instructions</span></strong></p>\n\n<ol font-size:="" style="padding: 0px 40px\; color: rgb(51\, 51\, 51)\; font-family: sans-serif\, Arial\, Verdana\, " trebuchet="">\n	<li>\n	<p>Select the green<strong>&nbsp\;&quot\;Register Now&quot\;</strong>&nbsp\;button at the top of the event page</p>\n	</li>\n	<li>\n	<p>Select&nbsp\;<strong>&quot\;Click here to continue your registration&quot\;</strong>&nbsp\;under the &quot\;Not a member&quot\; section on the right hand side of the screen</p>\n	</li>\n	<li>\n	<p>Enter your name and contact information in appropriate fields.&nbsp\;<u>Double-check your email address!</u></p>\n	</li>\n	<li>\n	<p>Complete&nbsp\;all required fields</p>\n	</li>\n	<li>\n	<p>Online payment only. If you have any additional questions\, please call the events manager\, Alyssa\,&nbsp\;at 302-539-2100 or email events@thequietresorts.com</p>\n	</li>\n</ol>\nOld Timers&#39\; Day in Selbyville will be loads of fun for the entire family-- classic cars\, food trucks\, children&#39\;s area\, beer garden\, petting zoo\, community sale\, farmer&#39\;s market and more! Click the link for more details about the <a href="https://oldtimersdayde.com/">66th Annual Old Timers&#39\; Day Classic Car Show &amp\; Family Festival</a>.<br />\n<br />\n&nbsp\;
LOCATION:Lot behind Selbyville Library McCabe Street\, Selbyville\, DE
UID:e.2126.25860
SEQUENCE:3
DTSTAMP:20260421T004959Z
URL:http://business.thequietresorts.com/events/details/66th-annual-old-timers-day-community-yard-sale-25860
END:VEVENT

END:VCALENDAR
