BEGIN:VCALENDAR
VERSION:2.0
PRODID:-//ChamberMaster//Event Calendar 2.0//EN
METHOD:PUBLISH
X-PUBLISHED-TTL:P3D
REFRESH-INTERVAL:P3D
CALSCALE:GREGORIAN
BEGIN:VEVENT
DTSTART:20220618T140000Z
DTEND:20220618T180000Z
X-MICROSOFT-CDO-ALLDAYEVENT:FALSE
SUMMARY:65th Annual Old Timer's Day- Cornhole Tournament
DESCRIPTION:Printable Cornhole Flyer\n\n\n\nJoin the Bethany-Fenwick Area Chamber of Commerce and Beebe Healthcare in the First Annual Old Timers Day-Cornhole Tournament on Saturday\, June 18\, from 10:00 am - 2:00 pm. The event will benefit the Selbyville Volunteer Fire Company and will be organized through OC Cornhole Rentals.\n\n\n\nTeams will compete for a chance to win cash prizes in the double-elimination tournament. \n\n\n\nMusic by The Glass Onion Band\, Beer Garden\, Classic Cars\, and Children's Activities will ensure fun for everyone! \n\n\n\nRegistration Fees:\n\nAdults: $50 per team.\n\nRegistration will include entry into the double-elimination tournament\n\n*Pre-registrants will receive a complimentary beverage ticket at the Beer Garden. \n\n\n\nPrizes:\n\n1st Place: $200 cash prize & trophy\n\n2nd Place: $100 cash prize\n\n3rd Place: $50 cash prize
X-ALT-DESC;FMTTYPE=text/html:<span style="font-family:arial\;"><span style="font-size:14px\;"><a href="https://chambermaster.blob.core.windows.net/userfiles/UserFiles/chambers/2126/File/Old_Timers/2022/OTD_Flyer_Cornhole8.pdf">Printable Cornhole Flyer</a><br />\n<br />\nJoin the Bethany-Fenwick Area Chamber of Commerce and Beebe Healthcare in the First Annual Old Timers Day-Cornhole Tournament on Saturday\, June 18\, from 10:00 am - 2:00 pm. The event will benefit the Selbyville Volunteer Fire Company and will be organized through OC Cornhole Rentals.<br />\n<br />\nTeams will compete for a chance to win cash prizes in the double-elimination tournament.&nbsp\;</span></span><br />\n<br />\n<span style="font-size:14px\;"><span style="font-family:arial\;">Music by The Glass Onion Band\, Beer Garden\,&nbsp\;Classic Cars\, and Children&#39\;s Activities will ensure fun for everyone!&nbsp\;</span></span><br />\n<br />\n<span style="font-family:arial\;"><span style="font-size:14px\;"><strong>Registration Fees:</strong><br />\nAdults: $50 per team.<br />\nRegistration will include entry into the double-elimination tournament</span></span><br />\n<em>*Pre-registrants will receive a complimentary beverage ticket at the Beer Garden.&nbsp\;</em><br />\n<br />\n<span style="font-family:arial\;"><span style="font-size:14px\;"><strong>Prizes:</strong><br />\n1st Place: $200 cash prize &amp\; trophy<br />\n2nd Place: $100 cash prize<br />\n3rd Place: $50 cash prize</span></span><br />\n<br />\n<br />\n<br />\n&nbsp\;
LOCATION:Downtown Selbyville 68 W Church St Selbyville\, DE 19975
UID:e.2126.23718
SEQUENCE:3
DTSTAMP:20260421T222714Z
URL:http://business.thequietresorts.com/events/details/65th-annual-old-timer-s-day-cornhole-tournament-23718
END:VEVENT

END:VCALENDAR
