BEGIN:VCALENDAR
VERSION:2.0
PRODID:-//ChamberMaster//Event Calendar 2.0//EN
METHOD:PUBLISH
X-PUBLISHED-TTL:P3D
REFRESH-INTERVAL:P3D
CALSCALE:GREGORIAN
BEGIN:VEVENT
DTSTART:20220618T120000Z
DTEND:20220618T190000Z
X-MICROSOFT-CDO-ALLDAYEVENT:FALSE
SUMMARY:65th Annual Old Timer's Day Classic Car Show & Family Festival
DESCRIPTION:The Presenting Sponsor\, Bunting and Murray\, and the Bethany-Fenwick Area Chamber of Commerce travel back in time as they celebrate tradition and the classics. Now in its 65th year\, vehicles from 1992 and earlier line Church Street in Selbyville for their shot at "Best in Show" while socializing with other classic fanatics. A live band\, food vendors\, DJs\, and activities round out the festivities. Fun for all ages\, don't miss this family-friendly event!\n\nPRINT FLYER\n\n\n\nDay-of Timeline\n\n8:00 am - 10:00 am     On-site Vehicle Registration & Pre-Registered Vehicle Check-in       \n\n8:00 am - 12:00 pm     DJ Brian K Hall playing Tunes sponsored by Bank of Ocean City\n\n8:00 am - 2:00 pm       Blood pressure screenings and stroke awareness information by Beebe                                                  Healthcare\n\n10:00 am - 12:00 pm   Vehicle Judging                             \n\n10:00 am - 2:00 pm     Funny Farm Petting Zoo and Pony Rides ($)\n\n10:00 am - 2:00 pm     Fire Truck Rides (pick up at the Railroad Museum)\n\n10:00 am - 2:00 pm     First Annual Cornhole Tournament sponsored by Beebe Healthcare\n\n10:00 am - 2:00 pm      Bounce House & Obstacle Course sponsored by McDonald's \n\n10:00 am - 2:00 pm      Historic Walking Tour- Visit all 6 places to enter a $100 Gift Card drawing                                          sponsored by Northwestern Mutual \n\n10:00 am - 3:00 pm      Beer Garden - Benefitting the Selbyville Volunteer Fire Department                                          sponsored by Banks Wines & Spirits\n\n10:00 am - 3:00 pm      Food\, Community & Art Vendors\n\n11:00 am - 2:00 pm      Live Music from The Glass Onion Band sponsored by Mountaire   2:00 pm - 3:00 pm       Awards Ceremony Announcing the Hospice 50/50\, Cornhole\n\nTournament & Car Show Winners\n\n*Check back the week of the event for a full schedule of events* \n\n\n\nCar Show Info\n\nRegistration Info\n\nVehicle Registration = $10\n\n\n\nAwards Info\n\nBest Overall Car/Truck: $100 cash prize - West Fenwick Car Wash\n\nPeople's Choice Award: $100 cash prize sponsored by Bishop-Hasting's Funeral Home\n\nOldest of the Old Timer's Award: $50 cash prize sponsored by Trick Trucks\n\n\n\nBy the Decade Awards:\n\nBest Interior Award\n\nBest Exterior Award\n\nBest Engine Award\n\n\n\nFood Vendor Registration\n\nIf you are interested in being a Food Vendor for Old Timer's Day please fill out the application here and e-mail it back to events@thequietresorts.com or fill out our online application.\n\n\n\nVendor Registration\n\nIf you are interested in being a Vendor for Old Timer's Day please fill out the application here and e-mail it back to events@thequietresorts.com or fill out our online application.\n\n\n\nPaper Car Registration Form\n\nIf you would like to fill out a paper registration form\, please click here and e-mail back to events@thequietresorts.com.\n\n\n\nFirst 100 Vehicles\n\nBe one of the first 100 registered and receive a commemorative Old Timers Day Keychain sponsored by Murray Sod.\n\nCome for the Cars\, Stay for the Fun!\n\n\n	Glass Onion Band sponsored by Mountaire Farms\n	 Children's & Family-Friendly Activities sponsored by McDonald's \n\nLive Music\n\nDJ Brian Hall from 8 am - 12 pm sponsored by Bank of Ocean City \n\nLive Music from The Glass Onion Band from 11:00 am - 2:00 pm sponsored by Mountaire Farms\n\n\n\nChildren's Activities\n\n\n	Petting Zoo from Funny Farms\n	Pony Rides($)\n	Moon Bounce\n	Obstacle Course\n	Fire Truck Rides\n\n\nCornhole Tournament\n\nFLYER FOR PRINT\n\nJoin the Bethany-Fenwick Area Chamber of Commerce and Beebe Healthcare in the First Annual Old Timers Day-Cornhole Tournament on Saturday\, June 18\, from 10:00 am - 2:00 pm. The event will benefit the Selbyville Volunteer Fire Company and will be organized through OC Cornhole Rentals. Pre-registrants receive a drink ticket to the Beer Garden\, register HERE today. \n\nCash prizes for 1st\, 2nd & 3rd place. \n\n\n\nBeer Garden \n\nBack once again\, the 65th Annual Old Timers Day event will feature a pop-up beer garden\, sponsored by Banks Wines & Spirits. Come join us from 10:00 am - 3:00 pm to enjoy some beer and all of the beautiful vehicles on display. Proceeds benefit the Selbyville Fire Department.\n\n\n\n50/50 Raffle will benefit Delaware Hospice.\n\nParking \n\nOld Timer's Day classic car registrants will be parked along Church Street in Selbyville.\n\nGuest & family parking is available on all side streets and Southern Delaware School for the Arts & Along Railroad Ave. \n\n\n\nGolf Carts will be running up and down Church St. from 9 am - 3 pm Courtesy of Scott Smith- Edward Jones & Rt. 113 Boat Sales\n\n\n\nHandicap parking is reserved by Town Hall and the municipal lot on Main St.\n\n\n\nSponsorship Opportunities\n\nIf you are interested in being a sponsor for this event\, please contact events@thequietresorts.com\n\n\n\nSponsorship Opportunities\n\n\n\nVolunteers\n\nVolunteer opportunities can be found here.
X-ALT-DESC;FMTTYPE=text/html:<p><span style="font-size:14px\;">The Presenting Sponsor\, Bunting and Murray\, and the Bethany-Fenwick Area Chamber of Commerce travel back in time as they celebrate tradition and the classics. Now in its 65<sup>th</sup>&nbsp\;year\, vehicles&nbsp\;from 1992&nbsp\;and earlier line Church Street in Selbyville for their shot at &quot\;Best in Show&quot\;&nbsp\;while socializing with other classic fanatics. A live band\, food vendors\, DJs\, and activities round out the festivities. Fun for all ages\, don&#39\;t miss this family-friendly&nbsp\;event!<br />\n<a href="https://chambermaster.blob.core.windows.net/userfiles/UserFiles/chambers/2126/File/Old_Timers/2022/OTD_Flyer_221.pdf">PRINT FLYER</a><br />\n<br />\n<span background-color:="" style="color: rgb(51\, 51\, 51)\; font-family: sans-serif\, Arial\, Verdana\, " trebuchet=""><span style="color: rgb(0\, 128\, 128)\;"><span new="" style="line-height: 14.98px\;" times=""><strong>Day-of Timeline</strong></span></span><br />\n8:00 am - 10:00 am</span><span background-color:="" style="color: rgb(51\, 51\, 51)\; font-family: sans-serif\, Arial\, Verdana\, " trebuchet="">&nbsp\; &nbsp\;&nbsp\;&nbsp\;</span><span background-color:="" style="color: rgb(51\, 51\, 51)\; font-family: sans-serif\, Arial\, Verdana\, " trebuchet="">On-site Vehicle&nbsp\;Registration &amp\; Pre-Registered Vehicle Check-in&nbsp\; &nbsp\; &nbsp\; &nbsp\;<br />\n8:00 am - 12:00 pm&nbsp\;</span><span background-color:="" style="color: rgb(51\, 51\, 51)\; font-family: sans-serif\, Arial\, Verdana\, " trebuchet="">&nbsp\;&nbsp\;&nbsp\;&nbsp\;</span><span background-color:="" style="color: rgb(51\, 51\, 51)\; font-family: sans-serif\, Arial\, Verdana\, " trebuchet="">DJ Brian K Hall playing Tunes sponsored by Bank of Ocean City<br />\n<span style="font-family:arial\;">8:00 am - 2:00 pm</span></span></span>&nbsp\;&nbsp\;&nbsp\;&nbsp\;&nbsp\;&nbsp\;&nbsp\;<span style="font-size:14px\;"><span style="font-family:arial\;">Blood pressure screenings and stroke awareness information by Beebe </span></span>&nbsp\;&nbsp\;&nbsp\;&nbsp\;&nbsp\;&nbsp\;&nbsp\;&nbsp\;&nbsp\; &nbsp\; &nbsp\; &nbsp\; &nbsp\; &nbsp\; &nbsp\; &nbsp\; &nbsp\; &nbsp\; &nbsp\; &nbsp\; &nbsp\; &nbsp\; &nbsp\; &nbsp\; &nbsp\; &nbsp\; &nbsp\; &nbsp\; &nbsp\;<span style="font-size:14px\;"><span style="font-family:arial\;">Healthcare</span><br />\n<span background-color:="" style="color: rgb(51\, 51\, 51)\; font-family: sans-serif\, Arial\, Verdana\, " trebuchet="">10:00 am - 12:00 pm&nbsp\;</span><span background-color:="" style="color: rgb(51\, 51\, 51)\; font-family: sans-serif\, Arial\, Verdana\, " trebuchet="">&nbsp\; Vehicle Judging </span><span background-color:="" style="color: rgb(51\, 51\, 51)\; font-family: sans-serif\, Arial\, Verdana\, " trebuchet="">&nbsp\; &nbsp\; &nbsp\; &nbsp\; &nbsp\; &nbsp\; &nbsp\; &nbsp\; &nbsp\; &nbsp\; &nbsp\; &nbsp\; &nbsp\; &nbsp\;&nbsp\;</span><br background-color:="" font-size:="" style="color: rgb(51\, 51\, 51)\; font-family: sans-serif\, Arial\, Verdana\, " trebuchet="" />\n<span background-color:="" style="color: rgb(51\, 51\, 51)\; font-family: sans-serif\, Arial\, Verdana\, " trebuchet="">10:00 am - 2:00 pm&nbsp\; &nbsp\; &nbsp\;Funny Farm Petting Zoo and Pony Rides ($)<br />\n10:00 am - 2:00 pm&nbsp\;</span>&nbsp\;&nbsp\;&nbsp\;&nbsp\;Fire Truck Rides (pick up at the Railroad Museum)<br />\n10:00 am - 2:00 pm&nbsp\; &nbsp\; &nbsp\;First Annual Cornhole Tournament sponsored by Beebe Healthcare<br />\n10:00 am - 2:00 pm&nbsp\; &nbsp\; &nbsp\; Bounce House &amp\; Obstacle Course sponsored by McDonald&#39\;s&nbsp\;<br />\n10:00 am - 2:00 pm&nbsp\; &nbsp\; &nbsp\; Historic Walking Tour- Visit all 6&nbsp\;places to enter a $100 Gift Card drawing&nbsp\; </span>&nbsp\;&nbsp\;&nbsp\;&nbsp\;&nbsp\;&nbsp\;&nbsp\;&nbsp\;&nbsp\;&nbsp\;&nbsp\;&nbsp\;&nbsp\;&nbsp\;&nbsp\;&nbsp\;&nbsp\;&nbsp\;&nbsp\;&nbsp\;&nbsp\;&nbsp\;&nbsp\;&nbsp\;&nbsp\;&nbsp\;&nbsp\;&nbsp\;&nbsp\;&nbsp\;&nbsp\;&nbsp\;&nbsp\;&nbsp\;&nbsp\;&nbsp\;&nbsp\;&nbsp\;&nbsp\;&nbsp\;<span style="font-size:14px\;">sponsored by Northwestern Mutual&nbsp\;<br />\n<span background-color:="" style="color: rgb(51\, 51\, 51)\; font-family: sans-serif\, Arial\, Verdana\, " trebuchet="">10:00 am - 3:00 pm&nbsp\;</span>&nbsp\; &nbsp\; &nbsp\;Beer Garden - Benefitting the Selbyville Volunteer Fire Department&nbsp\; </span>&nbsp\;&nbsp\;&nbsp\;&nbsp\;&nbsp\;&nbsp\;&nbsp\;&nbsp\;&nbsp\;&nbsp\;&nbsp\;&nbsp\;&nbsp\;&nbsp\;&nbsp\;&nbsp\;&nbsp\;&nbsp\;&nbsp\;&nbsp\;&nbsp\;&nbsp\;&nbsp\;&nbsp\;&nbsp\;&nbsp\;&nbsp\;&nbsp\;&nbsp\;&nbsp\;&nbsp\;&nbsp\;&nbsp\;&nbsp\;&nbsp\;&nbsp\;&nbsp\;&nbsp\;&nbsp\;&nbsp\;<span style="font-size:14px\;">sponsored by Banks Wines &amp\; Spirits<br />\n10:00 am - 3:00 pm&nbsp\;</span>&nbsp\;&nbsp\;&nbsp\;&nbsp\;&nbsp\;<span style="font-size:14px\;">Food\, Community &amp\; Art&nbsp\;Vendors</span><br />\n<span style="font-size:14px\;"><span background-color:="" style="color: rgb(51\, 51\, 51)\; font-family: sans-serif\, Arial\, Verdana\, " trebuchet="">11:00 am - 2:00 pm&nbsp\; &nbsp\; &nbsp\; Live Music from The Glass Onion&nbsp\;Band sponsored by Mountaire&nbsp\; &nbsp\;2:00 pm - 3:00 pm&nbsp\; &nbsp\; &nbsp\; &nbsp\;Awards Ceremony Announcing the Hospice 50/50\, Cornhole<br />\nTournament</span></span>&nbsp\;<span style="font-size:14px\;"><span background-color:="" style="color: rgb(51\, 51\, 51)\; font-family: sans-serif\, Arial\, Verdana\, " trebuchet="">&amp\; </span></span><span style="font-size:14px\;"><span background-color:="" style="color: rgb(51\, 51\, 51)\; font-family: sans-serif\, Arial\, Verdana\, " trebuchet="">Car Show Winners</span></span><br />\n<span background-color:="" font-size:="" style="color: rgb(51\, 51\, 51)\; font-family: sans-serif\, Arial\, Verdana\, " trebuchet=""><font face="arial"><em>*Check back the week of the event for a full schedule of events*</em>&nbsp\;</font></span><br />\n<br />\n<b style="background-color: rgb(255\, 255\, 255)\; color: rgb(178\, 34\, 34)\; font-family: arial\; font-size: 14px\;"><span style="font-size: 16px\;">Car Show Info</span></b><br background-color:="" font-size:="" style="color: rgb(51\, 51\, 51)\; font-family: sans-serif\, Arial\, Verdana\, " trebuchet="" />\n<span background-color:="" font-size:="" style="color: rgb(51\, 51\, 51)\; font-family: sans-serif\, Arial\, Verdana\, " trebuchet=""><span style="font-family: arial\;"><span new="" style="line-height: 14.98px\;" times=""><span style="color: rgb(0\, 128\, 128)\;"><b>Registration Info</b></span><br />\n<font color="#000000">Vehicle Registration =&nbsp\;$10</font></span><br />\n<br />\n<span new="" times=""><span style="color: rgb(178\, 34\, 34)\;"><strong><span style="font-size: 16px\;">Awards Info</span></strong></span></span><br />\n<span style="font-size:14px\;"><span new="" style="line-height: 14.98px\;" times=""><font color="#000000">Best Overall Car/Truck: $100 cash prize - West Fenwick Car Wash<br />\nPeople&#39\;s Choice Award: $100 cash prize sponsored by <a href="https://www.bishophastingsfh.com/">Bishop-Hasting&#39\;s Funeral Home</a></font></span></span></span></span><br background-color:="" font-size:="" style="color: rgb(51\, 51\, 51)\; font-family: sans-serif\, Arial\, Verdana\, " trebuchet="" />\n<span style="font-size:14px\;"><span style="background-color: rgb(255\, 255\, 255)\; font-family: arial\;">Oldest of the Old Timer&#39\;s Award: $50 cash prize sponsored by <a href="https://tricktrucksmillsboro.com/" target="_blank">Trick Trucks</a></span><br background-color:="" font-size:="" style="color: rgb(51\, 51\, 51)\; font-family: sans-serif\, Arial\, Verdana\, " trebuchet="" />\n<br background-color:="" font-size:="" style="color: rgb(51\, 51\, 51)\; font-family: sans-serif\, Arial\, Verdana\, " trebuchet="" />\n<span background-color:="" font-size:="" style="color: rgb(51\, 51\, 51)\; font-family: sans-serif\, Arial\, Verdana\, " trebuchet=""><span style="font-family: arial\;"><span new="" style="line-height: 14.98px\;" times=""><font color="#000000">By the Decade Awards:<br />\nBest Interior Award<br />\nBest Exterior Award<br />\nBest Engine Award</font></span></span></span></span><br background-color:="" font-size:="" style="color: rgb(51\, 51\, 51)\; font-family: sans-serif\, Arial\, Verdana\, " trebuchet="" />\n<br background-color:="" font-size:="" style="color: rgb(51\, 51\, 51)\; font-family: sans-serif\, Arial\, Verdana\, " trebuchet="" />\n<b style="color: rgb(178\, 34\, 34)\; font-family: arial\; font-size: 16px\; background-color: rgb(255\, 255\, 255)\;">Food Vendor Registration</b><br background-color:="" font-size:="" style="color: rgb(51\, 51\, 51)\; font-family: sans-serif\, Arial\, Verdana\, " trebuchet="" />\n<span style="background-color: rgb(255\, 255\, 255)\; font-family: arial\; font-size: 14px\;">If you are interested in being a Food Vendor for Old Timer&#39\;s Day please fill out the application&nbsp\;<a href="https://acrobat.adobe.com/link/review?uri=urn:aaid:scds:US:722daaa4-becc-37f9-9cd2-7dbaa6066b72" style="color: rgb(7\, 130\, 193)\;">here</a><a href="https://acrobat.adobe.com/link/review?uri=urn:aaid:scds:US:8837e8be-22d5-3079-82be-c0eeb9dd681f" style="color: rgb(7\, 130\, 193)\;">&nbsp\;</a>and e-mail it back to events@thequietresorts.com or fill out our online application.</span><br style="background-color: rgb(255\, 255\, 255)\; font-family: arial\; font-size: 14px\;" />\n<br background-color:="" font-size:="" style="color: rgb(51\, 51\, 51)\; font-family: sans-serif\, Arial\, Verdana\, " trebuchet="" />\n<b style="color: rgb(178\, 34\, 34)\; font-family: arial\; font-size: 16px\; background-color: rgb(255\, 255\, 255)\;">Vendor Registration</b><br background-color:="" font-size:="" style="color: rgb(51\, 51\, 51)\; font-family: sans-serif\, Arial\, Verdana\, " trebuchet="" />\n<span style="color: rgb(51\, 51\, 51)\; font-family: arial\; font-size: 14px\; background-color: rgb(255\, 255\, 255)\;">If you are interested in being a Vendor for Old Timer&#39\;s Day please fill out the application&nbsp\;<a href="https://acrobat.adobe.com/link/review?uri=urn:aaid:scds:US:d5555021-68fe-3fab-a119-468faba01a3d" style="color: rgb(7\, 130\, 193)\;">here</a>&nbsp\;and e-mail it back to events@thequietresorts.com or fill out our online application.</span><br />\n<br />\n<font color="#a52a2a" face="arial"><span style="font-size: 16px\;"><b>Paper Car&nbsp\;Registration Form</b></span></font><br style="color: rgb(51\, 51\, 51)\; font-family: arial\; font-size: 14px\; background-color: rgb(255\, 255\, 255)\;" />\n<span style="color: rgb(51\, 51\, 51)\; font-family: arial\; font-size: 14px\; background-color: rgb(255\, 255\, 255)\;">If you would like to fill out a paper registration form\, please click <a href="https://acrobat.adobe.com/link/review?uri=urn:aaid:scds:US:957bb8d2-aeb5-3cfb-8bab-7f35eb2882cd">here</a> and e-mail back to events@thequietresorts.com.</span><br />\n<br />\n<span style="font-family:arial\;"><b style="color: rgb(165\, 42\, 42)\; font-family: arial\; font-size: 14px\;"><span style="font-size: 16px\;">First 100 Vehicles</span></b></span><br />\n<span style="font-size: 14px\;"><span style="font-family: arial\;">Be one of the first 100 registered and receive a commemorative&nbsp\;Old Timers Day Keychain sponsored by Murray Sod.</span></span></p>\n\n<p><span style="color: rgb(178\, 34\, 34)\;"><b style="color: rgb(165\, 42\, 42)\; font-family: arial\; font-size: 14px\;"><span style="font-size: 16px\;">Come for the Cars\, Stay for the Fun!</span></b></span></p>\n\n<ul>\n	<li><span style="font-family: arial\; font-size: 14px\; background-color: transparent\; font-variant-numeric: normal\; font-variant-east-asian: normal\;">Glass Onion Band sponsored by Mountaire Farms</span></li>\n	<li><span style="font-size: 14px\;"><span style="font-family: arial\;">&#8203\;Children&#39\;s &amp\; Family-Friendly Activitie<span style="font-size: 14px\;"><span style="font-family: arial\;">s sponsored by McDonald&#39\;s<span style="font-size: 14px\;"><span style="font-family: arial\;">&#8203\;</span></span></span></span></span></span></li>\n</ul>\n<span style="color:#A52A2A\;"><span style="font-family: arial\; box-sizing: content-box\; inset: auto\; clear: none\; content: normal\; direction: inherit\; empty-cells: show\; font-variant-numeric: inherit\; font-variant-east-asian: inherit\; font-stretch: inherit\; font-size: 14px\; line-height: inherit\; margin: 0px\; max-height: none\; max-width: none\; min-height: initial\; min-width: initial\; opacity: 1\; outline-offset: 0px\; overflow: visible\; padding: 0px\; position: static\; resize: none\; table-layout: auto\; text-overflow: clip\; vertical-align: baseline\; visibility: inherit\; word-break: inherit\; overflow-wrap: inherit\; z-index: auto\; background-image: none\; background-position: initial\; background-size: initial\; background-repeat: initial\; background-attachment: initial\; background-origin: initial\; background-clip: initial\; border-width: initial\; border-style: none\; border-color: initial\; border-collapse: separate\; border-image: none 100% 1 0 / 1 / 0 stretch\; border-radius: 0px\; height: auto\; width: auto\; box-shadow: none\;"><span style="font-family: inherit\; box-sizing: content-box\; font-weight: bolder\; inset: auto\; clear: none\; content: normal\; direction: inherit\; empty-cells: show\; font-style: inherit\; font-variant: inherit\; font-stretch: inherit\; font-size: inherit\; letter-spacing: inherit\; line-height: inherit\; margin: 0px\; max-height: none\; max-width: none\; min-height: initial\; min-width: initial\; opacity: 1\; outline-offset: 0px\; overflow: visible\; padding: 0px\; position: static\; resize: none\; table-layout: auto\; text-align: inherit\; text-indent: inherit\; text-overflow: clip\; text-transform: inherit\; vertical-align: baseline\; visibility: inherit\; white-space: inherit\; word-break: inherit\; word-spacing: inherit\; overflow-wrap: inherit\; z-index: auto\; background: none\; border-width: initial\; border-style: none\; border-color: initial\; border-collapse: separate\; border-image: none 100% 1 0 / 1 / 0 stretch\; border-radius: 0px\; height: auto\; width: auto\; box-shadow: none\;"><span style="font-family: inherit\; box-sizing: content-box\; inset: auto\; clear: none\; content: normal\; direction: inherit\; empty-cells: show\; font-style: inherit\; font-variant: inherit\; font-weight: inherit\; font-stretch: inherit\; font-size: 16px\; letter-spacing: inherit\; line-height: inherit\; margin: 0px\; max-height: none\; max-width: none\; min-height: initial\; min-width: initial\; opacity: 1\; outline-offset: 0px\; overflow: visible\; padding: 0px\; position: static\; resize: none\; table-layout: auto\; text-align: inherit\; text-indent: inherit\; text-overflow: clip\; text-transform: inherit\; vertical-align: baseline\; visibility: inherit\; white-space: inherit\; word-break: inherit\; word-spacing: inherit\; overflow-wrap: inherit\; z-index: auto\; background: none\; border-width: initial\; border-style: none\; border-color: initial\; border-collapse: separate\; border-image: none 100% 1 0 / 1 / 0 stretch\; border-radius: 0px\; height: auto\; width: auto\; box-shadow: none\;">Live Music</span></span></span></span><br />\n<span style="color: rgb(37\, 32\, 26)\; font-family: arial\; font-size: 14px\; background-color: rgb(255\, 255\, 255)\;">DJ Brian Hall from 8 am - 12 pm sponsored by Bank of Ocean City&nbsp\;<br />\nLive Music from The Glass Onion Band from 11:00 am - 2:00 pm sponsored by Mountaire Farms</span><br />\n<br />\n<span style="color: rgb(165\, 42\, 42)\; font-family: arial\; font-size: 16px\; font-weight: 700\; background-color: rgb(255\, 255\, 255)\;">Children&#39\;s Activities</span>\n\n<ul>\n	<li><span style="color: rgb(37\, 32\, 26)\; font-family: arial\; font-size: 14px\; background-color: rgb(255\, 255\, 255)\;">Petting Zoo from Funny Farms</span></li>\n	<li><span style="color: rgb(37\, 32\, 26)\; font-family: arial\; font-size: 14px\; background-color: rgb(255\, 255\, 255)\;">Pony Rides($)</span></li>\n	<li><span style="color: rgb(37\, 32\, 26)\; font-family: arial\; font-size: 14px\; background-color: rgb(255\, 255\, 255)\;">Moon Bounce</span></li>\n	<li><span style="color: rgb(37\, 32\, 26)\; font-family: arial\; font-size: 14px\; background-color: rgb(255\, 255\, 255)\;">Obstacle Course</span></li>\n	<li><span style="color: rgb(37\, 32\, 26)\; font-family: arial\; font-size: 14px\; background-color: rgb(255\, 255\, 255)\;">Fire Truck Rides</span></li>\n</ul>\n\n<p><span style="color:#A52A2A\;"><span style="font-size:16px\;"><strong><span style="font-weight: 700\; background-color: rgb(255\, 255\, 255)\;">Cornhole&nbsp\;</span>Tournament</strong></span></span><br />\n<span style="color: rgb(37\, 32\, 26)\; font-family: arial\; font-size: 14px\;"><a href="https://chambermaster.blob.core.windows.net/userfiles/UserFiles/chambers/2126/File/Old_Timers/2022/OTD_Flyer_Cornhole8.pdf">FLYER FOR PRINT</a><br />\nJoin the Bethany-Fenwick Area Chamber of Commerce and Beebe Healthcare in the First Annual Old Timers Day-Cornhole Tournament on Saturday\, June 18\, from 10:00 am - 2:00 pm. The event will benefit the Selbyville Volunteer Fire Company and will be organized through OC Cornhole Rentals. Pre-registrants receive a drink ticket to the Beer Garden\, register <a href="https://business.bethany-fenwick.org/events/details/65th-annual-old-timer-s-day-cornhole-tournament-23718">HERE</a> today.&nbsp\;</span><br />\n<span style="font-size:14px\;"><span style="font-family:arial\;">Cash prizes for 1st\, 2nd &amp\; 3rd place.&nbsp\;</span></span><br />\n<br />\n<span style="color: rgb(165\, 42\, 42)\; font-family: arial\; font-size: 16px\; font-weight: 700\; background-color: rgb(255\, 255\, 255)\;">Beer Garden&nbsp\;</span><br />\n<span style="font-family: arial\; box-sizing: content-box\; inset: auto\; clear: none\; color: rgb(37\, 32\, 26)\; content: normal\; direction: inherit\; empty-cells: show\; font-variant-numeric: inherit\; font-variant-east-asian: inherit\; font-stretch: inherit\; font-size: 16px\; line-height: inherit\; margin: 0px\; max-height: none\; max-width: none\; min-height: initial\; min-width: initial\; opacity: 1\; outline-offset: 0px\; overflow: visible\; padding: 0px\; position: static\; resize: none\; table-layout: auto\; text-overflow: clip\; vertical-align: baseline\; visibility: inherit\; word-break: inherit\; overflow-wrap: inherit\; z-index: auto\; background-image: none\; background-position: initial\; background-size: initial\; background-repeat: initial\; background-attachment: initial\; background-origin: initial\; background-clip: initial\; border-width: initial\; border-style: none\; border-color: initial\; border-collapse: separate\; border-image: none 100% 1 0 / 1 / 0 stretch\; border-radius: 0px\; height: auto\; width: auto\; box-shadow: none\;"><span style="font-family: inherit\; box-sizing: content-box\; inset: auto\; clear: none\; color: inherit\; content: normal\; direction: inherit\; empty-cells: show\; font-style: inherit\; font-variant: inherit\; font-weight: inherit\; font-stretch: inherit\; font-size: 14px\; letter-spacing: inherit\; line-height: inherit\; margin: 0px\; max-height: none\; max-width: none\; min-height: initial\; min-width: initial\; opacity: 1\; outline-offset: 0px\; overflow: visible\; padding: 0px\; position: static\; resize: none\; table-layout: auto\; text-align: inherit\; text-indent: inherit\; text-overflow: clip\; text-transform: inherit\; vertical-align: baseline\; visibility: inherit\; white-space: inherit\; word-break: inherit\; word-spacing: inherit\; overflow-wrap: inherit\; z-index: auto\; background: none\; border-width: initial\; border-style: none\; border-color: initial\; border-collapse: separate\; border-image: none 100% 1 0 / 1 / 0 stretch\; border-radius: 0px\; height: auto\; width: auto\; box-shadow: none\;">Back once again\, the 65th Annual Old Timers Day event will feature a pop-up beer garden\, sponsored by Banks Wines &amp\; Spirits. Come join us from 10:00 am - 3:00 pm to enjoy some beer and all of the beautiful vehicles on display. Proceeds benefit the Selbyville Fire Department.<br />\n<br />\n50/50 Raffle will benefit <a href="https://www.delawarehospice.org/">Delaware Hospice.</a></span></span></p>\n\n<p><span style="font-size:14px\;"><span style="font-family: arial\;"><span new="" style="line-height: 107%\; mso-fareast-font-family: Calibri\; mso-fareast-theme-font: minor-latin\;" times=""><span style="color: rgb(178\, 34\, 34)\;"><span style="font-size: 16px\;"><strong>Parking&nbsp\;</strong></span></span><br />\n<font color="#000000"><em>Old Timer&#39\;s Day classic car registrants</em> will be parked along Church Street in Selbyville.<br />\n<em>Guest &amp\; family</em>&nbsp\;parking is available on all side streets and Southern Delaware School for the Arts &amp\; Along Railroad Ave.&nbsp\;<br />\n<br />\nGolf Carts will be running up and down Church St. from 9 am - 3 pm Courtesy of Scott Smith- Edward Jones &amp\; Rt. 113 Boat Sales</font></span></span><br />\n<br />\n<span style="font-family: arial\;"><span new="" style="line-height: 107%\; mso-fareast-font-family: Calibri\; mso-fareast-theme-font: minor-latin\;" times=""><font color="#000000"><em>Handicap</em> parking is reserved by Town Hall and the municipal lot on Main St.</font></span></span></span><br />\n<br />\n<span style="color: rgb(51\, 51\, 51)\; font-size: 13px\; background-color: rgb(255\, 255\, 255)\; font-family: arial\;"><span style="font-size: 14px\;"><span style="color: rgb(178\, 34\, 34)\;"><span style="font-size: 16px\;"><b>Sponsorship Opportunities</b></span></span><br />\nIf you are interested in being a sponsor for this event\, please contact events@thequietresorts.com</span></span><br background-color:="" font-size:="" style="color: rgb(51\, 51\, 51)\; font-family: sans-serif\, Arial\, Verdana\, " trebuchet="" />\n<br background-color:="" font-size:="" style="color: rgb(51\, 51\, 51)\; font-family: sans-serif\, Arial\, Verdana\, " trebuchet="" />\n<span background-color:="" font-size:="" style="color: rgb(51\, 51\, 51)\; font-family: sans-serif\, Arial\, Verdana\, " trebuchet=""><span style="font-family: arial\;"><a href="https://chambermaster.blob.core.windows.net/userfiles/UserFiles/chambers/2126/File/Old_Timers/2019Sponsorship-OTD1.pdf" style="color: rgb(7\, 130\, 193)\;" target="_blank">Sponsorship Opportunities</a></span></span><br />\n<br />\n<strong style="color: rgb(178\, 34\, 34)\; font-family: arial\; font-size: 16px\;">Volunteers</strong><br />\n<font color="#000000" face="arial"><span style="font-size: 14px\;">Volunteer opportunities can be found <a href="https://chambermaster.blob.core.windows.net/userfiles/UserFiles/chambers/2126/File/Old_Timers/2022/VolunteerForm.pdf">here.</a> </span></font></p>\n
LOCATION:W. Church Street Selbyville\, DE 19975
UID:e.2126.23449
SEQUENCE:3
DTSTAMP:20260422T001115Z
URL:http://business.thequietresorts.com/events/details/65th-annual-old-timer-s-day-classic-car-show-family-festival-23449
END:VEVENT

END:VCALENDAR
