BEGIN:VCALENDAR
VERSION:2.0
PRODID:-//ChamberMaster//Event Calendar 2.0//EN
METHOD:PUBLISH
X-PUBLISHED-TTL:P3D
REFRESH-INTERVAL:P3D
CALSCALE:GREGORIAN
BEGIN:VEVENT
DTSTART:20210619T120000Z
DTEND:20210619T190000Z
X-MICROSOFT-CDO-ALLDAYEVENT:FALSE
SUMMARY:64th Annual Old Timer's Day Classic Car Show & Family Festival
DESCRIPTION:The Town of Selbyville and the Bethany-Fenwick Area Chamber of Commerce travel back in time as they celebrate tradition and the classics. Now in its 64th year\, vehicles from 1991 and earlier line Church Street in Selbyville for their shot at "Best in Show" while socializing with other classic fanatics. A live band\, vendors\, and activities round out the festivities. Fun for all ages\, don't miss this family-friendly event! All CDC guidelines will be followed.\n\n\n\nIf you would prefer to fill out a paper registration form\, please click here and return to events@thequietresorts.com.\n\n\n\nFirst 100 Vehicles\n\nBe one of the first 100 registered and receive a complimentary Old Timers Day gift sponsored by Murray Sod\n\n\n\nEarly Bird Registration\n\nRegister by Thursday\, June 17\, to receive a $5 voucher to Synergy Cafe in downtown Selbyville.\n\nCome for the Cars\, Stay for the Fun!\n\n\n	Live Music with the Glass Onion Band sponsored by Mountaire Farms\n	 Children's & Family Friendly Activities\n	\n		 Fire truck rides provided by the Selbyville Volunteer Fire Company\n		Inflatable sports games sponsored by McDonald's\n		Inflatable obstacle course sponsored by Rt. 113 Boat Sales\n		Tours at the Railroad Station Museum\n	\n	\n	Selbyville Public Library Summer Reading Program Signup\n	\n		 Come visit your friends from the Selbyville Public Library at their table during Old Timers Day! They will offer on-the-spot registration for the Summer Reading Program\, book giveaways for the registrants\, and crafts for kids. Additional information will be available about their plans for the summer\, including fun activities and lunches-all for free!\n	\n	\n	Vendors\n	\n		 Rita's Italian Ice\n		Selbyville Volunteer Fire Company Auxiliary\n		Blazen Grill\n		Traci's Treats\n		Meghan's Collection\n		Milt Green Children's Toys & Games\n		The Selbyville Community Club\n		Pink Zebra\n		The BeeHive\n		Hohman's Concessions\n	\n	\n\n\n\nBeer Garden\n\nBack once again\, the 64th Annual Old Timers Day event will feature a pop-up beer garden\, sponsored by Banks Wines & Spirits and Lord's Landscaping. Come join us from 10:00 am - 3:00 pm to enjoy some beer and all of the beautiful vehicles on display.\n\nCar Show Info\n\nRegistration Info\n\nVehicle Registration = $10\n\nPre-register by June 17 to receive a $5 voucher to Synergy Cafe\n\n\n\nAwards Info\n\nBest Overall Car/Truck sponsored by West Fenwick Car Wash: $100 cash prize\n\nPeople's Choice Award sponsored by State Farm - Billy Reese: $100 cash prize\n\n\n\nBy the Decade Awards:\n\nBest Interior Award sponsored by WSFS Bank\n\nBest Exterior Award sponsored by Bishop-Hastings Funeral Home\n\nBest Engine Award sponsored by James K. Kramer\, DMD\, MAGD\n\nOldest of the Old Timers Award\n\nDay-of Timeline\n\n8:00-10:00 am              On-site Vehicle Registration & Pre-Registered Vehicle Check-in               \n\n10:00 am - 12:00 pm     Judging Begins                               \n\n10:00 am - 2:00 pm       Family-friendly activities\n\n11:00 am - 2:00 pm       Music provided by the Glass Onion Band                                                 \n\n2:00 pm                         Award Ceremony\n\n*Check back the week of the event for a full schedule of events*                                       \n\n\n\nParking \n\nOld Timer's Day classic car registrants will be parked along Church Street in Selbyville.\n\nGuest & family parking is available on all side streets\, Southern Delaware School for the Arts and municipal lots.\n\nHandicap parking is reserved by Town Hall and the municipal lot on Main St.\n\n\n\nVolunteers\n\nIf you would like to assist the Chamber and volunteer for this event\, please click here. If you would like to complete a paper form\, place click here and return the form to events@thequietresorts.com. All volunteers will receive a $10 voucher to Synergy Cafe.
X-ALT-DESC;FMTTYPE=text/html:<p><span style="font-size: 14px\;"><span style="font-family: arial\;">The Town of Selbyville and the Bethany-Fenwick Area Chamber of Commerce travel back in time as they celebrate tradition and the classics. Now in its 64<sup>th</sup>&nbsp\;year\, vehicles&nbsp\;from 1991&nbsp\;and earlier line Church Street in Selbyville for their shot at &quot\;Best in Show&quot\;&nbsp\;while socializing with other classic fanatics. A live band\, vendors\, and activities round out the festivities. Fun for all ages\, don&#39\;t miss this family-friendly&nbsp\;event! All CDC guidelines will be followed.<br />\n<br />\nIf you would prefer&nbsp\;to fill out a paper registration form\, please <strong><a href="https://chambermaster.blob.core.windows.net/userfiles/UserFiles/chambers/2126/File/Old_Timers/2021/Registration_Form/2021OTDReg_Waiver.pdf" target="_blank">click here</a>&nbsp\;</strong>and return&nbsp\;to events@thequietresorts.com.</span></span><br />\n<br />\n<span style="font-family:arial\;"><b style="color: rgb(165\, 42\, 42)\; font-family: arial\; font-size: 14px\;"><span style="font-size: 16px\;">First 100 Vehicles</span></b></span><br />\n<span style="font-size: 14px\;"><span style="font-family: arial\;">Be one of the first 100 registered and receive a complimentary Old Timers Day gift sponsored by Murray Sod</span></span><br />\n<br />\n<b style="font-family: arial\; color: rgb(165\, 42\, 42)\; font-size: 14px\;"><span style="font-size: 16px\;">Early Bird Registration</span></b><br />\n<span style="font-size: 14px\;"><span style="font-family: arial\;">Register by <strong>Thursday\, June 17</strong>\, to receive a $5 voucher to Synergy Cafe in downtown Selbyville.</span></span></p>\n\n<p><span style="color: rgb(178\, 34\, 34)\;"><b style="color: rgb(165\, 42\, 42)\; font-family: arial\; font-size: 14px\;"><span style="font-size: 16px\;">Come for the Cars\, Stay for the Fun!</span></b></span></p>\n\n<ul>\n	<li><span style="font-family: arial\; font-size: 14px\; background-color: transparent\; font-variant-numeric: normal\; font-variant-east-asian: normal\;">Live Music with the Glass Onion Band sponsored by Mountaire Farms</span></li>\n	<li><span style="font-size: 14px\;"><span style="font-family: arial\;">&#8203\;Children&#39\;s &amp\; Family Friendly Activitie<span style="font-size: 14px\;"><span style="font-family: arial\;">s</span></span></span></span>\n	<ul>\n		<li><span style="font-size: 14px\;"><span style="font-family: arial\;"><span style="font-size: 14px\;"><span style="font-family: arial\;">&#8203\;Fire truck rides provided by the Selbyville Volunteer Fire Company</span></span></span></span></li>\n		<li><span style="font-size: 14px\;"><span style="font-family: arial\;"><span style="font-size: 14px\;"><span style="font-family: arial\;">Inflatable sports games sponsored by McDonald&#39\;s</span></span></span></span></li>\n		<li><span style="font-size: 14px\;"><span style="font-family: arial\;"><span style="font-size: 14px\;"><span style="font-family: arial\;">Inflatable obstacle course sponsored by Rt. 113 Boat Sales</span></span></span></span></li>\n		<li><span style="font-size: 14px\;"><span style="font-family: arial\;">Tours at the Railroad Station Museum</span></span></li>\n	</ul>\n	</li>\n	<li><span style="font-size: 14px\;"><span style="font-family: arial\;">Selbyville Public Library Summer Reading Program Signup</span></span>\n	<ul>\n		<li><span style="font-size: 14px\;"><span style="font-family: arial\;">&#8203\;Come visit your friends from the Selbyville Public Library at their table during Old Timers Day! They will offer on-the-spot registration for the Summer Reading Program\, book giveaways for the registrants\, and crafts for kids. Additional information will be available about their plans for the summer\, including fun activities and lunches-all for free!</span></span></li>\n	</ul>\n	</li>\n	<li><span style="font-size: 14px\;"><span style="font-family: arial\;">Vendors</span></span>\n	<ul>\n		<li><span style="font-size: 14px\;"><span style="font-family: arial\;">&#8203\;Rita&#39\;s Italian Ice</span></span></li>\n		<li><span style="font-size: 14px\;"><span style="font-family: arial\;">Selbyville Volunteer Fire Company Auxiliary</span></span></li>\n		<li><span style="font-size: 14px\;"><span style="font-family: arial\;">Blazen Grill</span></span></li>\n		<li><span style="font-size: 14px\;"><span style="font-family: arial\;">Traci&#39\;s Treats</span></span></li>\n		<li><span style="font-size: 14px\;"><span style="font-family: arial\;">Meghan&#39\;s Collection</span></span></li>\n		<li><span style="font-size: 14px\;"><span style="font-family: arial\;">Milt Green Children&#39\;s Toys &amp\; Games</span></span></li>\n		<li><span style="font-size: 14px\;"><span style="font-family: arial\;">The Selbyville Community Club</span></span></li>\n		<li><span style="font-size: 14px\;"><span style="font-family: arial\;">Pink Zebra</span></span></li>\n		<li><span style="font-size: 14px\;"><span style="font-family: arial\;">The BeeHive</span></span></li>\n		<li><span style="font-size: 14px\;"><span style="font-family: arial\;">Hohman&#39\;s Concessions</span></span></li>\n	</ul>\n	</li>\n</ul>\n<br />\n<span style="font-family: arial\; box-sizing: content-box\; inset: auto\; clear: none\; color: rgb(178\, 34\, 34)\; content: normal\; direction: inherit\; empty-cells: show\; font-variant-numeric: inherit\; font-variant-east-asian: inherit\; font-stretch: inherit\; font-size: 14px\; line-height: inherit\; margin: 0px\; max-height: none\; max-width: none\; min-height: initial\; min-width: initial\; opacity: 1\; outline-offset: 0px\; overflow: visible\; padding: 0px\; position: static\; resize: none\; table-layout: auto\; text-overflow: clip\; vertical-align: baseline\; visibility: inherit\; word-break: inherit\; overflow-wrap: inherit\; z-index: auto\; background-image: none\; background-position: initial\; background-size: initial\; background-repeat: initial\; background-attachment: initial\; background-origin: initial\; background-clip: initial\; border-width: initial\; border-style: none\; border-color: initial\; border-collapse: separate\; border-image: none 100% 1 0 / 1 / 0 stretch\; border-radius: 0px\; height: auto\; width: auto\; box-shadow: none\;"><span style="font-family: inherit\; box-sizing: content-box\; font-weight: bolder\; inset: auto\; clear: none\; color: inherit\; content: normal\; direction: inherit\; empty-cells: show\; font-style: inherit\; font-variant: inherit\; font-stretch: inherit\; font-size: inherit\; letter-spacing: inherit\; line-height: inherit\; margin: 0px\; max-height: none\; max-width: none\; min-height: initial\; min-width: initial\; opacity: 1\; outline-offset: 0px\; overflow: visible\; padding: 0px\; position: static\; resize: none\; table-layout: auto\; text-align: inherit\; text-indent: inherit\; text-overflow: clip\; text-transform: inherit\; vertical-align: baseline\; visibility: inherit\; white-space: inherit\; word-break: inherit\; word-spacing: inherit\; overflow-wrap: inherit\; z-index: auto\; background: none\; border-width: initial\; border-style: none\; border-color: initial\; border-collapse: separate\; border-image: none 100% 1 0 / 1 / 0 stretch\; border-radius: 0px\; height: auto\; width: auto\; box-shadow: none\;"><span style="font-family: inherit\; box-sizing: content-box\; inset: auto\; clear: none\; color: inherit\; content: normal\; direction: inherit\; empty-cells: show\; font-style: inherit\; font-variant: inherit\; font-weight: inherit\; font-stretch: inherit\; font-size: 16px\; letter-spacing: inherit\; line-height: inherit\; margin: 0px\; max-height: none\; max-width: none\; min-height: initial\; min-width: initial\; opacity: 1\; outline-offset: 0px\; overflow: visible\; padding: 0px\; position: static\; resize: none\; table-layout: auto\; text-align: inherit\; text-indent: inherit\; text-overflow: clip\; text-transform: inherit\; vertical-align: baseline\; visibility: inherit\; white-space: inherit\; word-break: inherit\; word-spacing: inherit\; overflow-wrap: inherit\; z-index: auto\; background: none\; border-width: initial\; border-style: none\; border-color: initial\; border-collapse: separate\; border-image: none 100% 1 0 / 1 / 0 stretch\; border-radius: 0px\; height: auto\; width: auto\; box-shadow: none\;">Beer Garden</span></span></span><br style="font-family: arial\; box-sizing: content-box\; inset: auto\; clear: none\; color: rgb(37\, 32\, 26)\; content: normal\; direction: inherit\; display: inline\; empty-cells: show\; float: none\; font-variant-numeric: inherit\; font-variant-east-asian: inherit\; font-stretch: inherit\; font-size: 14px\; line-height: inherit\; margin: 0px\; max-height: none\; max-width: none\; min-height: initial\; min-width: initial\; opacity: 1\; outline-offset: 0px\; overflow: visible\; padding: 0px\; position: static\; resize: none\; table-layout: auto\; text-overflow: clip\; vertical-align: baseline\; visibility: inherit\; word-break: inherit\; overflow-wrap: inherit\; z-index: auto\; background-image: none\; background-position: initial\; background-size: initial\; background-repeat: initial\; background-attachment: initial\; background-origin: initial\; background-clip: initial\; border-width: initial\; border-style: none\; border-color: initial\; border-collapse: separate\; border-image: none 100% 1 0 / 1 / 0 stretch\; border-radius: 0px\; height: auto\; width: auto\;" />\n<span style="font-family: arial\; box-sizing: content-box\; inset: auto\; clear: none\; color: rgb(37\, 32\, 26)\; content: normal\; direction: inherit\; empty-cells: show\; font-variant-numeric: inherit\; font-variant-east-asian: inherit\; font-stretch: inherit\; font-size: 16px\; line-height: inherit\; margin: 0px\; max-height: none\; max-width: none\; min-height: initial\; min-width: initial\; opacity: 1\; outline-offset: 0px\; overflow: visible\; padding: 0px\; position: static\; resize: none\; table-layout: auto\; text-overflow: clip\; vertical-align: baseline\; visibility: inherit\; word-break: inherit\; overflow-wrap: inherit\; z-index: auto\; background-image: none\; background-position: initial\; background-size: initial\; background-repeat: initial\; background-attachment: initial\; background-origin: initial\; background-clip: initial\; border-width: initial\; border-style: none\; border-color: initial\; border-collapse: separate\; border-image: none 100% 1 0 / 1 / 0 stretch\; border-radius: 0px\; height: auto\; width: auto\; box-shadow: none\;"><span style="font-family: inherit\; box-sizing: content-box\; inset: auto\; clear: none\; color: inherit\; content: normal\; direction: inherit\; empty-cells: show\; font-style: inherit\; font-variant: inherit\; font-weight: inherit\; font-stretch: inherit\; font-size: 14px\; letter-spacing: inherit\; line-height: inherit\; margin: 0px\; max-height: none\; max-width: none\; min-height: initial\; min-width: initial\; opacity: 1\; outline-offset: 0px\; overflow: visible\; padding: 0px\; position: static\; resize: none\; table-layout: auto\; text-align: inherit\; text-indent: inherit\; text-overflow: clip\; text-transform: inherit\; vertical-align: baseline\; visibility: inherit\; white-space: inherit\; word-break: inherit\; word-spacing: inherit\; overflow-wrap: inherit\; z-index: auto\; background: none\; border-width: initial\; border-style: none\; border-color: initial\; border-collapse: separate\; border-image: none 100% 1 0 / 1 / 0 stretch\; border-radius: 0px\; height: auto\; width: auto\; box-shadow: none\;">Back once again\, the 64th Annual Old Timers Day event will feature a pop-up beer garden\, sponsored by Banks Wines &amp\; Spirits and Lord&#39\;s Landscaping. Come join us from 10:00 am - 3:00 pm to enjoy some beer and all of the beautiful vehicles on display.</span></span>\n\n<p><b style="color: rgb(178\, 34\, 34)\; font-family: arial\; font-size: 14px\;"><span style="font-size: 16px\;">Car Show Info</span></b><br />\n<span style="font-size: 14px\;"><span style="font-family: arial\;"><span new="" style="line-height: 107%\; mso-fareast-font-family: Calibri\; mso-fareast-theme-font: minor-latin\;" times=""><span style="color: rgb(0\, 128\, 128)\;"><b>Registration Info</b></span><br />\n<font color="#000000">Vehicle Registration =&nbsp\;$10<br />\nPre-register by June 17 to receive a $5 voucher to Synergy Cafe</font></span><br />\n<br />\n<span new="" times=""><span style="color: rgb(178\, 34\, 34)\;"><strong><span style="font-size: 16px\;">Awards Info</span></strong></span></span><br />\n<span new="" style="line-height: 107%\; mso-fareast-font-family: Calibri\; mso-fareast-theme-font: minor-latin\;" times=""><font color="#000000">Best Overall Car/Truck sponsored by West Fenwick Car Wash: $100 cash prize<br />\nPeople&#39\;s Choice Award sponsored by State Farm - Billy Reese: $100 cash prize<br />\n<br />\nBy the Decade Awards:<br />\nBest Interior Award sponsored by WSFS Bank<br />\nBest Exterior Award sponsored by Bishop-Hastings Funeral Home<br />\nBest Engine Award sponsored by James K. Kramer\, DMD\, MAGD<br />\nOldest of the Old Timers Award</font></span></span></span></p>\n\n<p><span style="font-size: 14px\;"><span style="color: rgb(0\, 128\, 128)\;"><span style="font-family: arial\;"><span new="" style="line-height: 107%\; mso-fareast-font-family: Calibri\; mso-fareast-theme-font: minor-latin\;" times=""><strong>Day-of Timeline</strong></span></span></span><br />\n<font face="arial">8:00-10:00 am</font></span>&nbsp\; &nbsp\;&nbsp\;&nbsp\;&nbsp\;&nbsp\;&nbsp\;&nbsp\;&nbsp\;&nbsp\;&nbsp\;&nbsp\;&nbsp\;<span style="font-size: 14px\;"><font face="arial">On-site Vehicle&nbsp\;Registration &amp\; Pre-Registered Vehicle Check-in&nbsp\; &nbsp\; &nbsp\; &nbsp\; &nbsp\; &nbsp\; &nbsp\; &nbsp\;<br />\n10:00 am - 12:00 pm&nbsp\;</font></span>&nbsp\;&nbsp\;&nbsp\;&nbsp\;<span style="font-size: 14px\;"><font face="arial">Judging Begins&nbsp\;&nbsp\;&nbsp\;&nbsp\;&nbsp\;&nbsp\;&nbsp\;&nbsp\;&nbsp\;&nbsp\;&nbsp\;&nbsp\;&nbsp\;&nbsp\;&nbsp\;&nbsp\;&nbsp\;&nbsp\;&nbsp\;&nbsp\;&nbsp\;&nbsp\;&nbsp\;&nbsp\;&nbsp\;&nbsp\;&nbsp\;&nbsp\;&nbsp\;&nbsp\;&nbsp\;</font></span><br />\n<span style="font-size: 14px\;"><font face="arial">10:00 am - 2:00 pm&nbsp\; &nbsp\; &nbsp\; &nbsp\;Family-friendly activities<br />\n11:00 am - 2:00 pm&nbsp\; &nbsp\; &nbsp\; &nbsp\;Music provided by the Glass Onion Band&nbsp\; &nbsp\; &nbsp\; &nbsp\; &nbsp\; &nbsp\; &nbsp\; &nbsp\; &nbsp\; &nbsp\; &nbsp\; &nbsp\; &nbsp\; &nbsp\; &nbsp\; &nbsp\; &nbsp\; &nbsp\; &nbsp\; &nbsp\; &nbsp\; &nbsp\; &nbsp\; &nbsp\; &nbsp\;<br />\n2:00 pm&nbsp\; &nbsp\; &nbsp\; &nbsp\; &nbsp\; &nbsp\; &nbsp\; &nbsp\; &nbsp\; &nbsp\; &nbsp\; &nbsp\; &nbsp\;Award Ceremony<br />\n<em>*Check back the week of the event for a full schedule of events*</em>&nbsp\; &nbsp\;</font>&nbsp\; &nbsp\; &nbsp\; &nbsp\; &nbsp\; &nbsp\;<span style="font-family: arial\;">&nbsp\; &nbsp\; &nbsp\; &nbsp\; &nbsp\; &nbsp\; &nbsp\; &nbsp\; &nbsp\; &nbsp\; &nbsp\; &nbsp\; &nbsp\;</span></span><br />\n<br />\n<span style="font-size: 14px\;"><span style="font-family: arial\;"><span new="" style="line-height: 107%\; mso-fareast-font-family: Calibri\; mso-fareast-theme-font: minor-latin\;" times=""><span style="color: rgb(178\, 34\, 34)\;"><span style="font-size: 16px\;"><strong>Parking&nbsp\;</strong></span></span><br />\n<font color="#000000"><em>Old Timer&#39\;s Day classic car registrants</em> will be parked along Church Street in Selbyville.<br />\n<em>Guest &amp\; family</em>&nbsp\;parking is available on all side streets\, Southern Delaware School for the Arts&nbsp\;and municipal lots.<br />\n<em>Handicap</em> parking is reserved by Town Hall and the municipal lot on Main St.</font></span></span></span><br />\n<br />\n<strong style="color: rgb(178\, 34\, 34)\; font-family: arial\; font-size: 16px\;">Volunteers</strong><br />\n<span style="color: rgb(0\, 0\, 0)\; font-family: arial\; font-size: 14px\;">If you would like to assist the Chamber and volunteer for this event\, please <strong><a href="https://www.signupgenius.com/go/60B0B4CA9AB22A1FC1-64th" target="_blank">click here</a></strong>. If you would like to complete a paper form\, place <a href="https://chambermaster.blob.core.windows.net/userfiles/UserFiles/chambers/2126/File/Old_Timers/2021/Volunteers/OldTimersDayPaperVolunteerForm.pdf" target="_blank"><strong>click here</strong></a>&nbsp\;and return the form to events@thequietresorts.com. All volunteers will receive a $10 voucher to Synergy Cafe.</span></p>\n
LOCATION:W. Church Street Selbyville\, DE 19975
UID:e.2126.21952
SEQUENCE:3
DTSTAMP:20260424T192232Z
URL:http://business.thequietresorts.com/events/details/64th-annual-old-timer-s-day-classic-car-show-family-festival-21952
END:VEVENT

END:VCALENDAR
