BEGIN:VCALENDAR
VERSION:2.0
PRODID:-//ChamberMaster//Event Calendar 2.0//EN
METHOD:PUBLISH
X-PUBLISHED-TTL:P3D
REFRESH-INTERVAL:P3D
CALSCALE:GREGORIAN
BEGIN:VEVENT
DTSTART:20200815T120000Z
DTEND:20200815T190000Z
X-MICROSOFT-CDO-ALLDAYEVENT:FALSE
SUMMARY:63rd Annual Old Timer's Day Classic Car Show & Family Festival - CANCELED
DESCRIPTION:Attention: Due to the COVID-19 pandemic\, the Town of Selbyville and the Bethany-Fenwick Area Chamber of Commerce have come to the decision to cancel the 63rd Annual Old Timers Day Classic Car Show & Family Festival. We look forward to seeing everyone again in 2021 on our regular June date. Be safe and stay healthy.\n\n\n\nThe Town of Selbyville and the Bethany-Fenwick Area Chamber of Commerce travel back in time as they celebrate tradition and the classics. Now in its 63rd year\, cars\, trucks and emergency vehicles from 1990 and earlier line Church Street in Selbyville for their shot at "Best in Show" while socializing with other classic fanatics. A live band\, vendors\, and children's activities from fire truck rides to a bounce house round out the festivities. Fun for all ages\, don't miss this family-friendly event!\n\n\n\nBe one of the first 100 registered and receive a complimentary Old Timers Day gift sponsored by Murray Sod Farm.\n\nCome for the Cars\, Stay for the Fun!\n\n\n	Beer Garden provided by Crooked Hammock Brewery\n	Miss Old Timers Day Pin-Up Contest\n	Live Music provided by the Glass Onion Band\n	 Children's & Family Friendly Activities\n\n\nBeer Garden\n\nBack by popular demand\, Old Timers Day will feature a pop-up beer garden sponsored by Crooked Hammock Brewery. Come join us from 11:00  am - 3:00 pm to enjoy some beer and all of the beautiful cars & trucks on display. The beer garden will include food provided by Taco Reho.\n\n\n\nMiss Old Timer's Day Car Show Pin-Up Contest\n\nBack by popular demand\, the Bethany-Fenwick Area Chamber of Commerce is teaming up with Heather's Home Works and April Brilliant to put together the 2nd Annual Miss Old Timer's Day Pin-Up Contest. Women ages 18 and up will arrive dressed in 1940's & 50's classic attire to take a step back in time. More information will be posted as it is confirmed.\n\n            1st Place: $100\n\n            2nd Place: $50\n\n            3rd Place: $25\n\nCar Show Info\n\nRegistration Info\n\nVehicle Registration = $10 \n\n\n\nAwards Info\n\nBest Overall Car/Truck sponsored by West Fenwick Car Wash\n\nPeople's Choice Award\n\n\n\nBy the Decade Awards:\n\nBest Interior Award sponsored by WSFS Bank\n\nBest Exterior Award sponsored by Bishop-Hastings Funeral Home\n\nBest Engine Award sponsored by James K. Kramer\, DMD\, MAGD\n\nOldest of the Old Timers Award\n\nDay-of Timeline\n\n8:00-10:00 am                On-site Vehicle Registration & Pre-Registered Vehicle Check-in               \n\n10:00 am - 12:00 pm     Judging Begins                               \n\n1:00-1:30 pm                  Score Tally                                                       \n\n2:00 pm                         Award Ceremony                                          \n\n\n\nParking \n\nOld Timer's Day registrants will be parked along Church Street in Selbyville.\n\nGuest & family parking is available on all side streets and municipal lots.\n\nHandicap parking is reserved by Town Hall.\n\nGolf carts will run from 1 W Church St. to Railroad & School Ln to Church St.
X-ALT-DESC;FMTTYPE=text/html:<p><span style="font-size: 14px\;"><span style="font-family: arial\;"><span style="color: rgb(255\, 0\, 0)\;"><strong>Attention: Due to the COVID-19 pandemic\, the Town of Selbyville and the Bethany-Fenwick Area Chamber of Commerce have come to the decision to cancel the 63rd Annual Old Timers Day Classic Car Show &amp\; Family Festival. We look forward to seeing everyone again in 2021 on our regular June date. Be safe and stay healthy.</strong></span><br />\n<br />\nThe Town of Selbyville and the Bethany-Fenwick Area Chamber of Commerce travel back in time as they celebrate tradition and the classics. Now in its 63<sup>rd</sup> year\, cars\, trucks and emergency vehicles from 1990 and earlier line Church Street in Selbyville for their shot at &quot\;Best in Show&quot\;&nbsp\;while socializing with other classic fanatics. A live band\, vendors\, and children&#39\;s activities from fire truck rides to a bounce house round out the festivities. Fun for all ages\, don&#39\;t miss this family-friendly&nbsp\;event!</span></span><br />\n<br />\n<span style="font-size: 14px\;"><span style="font-family: arial\;">Be one of the first 100 registered and receive a complimentary Old Timers Day gift sponsored by Murray Sod Farm.</span></span></p>\n\n<p><span style="color: rgb(178\, 34\, 34)\;"><b style="color: rgb(165\, 42\, 42)\; font-family: arial\; font-size: 14px\;"><span style="font-size: 16px\;">Come for the Cars\, Stay for the Fun!</span></b></span></p>\n\n<ul>\n	<li><span style="font-size: 14px\;"><span style="font-family: arial\;">Beer Garden provided by Crooked Hammock Brewery</span></span></li>\n	<li><span style="font-family: arial\; font-size: 14px\; background-color: transparent\; font-variant-numeric: normal\; font-variant-east-asian: normal\;">Miss Old Timers Day Pin-Up Contest</span></li>\n	<li><span style="font-family: arial\; font-size: 14px\; background-color: transparent\; font-variant-numeric: normal\; font-variant-east-asian: normal\;">Live Music provided by&nbsp\;the Glass Onion Band</span></li>\n	<li><span style="font-size: 14px\;"><span style="font-family: arial\;">&#8203\;Children&#39\;s &amp\; Family Friendly Activities</span></span></li>\n</ul>\n\n<p><span style="color: rgb(178\, 34\, 34)\; font-family: arial\; font-size: 14px\;"><strong><span style="font-size: 16px\;">Beer Garden</span></strong></span><br style="font-family: arial\; font-size: 14px\;" />\n<span style="font-family: arial\; font-size: 16px\;"><span style="font-size: 14px\;">Back by popular demand\, Old Timers Day will feature a pop-up beer garden sponsored by Crooked Hammock Brewery. Come join us from 11:00&nbsp\; am - 3:00 pm to enjoy some beer and all of the beautiful cars &amp\; trucks on display. The beer garden will include food provided by Taco Reho.</span></span><br />\n<br />\n<span style="color: rgb(178\, 34\, 34)\;"><span style="font-family: arial\; font-size: 14px\; background-color: transparent\; font-variant-numeric: normal\; font-variant-east-asian: normal\;"><span style="font-size: 16px\;"><b>Miss Old Timer&#39\;s Day Car Show Pin-Up Contest</b></span></span></span><br />\n<span style="font-size: 14px\;"><span style="font-family: arial\;">Back by popular demand\, the Bethany-Fenwick Area Chamber of Commerce is teaming up with Heather&#39\;s Home Works&nbsp\;and April Brilliant to put together the 2nd Annual Miss Old Timer&#39\;s Day Pin-Up Contest. Women ages 18 and up will arrive dressed in 1940&#39\;s &amp\; 50&#39\;s classic attire to take a step back in time. More information will be posted as it is confirmed.</span></span><br />\n&nbsp\;&nbsp\;&nbsp\;&nbsp\;&nbsp\;&nbsp\;&nbsp\;&nbsp\;&nbsp\;&nbsp\;&nbsp\;&nbsp\;<span style="font-size: 14px\;"><span style="font-family: arial\;">1st Place: $100<br />\n&nbsp\;&nbsp\;&nbsp\;&nbsp\;&nbsp\;&nbsp\;&nbsp\;&nbsp\;&nbsp\;&nbsp\;&nbsp\;&nbsp\;2nd Place: $50<br />\n&nbsp\;&nbsp\;&nbsp\;&nbsp\;&nbsp\;&nbsp\;&nbsp\;&nbsp\;&nbsp\;&nbsp\;&nbsp\;&nbsp\;3rd Place: $25</span></span></p>\n\n<p><span style="font-size: 14px\;"><span style="font-family: arial\;"><span new="" style="line-height: 107%\; mso-fareast-font-family: Calibri\; mso-fareast-theme-font: minor-latin\;" times=""><span style="color: rgb(178\, 34\, 34)\;"><b><span style="font-size: 16px\;">Car Show Info</span></b></span><br />\n<span style="color: rgb(0\, 128\, 128)\;"><b>Registration Info</b></span><br />\n<font color="#000000">Vehicle Registration =&nbsp\;$10&nbsp\;</font></span><br />\n<br />\n<span new="" times=""><span style="color: rgb(178\, 34\, 34)\;"><strong><span style="font-size: 16px\;">Awards Info</span></strong></span></span><br />\n<span new="" style="line-height: 107%\; mso-fareast-font-family: Calibri\; mso-fareast-theme-font: minor-latin\;" times=""><font color="#000000">Best Overall Car/Truck sponsored by West Fenwick Car Wash<br />\nPeople&#39\;s Choice Award<br />\n<br />\nBy the Decade Awards:<br />\nBest Interior Award sponsored by WSFS Bank<br />\nBest Exterior Award sponsored by Bishop-Hastings Funeral Home<br />\nBest Engine Award sponsored by James K. Kramer\, DMD\, MAGD<br />\nOldest of the Old Timers Award</font></span></span></span></p>\n\n<p><span style="font-size: 14px\;"><span style="color: rgb(0\, 128\, 128)\;"><span style="font-family: arial\;"><span new="" style="line-height: 107%\; mso-fareast-font-family: Calibri\; mso-fareast-theme-font: minor-latin\;" times=""><strong>Day-of Timeline</strong></span></span></span><br />\n<font face="arial">8:00-10:00 am</font></span>&nbsp\; &nbsp\;&nbsp\;&nbsp\;&nbsp\;&nbsp\;&nbsp\;&nbsp\;&nbsp\;&nbsp\;&nbsp\;&nbsp\;&nbsp\;&nbsp\;&nbsp\;<span style="font-size: 14px\;"><font face="arial">On-site Vehicle&nbsp\;Registration &amp\; Pre-Registered Vehicle Check-in&nbsp\; &nbsp\; &nbsp\; &nbsp\; &nbsp\; &nbsp\; &nbsp\; &nbsp\;<br />\n10:00 am - 12:00 pm&nbsp\;</font></span>&nbsp\;&nbsp\;&nbsp\;&nbsp\;<span style="font-size: 14px\;"><font face="arial">Judging Begins&nbsp\;&nbsp\;&nbsp\;&nbsp\;&nbsp\;&nbsp\;&nbsp\;&nbsp\;&nbsp\;&nbsp\;&nbsp\;&nbsp\;&nbsp\;&nbsp\;&nbsp\;&nbsp\;&nbsp\;&nbsp\;&nbsp\;&nbsp\;&nbsp\;&nbsp\;&nbsp\;&nbsp\;&nbsp\;&nbsp\;&nbsp\;&nbsp\;&nbsp\;&nbsp\;&nbsp\;<br />\n1:00-1:30 pm</font></span>&nbsp\; &nbsp\;&nbsp\;&nbsp\;&nbsp\;&nbsp\;&nbsp\;&nbsp\;&nbsp\;&nbsp\;&nbsp\;&nbsp\;&nbsp\;&nbsp\;&nbsp\;&nbsp\;&nbsp\;<span style="font-size: 14px\;"><font face="arial">Score Tally&nbsp\;&nbsp\;&nbsp\;&nbsp\;&nbsp\;&nbsp\;&nbsp\;&nbsp\;&nbsp\;&nbsp\;&nbsp\;&nbsp\;&nbsp\;&nbsp\;&nbsp\;&nbsp\;&nbsp\;&nbsp\;&nbsp\;&nbsp\;&nbsp\;&nbsp\;&nbsp\;&nbsp\;&nbsp\;&nbsp\;&nbsp\;&nbsp\;&nbsp\;&nbsp\;&nbsp\;&nbsp\;&nbsp\;&nbsp\;&nbsp\;&nbsp\;&nbsp\;&nbsp\;&nbsp\;&nbsp\;&nbsp\;&nbsp\;&nbsp\;&nbsp\;&nbsp\;&nbsp\;&nbsp\;&nbsp\;&nbsp\;&nbsp\;&nbsp\;&nbsp\;&nbsp\;&nbsp\;&nbsp\;<br />\n2:00 pm&nbsp\; &nbsp\; &nbsp\; &nbsp\; &nbsp\; &nbsp\; &nbsp\; &nbsp\; &nbsp\; &nbsp\; &nbsp\; &nbsp\; &nbsp\;Award Ceremony&nbsp\; &nbsp\; &nbsp\; </font>&nbsp\; &nbsp\; &nbsp\; &nbsp\; &nbsp\; &nbsp\;<span style="font-family: arial\;">&nbsp\; &nbsp\; &nbsp\; &nbsp\; &nbsp\; &nbsp\; &nbsp\; &nbsp\; &nbsp\; &nbsp\; &nbsp\; &nbsp\; &nbsp\;</span></span><br />\n<br />\n<span style="font-size: 14px\;"><span style="font-family: arial\;"><span new="" style="line-height: 107%\; mso-fareast-font-family: Calibri\; mso-fareast-theme-font: minor-latin\;" times=""><span style="color: rgb(178\, 34\, 34)\;"><span style="font-size: 16px\;"><strong>Parking&nbsp\;</strong></span></span><br />\n<font color="#000000"><em>Old Timer&#39\;s Day registrants</em> will be parked along Church Street in Selbyville.<br />\n<em>Guest &amp\; family</em>&nbsp\;parking is available on all side streets and municipal lots.<br />\n<em>Handicap</em> parking is reserved by Town Hall.</font><br />\nGolf carts will run from 1 W Church St. to Railroad &amp\; School Ln to Church St.</span></span></span></p>\n
LOCATION:W. Church Street Selbyville\, DE 19975
UID:e.2126.19418
SEQUENCE:3
DTSTAMP:20260425T145418Z
URL:http://business.thequietresorts.com/events/details/63rd-annual-old-timer-s-day-classic-car-show-family-festival-canceled-19418
END:VEVENT

END:VCALENDAR
