BEGIN:VCALENDAR
VERSION:2.0
PRODID:-//ChamberMaster//Event Calendar 2.0//EN
METHOD:PUBLISH
X-PUBLISHED-TTL:P3D
REFRESH-INTERVAL:P3D
CALSCALE:GREGORIAN
BEGIN:VEVENT
DTSTART:20231202T000000Z
DTEND:20231202T020000Z
X-MICROSOFT-CDO-ALLDAYEVENT:FALSE
SUMMARY:62nd Annual Selbyville Christmas Parade
DESCRIPTION:Friday\, December 1st\n\nParade: 7:00 pm - 9:00 pm\n\nParade Flyer \n\n\n\nCelebrate the holiday season with an evening of food\, fun and floats! Watch the floats\, marching bands\, beauty queens\, fire trucks\, classic cars and many more make their way through downtown Selbyville to celebrate the holiday season.\n\n\n\nPARADE PARTICIPANTS- PARADE REGISTRATION \n\nFloats will be competing in the following categories for 2023:\n\nRegister your float today by clicking the green "Register Now" button above.\n\n	Adult Marching Unit\n	Antique Cars & Trucks\n	Commercial Float\n	Custom Cars & Trucks\n	Fire Company\n	Marching Band\n	Mayor's Choice\n	Non-Commercial Float\n	Youth Marching Unit\n	Overall Dazzler\n\nAll registrations must be completed by Monday\, November 20.\n\n\n\nPARADE VENDORS\n\nAll vendors need to complete the application.  \n\n\n\nPARADE SPONSORS\n\nIf you are interested in sponsoring the parade please click here.  \n\n\n\nPARADE VOLUNTEERS\n\nVolunteers are needed to help the parade run smoothly. If you are interested in volunteering\, please contact Loryn Hanley with the Town of Selbyville.\n\n \nAll forms are to be returned to Loryn Rose\n\nEmail: lhanley@townofselbyville.org\n\nMail: PO Box 106\, Selbyville\, DE 19975
X-ALT-DESC;FMTTYPE=text/html:<span style="font-family:arial\;"><span style="font-size:14px\;"><strong>Friday\, December 1st<br />\nParade: 7:00 pm - 9:00 pm</strong><br />\n<a href="https://chambermaster.blob.core.windows.net/userfiles/UserFiles/chambers/2126/File/ChristmasParade23NoSponsors_Flyer1.pdf">Parade Flyer&nbsp\;</a><br />\n<br />\nCelebrate the holiday season with an evening of food\, fun and floats! Watch the floats\, marching bands\, beauty queens\, fire trucks\, classic cars and many more make their way through downtown Selbyville to celebrate the holiday season.<br />\n<br />\n<strong>PARADE PARTICIPANTS</strong>- PARADE REGISTRATION&nbsp\;<br />\nFloats will be competing in the following categories for 2023:<br />\nRegister your float today by clicking the green &quot\;Register Now&quot\; button above.</span></span>\n<ul>\n	<li><span style="font-family:arial\;"><span style="font-size:14px\;">Adult Marching Unit</span></span></li>\n	<li><span style="font-family:arial\;"><span style="font-size:14px\;">Antique Cars &amp\; Trucks</span></span></li>\n	<li><span style="font-family:arial\;"><span style="font-size:14px\;">Commercial Float</span></span></li>\n	<li><span style="font-family:arial\;"><span style="font-size:14px\;">Custom Cars &amp\; Trucks</span></span></li>\n	<li><span style="font-family:arial\;"><span style="font-size:14px\;">Fire Company</span></span></li>\n	<li><span style="font-family:arial\;"><span style="font-size:14px\;">Marching Band</span></span></li>\n	<li><span style="font-family:arial\;"><span style="font-size:14px\;">Mayor&#39\;s Choice</span></span></li>\n	<li><span style="font-family:arial\;"><span style="font-size:14px\;">Non-Commercial Float</span></span></li>\n	<li><span style="font-family:arial\;"><span style="font-size:14px\;">Youth Marching Unit</span></span></li>\n	<li><span style="font-family:arial\;"><span style="font-size:14px\;">Overall Dazzler</span></span></li>\n</ul>\n<span style="font-family:arial\;"><span style="font-size:14px\;">All registrations must be completed by <strong>Monday\, November 20</strong>.<br />\n<br />\n<strong>PARADE VENDORS</strong><br />\nAll vendors need to <a href="https://chambermaster.blob.core.windows.net/userfiles/UserFiles/chambers/2126/File/Parade/ChristmasParade-VENDORAPPLICATION.pdf">complete the application.</a> &nbsp\;<br />\n<br />\n<strong>PARADE SPONSORS</strong><br />\nIf you are interested in sponsoring the parade please <a href="https://chambermaster.blob.core.windows.net/userfiles/UserFiles/chambers/2126/File/ChristmasParade-SponsorshipOpportunities.pdf">click here.</a> &nbsp\;<br />\n<br />\n<strong>PARADE VOLUNTEERS</strong><br />\nVolunteers are needed to help the parade run smoothly. If you are interested in volunteering\, please contact Loryn Hanley with the Town of Selbyville.</span></span><br />\n&nbsp\;\n<div style="text-align: center\;"><span style="font-family:arial\;"><span style="font-size:14px\;"><strong>All forms are to be returned to Loryn Rose<br />\nEmail: lhanley@townofselbyville.org</strong></span></span><br />\n<span style="font-family:arial\;"><span style="font-size:14px\;"><strong>Mail: PO Box 106\, Selbyville\, DE 19975</strong></span></span></div>\n
LOCATION:Church St. in Selbyville
UID:e.2126.27013
SEQUENCE:3
DTSTAMP:20260420T165046Z
URL:http://business.thequietresorts.com/events/details/62nd-annual-selbyville-christmas-parade-27013
END:VEVENT

END:VCALENDAR
