BEGIN:VCALENDAR
VERSION:2.0
PRODID:-//ChamberMaster//Event Calendar 2.0//EN
METHOD:PUBLISH
X-PUBLISHED-TTL:P3D
REFRESH-INTERVAL:P3D
CALSCALE:GREGORIAN
BEGIN:VEVENT
DTSTART:20211204T000000Z
DTEND:20211204T020000Z
X-MICROSOFT-CDO-ALLDAYEVENT:FALSE
SUMMARY:60th Annual Selbyville Christmas Parade
DESCRIPTION:Friday\, December 3rd\n\nParade: 7:00 pm - 9:00 pm\n\nParade Flyer (Printable)\n\n\n\nCelebrate the holiday season with an evening of food\, fun and floats! Watch the floats\, marching bands\, beauty queens\, fire trucks\, classic cars and many more make their way through downtown Selbyville to celebrate the holiday season.\n\n\n\nPARADE PARTICIPANTS- PARADE REGISTRATION\n\nFloats will be competing in the following categories for 2021:\n\nRegister your float today by clicking the green "Register Now" button above.\n\n	Adult Marching Unit\n	Antique Cars & Trucks\n	Commercial Float\n	Custom Cars & Trucks\n	Fire Company\n	Marching Band\n	Non-Commercial Float\n	Youth Marching Unit\n	Overall Dazzler\n\nAll registrations must be completed by Monday\, November 29.\n\n\n\nPARADE VENDORS\n\nAll vendors need to complete a License Application\n\nFood Vendors need to complete a Food Vendor Application\n\n\n\nPARADE SPONSORS\n\nIf you are interested in sponsoring the parade\, please click here.\n\n\n\nPARADE VOLUNTEERS\n\nVolunteers are needed to help the parade run smoothly. If you are interested in volunteering\, please contact Stacey Long with the Town of Selbyville.\n\n \nAll forms are to be returned to Stacey Long\n\nEmail: tmselbyville@mchsi.com\n\nMail: PO Box 106\, Selbyville\, DE 19975
X-ALT-DESC;FMTTYPE=text/html:<span style="font-family:arial\;"><span style="font-size:14px\;"><strong>Friday\, December 3rd<br />\nParade: 7:00 pm - 9:00 pm</strong><br />\nParade Flyer (<a href="https://documentcloud.adobe.com/link/review?uri=urn:aaid:scds:US:88cd1493-820e-4561-b6d6-9916c460a151">Printable</a>)<br />\n<br />\nCelebrate the holiday season with an evening of food\, fun and floats! Watch the floats\, marching bands\, beauty queens\, fire trucks\, classic cars and many more make their way through downtown Selbyville to celebrate the holiday season.<br />\n<br />\n<strong>PARADE PARTICIPANTS</strong>- PARADE REGISTRATION<br />\nFloats will be competing in the following categories for 2021:<br />\nRegister your float today by clicking the green &quot\;Register Now&quot\; button above.</span></span>\n<ul>\n	<li><span style="font-family:arial\;"><span style="font-size:14px\;">Adult Marching Unit</span></span></li>\n	<li><span style="font-family:arial\;"><span style="font-size:14px\;">Antique Cars &amp\; Trucks</span></span></li>\n	<li><span style="font-family:arial\;"><span style="font-size:14px\;">Commercial Float</span></span></li>\n	<li><span style="font-family:arial\;"><span style="font-size:14px\;">Custom Cars &amp\; Trucks</span></span></li>\n	<li><span style="font-family:arial\;"><span style="font-size:14px\;">Fire Company</span></span></li>\n	<li><span style="font-family:arial\;"><span style="font-size:14px\;">Marching Band</span></span></li>\n	<li><span style="font-family:arial\;"><span style="font-size:14px\;">Non-Commercial Float</span></span></li>\n	<li><span style="font-family:arial\;"><span style="font-size:14px\;">Youth Marching Unit</span></span></li>\n	<li><span style="font-family:arial\;"><span style="font-size:14px\;">Overall Dazzler</span></span></li>\n</ul>\n<span style="font-family:arial\;"><span style="font-size:14px\;">All registrations must be completed by <strong>Monday\, November 29</strong>.<br />\n<br />\n<strong>PARADE VENDORS</strong><br />\nAll vendors need to complete a <a href="https://chambermaster.blob.core.windows.net/userfiles/UserFiles/chambers/2126/File/Community_Events/Selbyville_Christmas_Parade/2021/Vendors/VENDORAPPLICATION.pdf" target="_blank">License Application</a><br />\nFood Vendors need to complete a <a href="https://chambermaster.blob.core.windows.net/userfiles/UserFiles/chambers/2126/File/Community_Events/Selbyville_Christmas_Parade/2021/Vendors/FOODVENDORINFORMATIONSHEET.pdf" target="_blank">Food Vendor Application</a><br />\n<br />\n<strong>PARADE SPONSORS</strong><br />\nIf you are interested in sponsoring the parade\, please <a href="https://chambermaster.blob.core.windows.net/userfiles/UserFiles/chambers/2126/File/Community_Events/Selbyville_Christmas_Parade/2021/SponsorshipOpportunities002.pdf" target="_blank">click here</a>.<br />\n<br />\n<strong>PARADE VOLUNTEERS</strong><br />\nVolunteers are needed to help the parade run smoothly. If you are interested in volunteering\, please contact Stacey Long with the Town of Selbyville.</span></span><br />\n&nbsp\;\n<div style="text-align: center\;"><span style="font-family:arial\;"><span style="font-size:14px\;"><strong>All forms are to be returned to Stacey Long<br />\nEmail: tmselbyville@mchsi.com<br />\nMail: PO Box 106\, Selbyville\, DE 19975</strong></span></span></div>\n
LOCATION:Church St. in Selbyville
UID:e.2126.23036
SEQUENCE:3
DTSTAMP:20260424T084742Z
URL:http://business.thequietresorts.com/events/details/60th-annual-selbyville-christmas-parade-23036
END:VEVENT

END:VCALENDAR
