BEGIN:VCALENDAR
VERSION:2.0
PRODID:-//ChamberMaster//Event Calendar 2.0//EN
METHOD:PUBLISH
X-PUBLISHED-TTL:P3D
REFRESH-INTERVAL:P3D
CALSCALE:GREGORIAN
BEGIN:VEVENT
DTSTART:20220416T140000Z
DTEND:20220416T160000Z
X-MICROSOFT-CDO-ALLDAYEVENT:FALSE
SUMMARY:5th Annual Town of Dagsboro Easter Egg Hunt presented by Morse Home Improvement
DESCRIPTION:THE HUNT IS BACK OUTSIDE! The Town of Dagsboro's 5th Annual Easter Egg Hunt presented by Morse Home Improvement will take place on SATURDAY\, APRIL 16th starting at 10:00am at the old Dagsboro Fire Hall (now Artesian Water facility) on Waples Street. Thanks to Artesian for use of their facility to hold this year's Hunt! Registration will begin promptly at 10:00am\, with the Easter Egg Hunts at the following times for the following categories: 10:20am - up to age 3 10:40am - ages 4 & 5 11:00am - ages 6-8 11:20am - ages 9-12 We will have THOUSANDS of Easter Eggs up for hunting\, along with fun prizes and a visit by the Easter Bunny! If your business would like to be a SPONSOR of the event\, or provide prizes\, please contact Brian Baull at (302) 604-8372. Mark your calendars for SATURDAY\, APRIL 16th at 10am!!
X-ALT-DESC;FMTTYPE=text/html:T<span style="font-size:14px\;"><span style="font-family:arial\;">HE HUNT IS BACK OUTSIDE! The Town of Dagsboro&#39\;s 5th Annual Easter Egg Hunt presented by Morse Home Improvement will take place on SATURDAY\, APRIL 16th starting at 10:00am at the old Dagsboro Fire Hall (now Artesian Water facility) on Waples Street. Thanks to Artesian for use of their facility to hold this year&#39\;s Hunt! Registration will begin promptly at 10:00am\, with the Easter Egg Hunts at the following times for the following categories: 10:20am - up to age 3 10:40am - ages 4 &amp\; 5 11:00am - ages 6-8 11:20am - ages 9-12 We will have THOUSANDS of Easter Eggs up for hunting\, along with fun prizes and a visit by the Easter Bunny! If your business would like to be a SPONSOR of the event\, or provide prizes\, please contact Brian Baull at (302) 604-8372. Mark your calendars for SATURDAY\, APRIL 16th at 10am!!</span></span>
LOCATION:Artesian Water facility (formerly Dagsboro Fire Company) Waples Street\, Dagsboro
UID:e.2126.23613
SEQUENCE:3
DTSTAMP:20260422T015851Z
URL:http://business.thequietresorts.com/events/details/5th-annual-town-of-dagsboro-easter-egg-hunt-presented-by-morse-home-improvement-23613
END:VEVENT

END:VCALENDAR
