BEGIN:VCALENDAR
VERSION:2.0
PRODID:-//ChamberMaster//Event Calendar 2.0//EN
METHOD:PUBLISH
X-PUBLISHED-TTL:P3D
REFRESH-INTERVAL:P3D
CALSCALE:GREGORIAN
BEGIN:VEVENT
DTSTART;VALUE=DATE:20220904
DTEND;VALUE=DATE:20220905
TRANSP:TRANSPARENT
X-MICROSOFT-CDO-ALLDAYEVENT:TRUE
SUMMARY:5th Annual Back to School Event
DESCRIPTION:Join Community Inspired Actions on Sunday\, September 4\, for their 5th Annual Back to School event. This event will be held at the Marvel Carriage Museum located in Georgetown\, DE. During the event\, we will have a bookbag and school supply giveaway\, arts and crafts\, entertainment\, community vendors\, face painting\, and FIREWORKS!!\n\n\n\nAll proceeds will benefit Community Inspired Actions R.I.S.E (Resilient\, Independent\, Self-sufficient\, Empowered) program. Our R.I.S.E program provides informational and educational opportunities for youth that are currently in or aging out of the foster care system\, experiencing homelessness or that are at-risk.\n\n\n\nFor more information\, including how to sponsor or become a vendor\, please contact Ketanya Moore at kmoore@cia-de.org
X-ALT-DESC;FMTTYPE=text/html:<span style="font-family:arial\;"><span style="font-size:14px\;">Join Community Inspired Actions on Sunday\, September 4\, for their 5th Annual Back to School event. This event will be held at the Marvel Carriage Museum located in Georgetown\, DE. During the event\, we will have a bookbag and school supply giveaway\, arts and crafts\, entertainment\, community vendors\, face painting\, and FIREWORKS!!<br />\n<br />\nAll proceeds will benefit Community Inspired Actions R.I.S.E (Resilient\, Independent\, Self-sufficient\, Empowered) program. Our R.I.S.E program provides informational and educational opportunities for youth that are currently in or aging out of the foster care system\, experiencing homelessness or that are at-risk.<br />\n<br />\nFor more information\, including how to sponsor or become a vendor\, please contact Ketanya Moore at kmoore@cia-de.org</span></span>
LOCATION:Marvel Carriage Museum 510 S Bedford St Georgetown\, DE 19947
UID:e.2126.24050
SEQUENCE:3
DTSTAMP:20260421T173043Z
URL:http://business.thequietresorts.com/events/details/5th-annual-back-to-school-event-24050
END:VEVENT

END:VCALENDAR
