BEGIN:VCALENDAR
VERSION:2.0
PRODID:-//ChamberMaster//Event Calendar 2.0//EN
METHOD:PUBLISH
X-PUBLISHED-TTL:P3D
REFRESH-INTERVAL:P3D
CALSCALE:GREGORIAN
BEGIN:VEVENT
DTSTART:20191207T000000Z
DTEND:20191207T020000Z
X-MICROSOFT-CDO-ALLDAYEVENT:FALSE
SUMMARY:59th Annual Selbyville Christmas Parade
DESCRIPTION:Friday\, December 6th\n\n			Parade\, 7-9pm\n			\n		\n		\n			\n			Celebrate the holiday season with an evening of food\, fun and\n\n			floats! Watch the floats\, marching bands\, beauty queens\, fire\n\n			trucks\, classic cars and many more make their way through\n\n			downtown Selbyville to celebrate the holiday season. To register for the parade\, please click here. Please make sure to follow us on Facebook for all of the most up-to-date information.\n\n			\n\n			Floats will be competing in the following categories for 2019:\n\n			             This event is still in the planning stages. More information will be posted when available.\n\n			\n\n			PARADE VENDORS\n\n			If you are interested in becoming a vendor for this event\, please click here.\n\n			\n\n			PARADE SPONSORS\n\n			If you are interested in sponsoring this event\, please click here.\n\n			\n\n			PARADE VOLUNTEERS\n\n			This event is still in the planning stages. More information will be posted when available.\n			\n		\n	\n\n\nAll forms are to be returned to event coordinator- Regan Roberts-Deck \n\nEmail: regan@custommechanical.com\n\nFax: 302-537-5191\n\nMail: PO Box 92\, Selbyville\, DE 19975
X-ALT-DESC;FMTTYPE=text/html:<table align="center" style="width: 500px\; height: 500px\; line-height: 23.11px\;">\n	<tbody>\n		<tr>\n			<td colspan="2">\n			<p><span style="font-size: 14px\;"><span style="font-family: arial\;"><strong>Friday\, December 6th<br />\n			Parade\,&nbsp\;7-9pm</strong></span></span></p>\n			</td>\n		</tr>\n		<tr>\n			<td colspan="2">\n			<p>Celebrate the holiday season with an evening of food\, fun and<br />\n			floats! Watch the floats\, marching bands\, beauty queens\, fire<br />\n			trucks\, classic cars and many more make their way through<br />\n			downtown&nbsp\;Selbyville&nbsp\;to celebrate the holiday season. To register for the parade\, please click <a href="https://docs.google.com/forms/d/e/1FAIpQLSc4rBOHSBMqYRRjuEKnofzwNyeLrodiH6wsxSSf8u-FgGZqpA/viewform" target="_blank">here</a>. Please make sure to follow us on <a href="https://www.facebook.com/events/1911508552571921/" target="_blank">Facebook</a> for all of the most up-to-date information.<br />\n			<br />\n			Floats will be competing in the following categories for 2019:<br />\n			&nbsp\;&nbsp\;&nbsp\;&nbsp\;&nbsp\;&nbsp\;&nbsp\;&nbsp\;&nbsp\;&nbsp\;&nbsp\;&nbsp\; This event is still in the planning stages. More information will be posted when available.<br />\n			<br />\n			<strong style="font-family: arial\; font-size: 14px\;"><span style="color: rgb(255\, 0\, 0)\;">PARADE VENDORS</span></strong><br />\n			If you are interested in becoming a vendor for this event\, please click <a href="https://docs.google.com/forms/d/e/1FAIpQLSdh0_y1Qd1u1s6hBFW5ZSclKCTceC22Z1ZfNAbYhYZ87s9ovw/viewform" target="_blank">here</a>.<br />\n			<br />\n			<strong style="font-family: arial\; font-size: 14px\;"><span style="color: rgb(255\, 0\, 0)\;">PARADE SPONSORS</span></strong><br />\n			If you are interested in sponsoring this event\, please click <a href="https://docs.google.com/forms/d/e/1FAIpQLSfJxOhqGHSAMgxLTwIEjORKoy8RnamKw7VsKntE4wfMqbg7zg/viewform" target="_blank">here</a>.<br />\n			<br />\n			<strong style="font-family: arial\; font-size: 14px\;"><span style="color: rgb(255\, 0\, 0)\;">PARADE VOLUNTEERS</span></strong><br />\n			This event is still in the planning stages. More information will be posted when available.</p>\n			</td>\n		</tr>\n	</tbody>\n</table>\n\n<div style="text-align: center\;">All forms are to be returned to event coordinator- Regan Roberts-Deck&nbsp\;<br />\nEmail: regan@custommechanical.com<br />\nFax: 302-537-5191<br />\nMail: PO Box 92\, Selbyville\, DE 19975</div>\n<br />\n&nbsp\;
LOCATION:Church St. in Selbyville\, DE
UID:e.2126.18407
SEQUENCE:3
DTSTAMP:20260426T034533Z
URL:http://business.thequietresorts.com/events/details/59th-annual-selbyville-christmas-parade-18407
END:VEVENT

END:VCALENDAR
