BEGIN:VCALENDAR
VERSION:2.0
PRODID:-//ChamberMaster//Event Calendar 2.0//EN
METHOD:PUBLISH
X-PUBLISHED-TTL:P3D
REFRESH-INTERVAL:P3D
CALSCALE:GREGORIAN
BEGIN:VEVENT
DTSTART:20211029T210000Z
DTEND:20211029T230000Z
X-MICROSOFT-CDO-ALLDAYEVENT:FALSE
SUMMARY:4th Annual SHEro Awards and Awards Ceremony
DESCRIPTION:A recognition of unsung "SHEros": ordinary women on Delmarva doing extraordinary things that might often go unnoticed. By sharing these stories\, we hope to inspire others and acknowledge all that women do in their lives that often go unnoticed.\n\n \n\nJoin us for the Awards Ceremony Friday October 29 from 5-7pm as we honor these incredible women for their selfless contributions to our community.\n\n \n\nNominees:\n\n- Atlantic General Hospital SAFE (Sexual Assault Forensic Exam) Team: Lisa Wood\, Nettie Widgeon\, and Sarah Esh\n\n- Jean Browne\n\n- Barbara Buford\n\n- Michele Ennis\n\n- Kim Klump\n\n- Gwen Lehman\n\n- Melissa Reid\n\n- Deborah Rolig\n\n- Terry Smith\n\n- Debbie Smullen
X-ALT-DESC;FMTTYPE=text/html:<div><span style="font-size:14px\;"><span style="font-family:arial\;">A recognition of unsung &ldquo\;SHEros&rdquo\;: ordinary women on Delmarva doing extraordinary things that might often go unnoticed. By sharing these stories\, we hope to inspire others and acknowledge all that women do in their lives that often go unnoticed.</span></span><br />\n&nbsp\;</div>\n\n<div><span style="font-size:14px\;"><span style="font-family:arial\;">Join us for the Awards Ceremony Friday October 29 from 5-7pm as we honor these incredible women for their selfless contributions to our community.</span></span><br />\n&nbsp\;</div>\n\n<div><span style="font-size:14px\;"><span style="font-family:arial\;">Nominees:<br />\n- Atlantic General Hospital SAFE (Sexual Assault Forensic Exam) Team: Lisa Wood\, Nettie Widgeon\, and Sarah Esh<br />\n- Jean Browne<br />\n- Barbara Buford<br />\n- Michele Ennis<br />\n- Kim Klump<br />\n- Gwen Lehman<br />\n- Melissa Reid<br />\n- Deborah Rolig<br />\n- Terry Smith<br />\n- Debbie Smullen</span></span></div>\n
LOCATION:Art League of Ocean City 502 94th Street Ocean City\, MD. 21842
UID:e.2126.23033
SEQUENCE:3
DTSTAMP:20260424T133829Z
URL:http://business.thequietresorts.com/events/details/4th-annual-shero-awards-and-awards-ceremony-23033
END:VEVENT

END:VCALENDAR
