BEGIN:VCALENDAR
VERSION:2.0
PRODID:-//ChamberMaster//Event Calendar 2.0//EN
METHOD:PUBLISH
X-PUBLISHED-TTL:P3D
REFRESH-INTERVAL:P3D
CALSCALE:GREGORIAN
BEGIN:VEVENT
DTSTART:20220911T130000Z
DTEND:20220911T180000Z
X-MICROSOFT-CDO-ALLDAYEVENT:FALSE
SUMMARY:4th Annual First Responders Golf Scramble - Bethany Beach Vol. Fire Co. Auxiliary
DESCRIPTION:Join the Bethany Beach Volunteer Fire Company Auxiliary for their 4th Annual First Responders Golf Scramble at the Salt Ponds Golf Course\, located at 400 Bethany Loop\, Bethany Beach\, DE 19930.\n\n\n\nRegistration Opens at 8:00am\n\nShotgun Start: 9:00am\n\n\n\nThe Auxiliary has been an important aspect in financially supporting the Fire Company.  Through various fundraisers they have helped purchase needed equipment for the Bethany Volunteer Fire Company.  The Auxiliary seeks to support the BVFC with pride and dedication.  \n\n\n\nSponsorship Opportunities:\n\nBest Ball: Men\, Women & Couple - $500/each\n\nClosest to the Pin: Men\, Women & Couple - $500/each\n\nHole-In-One & Sponsor Stickers on 92 Golf Carts - $500\n\nGood Bags & Hole Signage - $300\n\n\n\nCan't golf?  Please consider making a donation.\n\n\n\nGolfers                                                                        Lunch: Choose One (Chicken\, Ham& Cheese or Tuna)\n\nNames: ________________________________        _______________________________________\n\nNames: ________________________________        _______________________________________\n\nNames:_________________________________       _______________________________________\n\nNames:_________________________________       _______________________________________
X-ALT-DESC;FMTTYPE=text/html:<span style="font-family:arial\;"><span style="font-size:14px\;">Join the Bethany Beach Volunteer Fire Company Auxiliary for their 4th Annual First Responders Golf Scramble at the Salt Ponds Golf Course\, located at 400 Bethany Loop\, Bethany Beach\, DE 19930.<br />\n<br />\nRegistration Opens at 8:00am<br />\nShotgun Start: 9:00am<br />\n<br />\nThe Auxiliary has been an important aspect in financially supporting the Fire Company.&nbsp\; Through various fundraisers they have helped purchase needed equipment for the Bethany Volunteer Fire Company.&nbsp\; The Auxiliary seeks to support the BVFC with pride and dedication.&nbsp\;&nbsp\;<br />\n<br />\nSponsorship Opportunities:<br />\nBest Ball: Men\, Women &amp\; Couple - $500/each<br />\nClosest to the Pin: Men\, Women &amp\; Couple - $500/each<br />\nHole-In-One &amp\; Sponsor Stickers on 92 Golf Carts - $500<br />\nGood Bags &amp\; Hole Signage - $300<br />\n<br />\nCan&#39\;t golf?&nbsp\; Please consider making a donation.<br />\n<br />\nGolfers</span></span>&nbsp\;&nbsp\;&nbsp\;&nbsp\;&nbsp\;&nbsp\;&nbsp\;&nbsp\;&nbsp\;&nbsp\;&nbsp\;&nbsp\;&nbsp\;&nbsp\;&nbsp\;&nbsp\;&nbsp\;&nbsp\;&nbsp\;&nbsp\;&nbsp\;&nbsp\;&nbsp\;&nbsp\;&nbsp\;&nbsp\;&nbsp\;&nbsp\;&nbsp\;&nbsp\;&nbsp\;&nbsp\;&nbsp\;&nbsp\;&nbsp\;&nbsp\;&nbsp\;&nbsp\;&nbsp\;&nbsp\;&nbsp\;&nbsp\;&nbsp\;&nbsp\;&nbsp\;&nbsp\;&nbsp\;&nbsp\;&nbsp\;&nbsp\;&nbsp\;&nbsp\;&nbsp\;&nbsp\;&nbsp\;&nbsp\;&nbsp\;&nbsp\;&nbsp\;&nbsp\;&nbsp\;&nbsp\;&nbsp\;&nbsp\;&nbsp\;&nbsp\;&nbsp\;&nbsp\;&nbsp\; &nbsp\; Lunch: Choose One (Chicken\, Ham&amp\; Cheese or Tuna)<br />\nNames: ________________________________&nbsp\; &nbsp\; &nbsp\; &nbsp\; _______________________________________<br />\nNames: ________________________________&nbsp\; &nbsp\; &nbsp\; &nbsp\; _______________________________________<br />\nNames:_________________________________&nbsp\; &nbsp\; &nbsp\; &nbsp\;_______________________________________<br />\nNames:_________________________________&nbsp\; &nbsp\; &nbsp\; &nbsp\;_______________________________________<br />\n&nbsp\;
LOCATION:Salt Pond Golf Club 400 Bethany Loop Bethany Beach\, DE 19930
UID:e.2126.24052
SEQUENCE:3
DTSTAMP:20260421T173019Z
URL:http://business.thequietresorts.com/events/details/4th-annual-first-responders-golf-scramble-bethany-beach-vol-fire-co-auxiliary-24052
END:VEVENT

END:VCALENDAR
