BEGIN:VCALENDAR
VERSION:2.0
PRODID:-//ChamberMaster//Event Calendar 2.0//EN
METHOD:PUBLISH
X-PUBLISHED-TTL:P3D
REFRESH-INTERVAL:P3D
CALSCALE:GREGORIAN
BEGIN:VEVENT
DTSTART:20221011T210000Z
DTEND:20221011T230000Z
X-MICROSOFT-CDO-ALLDAYEVENT:FALSE
SUMMARY:4th Annual Dagsboro Night Out
DESCRIPTION:4th Annual Dagsboro Night Out\n\n\nThe Town of Dagsboro\, Dagsboro Police Dept. and Dagsboro Fire Company are teaming up this year for the 4th Annual Dagsboro Night Out. \n\n\n\nThe Presenting Sponsors of Dagsboro Night Out are Morse Roofing & Siding and the Delaware Botanical Gardens.  Associate Sponsors include Bethel United Methodist Church\, the Clayton Theatre\, Dr. Junk\, Hurricane Martial Arts\, Jayne's Reliable and Jim's Bait & Tackle.\n\n\n\nThis year's event will feature free tote bags (while supplies last)\, music\, door prizes (must be present to win)\, free hotdogs\, and drinks and other giveaways from sponsors and event participants.  There will also be displays\, interactive activities\, and other events for kids and adults.  Thanks to donations from American Legion Post 24 in Dagsboro and VFW Post 6984\, there will be several bike raffle drawings held during the event (must be present to win).\n\n \nThe entire event is FREE.  It's a chance to talk with and interact with local police and fire members and learn how they help the community.  It's an opportunity for the entire community to come together and have some fun!
X-ALT-DESC;FMTTYPE=text/html:<div style="text-align: center\;"><strong><span style="font-size:14px\;"><span style="font-family:arial\;">4th Annual Dagsboro Night Out</span></span></strong></div>\n<br />\n<span style="font-size:14px\;"><span style="font-family:arial\;">The Town of Dagsboro\, Dagsboro Police Dept. and Dagsboro Fire Company are teaming up this year for the 4th Annual Dagsboro Night Out.&nbsp\;<br />\n<br />\nThe Presenting Sponsors of Dagsboro Night Out are Morse Roofing &amp\; Siding and the Delaware Botanical Gardens.&nbsp\; Associate Sponsors include Bethel United Methodist Church\, the Clayton Theatre\, Dr. Junk\, Hurricane Martial Arts\, Jayne&#39\;s Reliable and Jim&#39\;s Bait &amp\; Tackle.<br />\n<br />\nThis year&#39\;s event will feature free tote bags (while supplies last)\, music\, door prizes (must be present to win)\, free hotdogs\, and drinks and other giveaways from sponsors and event participants.&nbsp\; There will also be displays\, interactive activities\, and other events for kids and adults.&nbsp\; Thanks to donations from American Legion Post 24 in Dagsboro and VFW Post 6984\, there will be several bike raffle drawings held during the event (must be present to win).</span></span><br />\n&nbsp\;\n<div><span style="font-size:14px\;"><span style="font-family:arial\;">The entire event is&nbsp\;FREE.&nbsp\; It&#39\;s a chance to talk with and interact with local police and fire members and learn how they help the community.&nbsp\; It&#39\;s an opportunity for the entire community to come together and have some fun!</span></span></div>\n
LOCATION:Dagsboro Fire Hall on Clayton Street
UID:e.2126.24264
SEQUENCE:3
DTSTAMP:20260421T160443Z
URL:http://business.thequietresorts.com/events/details/4th-annual-dagsboro-night-out-24264
END:VEVENT

END:VCALENDAR
