BEGIN:VCALENDAR
VERSION:2.0
PRODID:-//ChamberMaster//Event Calendar 2.0//EN
METHOD:PUBLISH
X-PUBLISHED-TTL:P3D
REFRESH-INTERVAL:P3D
CALSCALE:GREGORIAN
BEGIN:VEVENT
DTSTART:20220910T140000Z
DTEND:20220910T210000Z
X-MICROSOFT-CDO-ALLDAYEVENT:FALSE
SUMMARY:44th Annual Bethany Beach Boardwalk Arts Festival
DESCRIPTION:The 44th Annual Bethany Beach Boardwalk Arts Festival in downtown Bethany Beach will be held on September 10\, 2022 from 10 am - 5 pm. The popular one-day show features jewelry\, glass\, pottery\, watercolor and oil paintings\, photography\, woodworking\, and much more! Over 100 juried artists\, both local and from around the country\, will display their work along the bandstand\, boardwalk\, and streets of downtown Bethany Beach. For 44 years\, festival-goers have savored the end of summer at the annual event\, proving there is not a more beautiful backdrop for unique works of art. For more information\, visit www.BethanyBeachArtsFestival.com.\n\n\n\nApplications are now closed. \n\n\n\nSUPPORTING ARTS IN THE COMMUNITY\n\n\n\nSilent Auction\n\nThe annual event serves as a fundraiser for the arts programs at five local schools. The silent auction is comprised of pieces donated by participating artists\, and is hosted on the Bethany Beach Bandstand from 10 am - 2 pm. The schools which benefit from the silent auction are Lord Baltimore Elementary School\, Southern Delaware School of the Arts\, John M. Clayton Elementary School\, Phillip C. Showell Elementary School and Selbyville Middle School.\n \nSponsorship Opportunities:\n\nIf you are interested in becoming a sponsor for the Bethany Beach Boardwalk Arts Festival\, please see all available opportunities here. \n\n\n\nVolunteers\n\nVolunteer opportunities here ! \n\n\n\nInclement Weather\n\nIn the event that inclement weather is forecasted that poses a threat to public safety\, the festival has a rain date scheduled for Sunday\, September 11\, 2022. All announcements regarding the show date will be made on this website.\n\n\n\nAccommodations:\n\n\n\nHotel Bethany Beach: Experience the best in award-winning hotel quality and service at the Hotel Bethany Beach. Our ideal location off Hwy 1\, just two blocks from the beach\, makes us the perfect choice. \n\n \n\nRate code: ART           Discount: 15%\n\nBooking Dates: 7.21-9.08         Stay Dates: 9.08-9.12\n\n\n\nClick here to book now!\n\n\n\nThe Bethany-Fenwick Area Chamber of Commerce is a non-profit organization dedicated to enhancing business throughout our area and promoting The Quiet Resorts as a year-round tourism destination.
X-ALT-DESC;FMTTYPE=text/html:<div><span style="font-family:arial\;"><span style="font-size:14px\;">The&nbsp\;44th Annual Bethany Beach Boardwalk Arts Festival in downtown Bethany Beach will be held on September 10\, 2022 from 10 am - 5 pm. The popular one-day show features jewelry\, glass\, pottery\, watercolor and oil paintings\, photography\, woodworking\, and much more! Over 100 juried artists\, both local and from around the country\, will display their work along the bandstand\, boardwalk\, and streets of downtown Bethany Beach. For 44 years\, festival-goers have savored the end of summer at the annual event\, proving there is not a more beautiful backdrop for unique works of art. For more information\, visit www.BethanyBeachArtsFestival.com.</span></span><br />\n<br />\n<span style="font-size: 14px\;">Applications are now closed.&nbsp\;</span><br />\n<br />\n<span style="font-size: 14px\;"><span style="font-family: arial\;"><strong>SUPPORTING ARTS IN THE COMMUNITY</strong></span><br />\n<br />\n<span style="font-family: arial\;"><strong>Silent Auction</strong><br />\nThe annual event&nbsp\;serves as a fundraiser for the arts programs at&nbsp\;five local schools. The silent auction is comprised of pieces donated by participating artists\, and is hosted on the Bethany Beach Bandstand from 10 am - 2 pm. The schools which benefit from the silent auction are Lord Baltimore Elementary School\, Southern Delaware School of the Arts\, John M. Clayton Elementary School\, Phillip C. Showell Elementary School and Selbyville Middle School.</span></span>\n<p century="" font-size:="" none="" outline:="" style="box-sizing: border-box\; margin: 0px 0px 11px\; color: rgb(42\, 60\, 72)\; font-family: ">&nbsp\;</p>\n<span style="font-size: 14px\;"><span style="font-family: arial\;"><span style="font-size: 14px\;"><span style="font-family: arial\;"><strong>Sponsorship Opportunities</strong>:<br />\nIf you are interested in becoming&nbsp\;a sponsor for the Bethany Beach Boardwalk Arts Festival\, please see all available opportunities <a href="https://chambermaster.blob.core.windows.net/userfiles/UserFiles/chambers/2126/File/AF/2022/Sponsors/2022Sponsorship-AF.pdf" target="_blank"><strong>here</strong></a>.&nbsp\;<br />\n<br />\n<strong>Volunteers</strong><br />\n<a href="https://chambermaster.blob.core.windows.net/userfiles/UserFiles/chambers/2126/File/AF/2022/AFvolunteerformfillable.pdf">Volunteer opportunities here</a> !&nbsp\;</span></span></span></span><br />\n<br />\n<strong>Inclement Weather</strong>\n\n<p style="margin: 0in 0in 0pt\;"><span style="font-size:14px\;"><span style="font-family: arial\;"><span style="font-family: arial\;">In the event that inclement weather is forecasted that poses a threat to public safety\, the festival has a rain date scheduled for Sunday\, September 11\, 2022. All announcements regarding the show date will be made on this website.</span></span></span><br />\n<br />\n<b style="font-family: arial\; font-size: 14px\;">Accommodations</b><span style="font-family: arial\; font-size: 14px\;">:</span><br />\n<br />\n<span style="font-family: arial\; font-size: 14px\;"><strong>Hotel Bethany Beach:&nbsp\;</strong></span><span style="font-size: 14px\;"><span style="font-family: arial\;"><span style="color: rgb(42\, 60\, 72)\;">Experience the best in award-winning hotel quality and service at the&nbsp\;Hotel Bethany Beach. Our ideal location off Hwy 1\, just two blocks from the beach\, makes us the perfect choice.&nbsp\;</span></span></span><br />\n&nbsp\;</p>\n\n<p century="" font-size:="" none="" outline:="" style="box-sizing: border-box\; margin: 0px 0px 11px\; color: rgb(42\, 60\, 72)\; font-family: "><span style="font-size: 14px\;"><span style="font-family: arial\;"><strong style="box-sizing: border-box\; outline: none !important\;">Rate code:</strong><strong style="box-sizing: border-box\; outline: none !important\;">&nbsp\;</strong>ART&nbsp\; &nbsp\; &nbsp\; &nbsp\; &nbsp\; &nbsp\;<strong style="box-sizing: border-box\; outline: none !important\;">Discount:</strong>&nbsp\;15%</span></span></p>\n\n<p century="" font-size:="" none="" outline:="" style="box-sizing: border-box\; margin: 0px 0px 11px\; color: rgb(42\, 60\, 72)\; font-family: "><span style="font-size: 14px\;"><span style="font-family: arial\;"><strong style="box-sizing: border-box\; outline: none !important\;">Booking Dates:</strong><strong style="box-sizing: border-box\; outline: none !important\;">&nbsp\;</strong>7.21-9.08&nbsp\; &nbsp\; &nbsp\; &nbsp\; &nbsp\;<strong style="box-sizing: border-box\; outline: none !important\;">Stay Dates:</strong>&nbsp\;9.08-9.12</span></span><br />\n<br />\n<a href="https://hotelbethanybeach.book.pegsbe.com/promo?propertyCode=DEHBB&amp\;offerCode=ART" style="font-family: arial\; font-size: 14px\;">Click here to book now!</a></p>\n</div>\n\n<div>\n<div style="text-align: center\;"><strong><em><span style="font-size: 14px\;"><span style="font-family: arial\;">The Bethany-Fenwick Area Chamber of Commerce is a non-profit organization dedicated to enhancing business throughout our area and promoting The Quiet Resorts as a year-round tourism destination.&nbsp\;</span></span></em></strong></div>\n</div>\n
LOCATION:Downtown Bethany Beach
UID:e.2126.23448
SEQUENCE:3
DTSTAMP:20260421T173216Z
URL:http://business.thequietresorts.com/events/details/44th-annual-bethany-beach-boardwalk-arts-festival-23448
END:VEVENT

END:VCALENDAR
