BEGIN:VCALENDAR
VERSION:2.0
PRODID:-//ChamberMaster//Event Calendar 2.0//EN
METHOD:PUBLISH
X-PUBLISHED-TTL:P3D
REFRESH-INTERVAL:P3D
CALSCALE:GREGORIAN
BEGIN:VEVENT
DTSTART;VALUE=DATE:20210910
DTEND;VALUE=DATE:20210913
TRANSP:TRANSPARENT
X-MICROSOFT-CDO-ALLDAYEVENT:TRUE
SUMMARY:43rd Annual Nanticoke Indian Powwow
DESCRIPTION:The 43rd Annual Nanticoke Indian Powwow will kick off with a Vendor Preview and Pig Roast for all participating vendors on Friday\, September 10\, 2021 from 4:00 pm - 8:00 pm.\n\n\n\nThe official start of the Powwow will begin on Saturday\, September 11\, 2021 from 10:00 am - 7:00 pm. There will be two dance sessions with grand entry starting promptly at 12:00 pm.\n\n\n\nOn Sunday\, September 12\, Powwow hours will be 10:00 am - 7:00 pm. Church service will be held from 8:30 am - 10:00 am. There will be one dance session following the church service with grand entry starting promptly at 12:00 pm.\n\n\n\nThe Powwow will feature many food\, native jewelry and apparel vendors. If you are interested in being a vendor at the Powwow\, please contact Gil Johnson at giljohnson120@gmail.com
X-ALT-DESC;FMTTYPE=text/html:<span style="font-family:arial\;"><span style="font-size:14px\;">The 43rd Annual Nanticoke Indian Powwow will kick off with a Vendor Preview and Pig Roast for all participating vendors on Friday\, September 10\, 2021 from 4:00 pm - 8:00 pm.<br />\n<br />\nThe official start of the Powwow will begin on Saturday\, September 11\, 2021 from 10:00 am - 7:00 pm. There will be two dance sessions with grand entry starting promptly at 12:00 pm.<br />\n<br />\nOn Sunday\, September 12\, Powwow hours will be 10:00 am - 7:00 pm. Church service will be held from 8:30 am - 10:00 am. There will be one dance session following the church service with grand entry starting promptly at 12:00 pm.<br />\n<br />\nThe Powwow will feature many food\, native jewelry and apparel vendors. If you are interested in being a vendor at the Powwow\, please contact Gil Johnson at giljohnson120@gmail.com</span></span>
LOCATION:30045 Eagle Crest Rd Milton\, DE 19968
UID:e.2126.22664
SEQUENCE:3
DTSTAMP:20260424T134742Z
URL:http://business.thequietresorts.com/events/details/43rd-annual-nanticoke-indian-powwow-22664
END:VEVENT

END:VCALENDAR
