BEGIN:VCALENDAR
VERSION:2.0
PRODID:-//ChamberMaster//Event Calendar 2.0//EN
METHOD:PUBLISH
X-PUBLISHED-TTL:P3D
REFRESH-INTERVAL:P3D
CALSCALE:GREGORIAN
BEGIN:VEVENT
DTSTART:20210911T140000Z
DTEND:20210911T210000Z
X-MICROSOFT-CDO-ALLDAYEVENT:FALSE
SUMMARY:43rd Annual Bethany Beach Boardwalk Arts Festival
DESCRIPTION:The 43rd Annual Bethany Beach Boardwalk Arts Festival in downtown Bethany Beach will be held  on September 11\, 2021 from 10 am - 5 pm. The popular one-day show features jewelry\, glass\, pottery\, watercolor and oil painting\, photography\, basketry\, woodworking\, and much more! More than 100 juried artists\, both local and from around the country\, will display their work along the bandstand\, boardwalk\, and streets of downtown Bethany Beach. For 43 years\, festival-goers have savored the end of summer at the annual event\, proving there is not a more beautiful backdrop for unique works of art. For more information and 2021 artist information as it is available\, visit www.BethanyBeachArtsFestival.com.\n\n\n\nCOVID-19 Requirements\n\nThe Bethany-Fenwick Area Chamber of Commerce will follow all COVID-19 protocols set forth by the State of Delaware and the Centers for Disease Control to provide a safe event for all patrons\, artists\, sponsors\, volunteers\, and staff. Current mandates\, restrictions\, and guidelines (if necessary) will be communicated prior to the event.\n\n\n\nParticipating Artists\n\nBoardwalk Booths\n\n1. McKee Builders\n\n2. Kimberly Berkich - Jewelry\n\n3. The Quiet Resorts Charitable Foundation \n\n4. Jimmy Mann - Mixed Media\n\n5.Gail Gingrich - Jewelry \n\n6. Rogahan - Glass\n\n7. Kathryn Pokalo - Fiber\n\n8. Michael Lichtenstein- Mixed Media\n\n9. Tom Anderson - Fiber\n\n10. Believe in Tomorrow \n\n11. Collen Long - Jewelry\n\n12. Historical Coastal Towns\n\n13. Leslie Halaby- Moore - Jewelry \n\n14. Tom Longacre - Clay \n\n15. Richelle Walk - Jewelry \n\n16. Jeff Stambaugh - Clay \n\n17. Joann Danoff - Jewelry \n\n18. Kitchen Tune- Up \n\n19. Nancy LaMotte - Jewelry \n\n20. Michelle Abbitt - Mixed Media\n\n21. Jessica Keemer - Jewelry \n\n22. Tyler Steel - Painting \n\n23. Heather Koch - Painting \n\n24. Ben May - Clay \n\n25. Alison Jefferies - Jewelry \n\n26. Altan Erginkoc - Wood\n\n27. Victoria Lowe - Fiber\n\n28. Marjoie Samero - Glass\n\n29. Thomas Yates - Wood\n\n30. Nick Rezendes - Jewelry \n\n31. Jennifer Moon-Child - Wood\n\n32. Candance Port-Hull - Fiber \n\n33. Southern Coastal Village Volunteers \n\n34. Mason Dixon VFW\n\n35. Coastal Point \n\n\n\nBandstand Booths\n\n101. Donald Nicholas - Glass\n\n102. Pamela Bartl - Fiber\n\n103. Laura Hickman - Drawing \n\n104. Jennifer Carter - Photography \n\n105. Beebe Healthcare\n\n106. Sierra Krause - Fiber \n\n107. Yuriy Zahvoyskyy - Photography \n\n108. Russell Turnage - Clay \n\n109. Deborah Bryant - Clay\n\n111. Courtney Gillen - Jewelry \n\n112. John Cooley - Clay \n\n113. Kevin Finney - Mixed Media\n\n114. Lynn Anderson - Jewelry \n\n115. Diana Papazian - Jewelry \n\n116. Marylynn Willard- Fiber \n\n118. Regen Linn - Jewelry \n\n119. Jeff Kaufhold - Painting \n\n120. Jessica McGrath- Jewelry \n\n121. Willie Trejbal - Jewelry \n\n122. Carol Fastuca - Painting \n\n123. Gary Stewart- Mixed Media \n\n124. John Donato - Painting\n\n125. SEAs the Day \n\n\n\nGarfield Parkway \n\n200. Stephen Brehm - Painting \n\n201. Martha Bogan - Clay\n\n202. Amanda Sokolski - Painting\n\n203. Carol Pedrick - Glass\n\n204. Michael Orhelein - Photography \n\n205.Susan Wolf - Wood \n\n206. Constance Guerra - Painting \n\n207. Curt Callahan - Painting \n\n208. St. Martha's \n\n209. Lion's Club \n\n210. Merrianne Nichols - Fiber\n\n211. Jill Beard - Glass\n\n212. Susan Gladstone - Clay \n\n213. Rachel Mackenzie - Metal \n\n214. Jessica Schlegel - Painting \n\n215. Delaware National Guard \n\n216. Richard Toft - Painting \n\n217. Gavin Hain - Metal\n\n218. Dennis Ray - Jewelry \n\n219. Lelie Master - Mixed Media\n\n220. William Cantwell - Painting  \n\n221. Audrey Hauserman - Fiber\n\n222. Jan Barco - Mixed Media\n\n223. Jon Bandish - Painting \n\n224. Linda Lurcott - Jewelry \n\n225. Linda McAdams - Mixed Media\n\n226. Yvonne Torelli - Painting \n\n227. Michele Ross - Jewelry \n\n228. Christine Rush - Mixed Media\n\n229. Mary Yeagley-Bower - Clay \n\n230. Fritz Grubb - Painting \n\n231. Kazuko Fuller - Jewelry \n\n232. Bob Bohannon - Wood\n\n233. Chris Matias - Clay\n\n234. Lord's Landscaping \n\n235. Ellen Robinson - Clay \n\n236. Carl Lynch - Mixed Media\n\n237. Bayside \n\n\n\nParkwood Street Bootha\n\n301. Tom Mannon - Wood\n\n302. Vera Kirilenko - Mixed Media\n\n303. Barbara Randall - Mixed Media \n\n304. Nicole Diem - Clay \n\n305. Mara Balodis - Fiber \n\n306. Tonya Perri - Jewelry \n\n307. Christine Diamond - Fiber \n\n308. Every Life Works \n\n309. Gilbert Carey - Wood\n\n310. Joanne Ludwig - Fiber\n\n311. Susan Whitehouse - Jewelry \n\n312. Darlene Freas - Mixed Media\n\n313. Patricia Vojtech - Photography \n\n314. Dolores Fawkes - Jewelry \n\n315. Peter Guilday - Glass\n\n316. Marlyse Heaps - Photography\n\n317. Georgie LeHoop - Mixed Media\n\n318. Cornelia Dabson - Glass\n\n319. Gary Crowl - Wood\n\n\n\n\n\nAccommodations\n\nHoliday Inn Express\, Bethany Beach: The Holiday Inn Express in Bethany Beach is offering a double queen room for $289 for Friday\, September 10 through Sunday\, September 12. A 2 night minimum stay is required. To book your stay\, please click here.\n\n\n\nSUPPORTING ARTS IN THE COMMUNITY\n\n\n\nSilent Auction\n\nThe annual event serves as a fundraiser for the arts programs at five local schools. The silent auction is comprised of pieces donated by participating artists\, and is hosted on the Bethany Beach Bandstand from 10 am - 2 pm. The schools which benefit from the silent auction are Lord Baltimore Elementary School\, Southern Delaware School of the Arts\, John M. Clayton Elementary School\, Phillip C. Showell Elementary School and Selbyville Middle School.\n\n\n\nSponsorship Opportunities:\n\nIf you are interested in becoming a sponsor for the Bethany Beach Boardwalk Arts Festival\, please see all available opportunities here.\n\n\n\nVolunteers\n\nInterested in assisting the Chamber with this event? Click here to sign up for a volunteer shift or click here for a paper volunteer form. All paper volunteer forms can be returned to events@thequietresorts.com.\n\n\nIn the event that inclement weather is forecasted that poses a threat to public safety\, the festival has a rain date scheduled of Sunday\, September 12\, 2021. All announcements regarding show date will be made on this web site.\n\n \n\n\n\nThe Bethany-Fenwick Area Chamber of Commerce is a non-profit organization dedicated to enhancing business throughout our area and promoting The Quiet Resorts as a year-round tourism destination.
X-ALT-DESC;FMTTYPE=text/html:<div><span style="font-family:arial\;"><span style="font-size:14px\;">The&nbsp\;43rd Annual Bethany Beach Boardwalk Arts Festival in downtown Bethany Beach will be held&nbsp\; on September 11\, 2021 from 10 am - 5 pm. <span style="color:#333333\;">The popular one-day show features jewelry\, glass\, pottery\, watercolor and oil painting\, photography\, basketry\, woodworking\, and much more! More than 100 juried artists\, both local and from around the country\, will display their work along the bandstand\, boardwalk\, and streets of downtown Bethany Beach. For 43 years\, festival-goers have savored the end of summer at the annual event\, proving there is not a more beautiful backdrop for unique works of art. For more information and 2021 artist information as it is available\, visit www.BethanyBeachArtsFestival.com.</span></span></span><br />\n<br />\n<span style="font-family: arial\;"><span style="font-size: 16px\;"><span style="font-size: 14px\;"><strong>COVID-19 Requirements</strong></span></span></span><br />\n<span style="color: rgb(37\, 32\, 26)\; font-family: arial\; font-size: 14px\;">The Bethany-Fenwick Area Chamber of Commerce will follow all COVID-19 protocols set forth by the State of Delaware and the Centers for Disease Control to provide a safe event for all patrons\, artists\, sponsors\, volunteers\, and staff. Current mandates\, restrictions\, and guidelines (if necessary) will be communicated prior to the event.<br />\n<br />\n<strong>Participating Artists</strong><br />\nBoardwalk Booths<br />\n1. McKee Builders<br />\n2. Kimberly Berkich - Jewelry<br />\n3. The Quiet Resorts Charitable Foundation&nbsp\;<br />\n4. Jimmy Mann - Mixed Media<br />\n5.Gail Gingrich - Jewelry&nbsp\;<br />\n6. Rogahan - Glass<br />\n7. Kathryn Pokalo - Fiber<br />\n8. Michael Lichtenstein- Mixed Media<br />\n9. Tom Anderson - Fiber<br />\n10. Believe in Tomorrow&nbsp\;<br />\n11. Collen Long - Jewelry<br />\n12. Historical Coastal Towns<br />\n13. Leslie Halaby- Moore - Jewelry&nbsp\;<br />\n14. Tom Longacre - Clay&nbsp\;<br />\n15. Richelle Walk - Jewelry&nbsp\;<br />\n16. Jeff Stambaugh - Clay&nbsp\;<br />\n17. Joann Danoff - Jewelry&nbsp\;<br />\n18. Kitchen Tune- Up&nbsp\;<br />\n19. Nancy LaMotte - Jewelry&nbsp\;<br />\n20. Michelle Abbitt - Mixed Media<br />\n21. Jessica Keemer - Jewelry&nbsp\;<br />\n22. Tyler Steel - Painting&nbsp\;<br />\n23. Heather Koch - Painting&nbsp\;<br />\n24. Ben May - Clay&nbsp\;<br />\n25. Alison Jefferies - Jewelry&nbsp\;<br />\n26. Altan Erginkoc - Wood<br />\n27. Victoria Lowe - Fiber<br />\n28. Marjoie Samero - Glass<br />\n29. Thomas Yates - Wood<br />\n30. Nick Rezendes - Jewelry&nbsp\;<br />\n31. Jennifer Moon-Child - Wood<br />\n32. Candance Port-Hull - Fiber&nbsp\;<br />\n33. Southern Coastal Village Volunteers&nbsp\;<br />\n34. Mason Dixon VFW<br />\n35. Coastal Point&nbsp\;<br />\n<br />\nBandstand Booths<br />\n101. Donald Nicholas - Glass<br />\n102. Pamela Bartl - Fiber<br />\n103. Laura Hickman - Drawing&nbsp\;<br />\n104. Jennifer Carter - Photography&nbsp\;<br />\n105. Beebe Healthcare<br />\n106. Sierra Krause - Fiber&nbsp\;<br />\n107. Yuriy Zahvoyskyy - Photography&nbsp\;<br />\n108. Russell Turnage - Clay&nbsp\;<br />\n109. Deborah Bryant - Clay<br />\n111. Courtney Gillen - Jewelry&nbsp\;<br />\n112. John Cooley - Clay&nbsp\;<br />\n113. Kevin Finney - Mixed Media<br />\n114. Lynn Anderson - Jewelry&nbsp\;<br />\n115. Diana Papazian - Jewelry&nbsp\;<br />\n116. Marylynn Willard- Fiber&nbsp\;<br />\n118. Regen Linn - Jewelry&nbsp\;<br />\n119. Jeff Kaufhold - Painting&nbsp\;<br />\n120. Jessica McGrath- Jewelry&nbsp\;<br />\n121. Willie Trejbal - Jewelry&nbsp\;<br />\n122. Carol Fastuca - Painting&nbsp\;<br />\n123. Gary Stewart- Mixed Media&nbsp\;<br />\n124. John Donato - Painting<br />\n125. SEAs the Day&nbsp\;<br />\n<br />\nGarfield Parkway&nbsp\;<br />\n200. Stephen Brehm - Painting&nbsp\;<br />\n201. Martha Bogan - Clay<br />\n202. Amanda Sokolski - Painting<br />\n203. Carol Pedrick - Glass<br />\n204. Michael Orhelein - Photography&nbsp\;<br />\n205.Susan Wolf - Wood&nbsp\;<br />\n206. Constance Guerra - Painting&nbsp\;<br />\n207. Curt Callahan - Painting&nbsp\;<br />\n208. St. Martha&#39\;s&nbsp\;<br />\n209. Lion&#39\;s Club&nbsp\;<br />\n210. Merrianne Nichols - Fiber<br />\n211. Jill Beard - Glass<br />\n212. Susan Gladstone - Clay&nbsp\;<br />\n213. Rachel Mackenzie - Metal&nbsp\;<br />\n214. Jessica Schlegel - Painting&nbsp\;<br />\n215. Delaware National Guard&nbsp\;<br />\n216. Richard Toft - Painting&nbsp\;<br />\n217. Gavin Hain - Metal<br />\n218. Dennis Ray - Jewelry&nbsp\;<br />\n219. Lelie Master - Mixed Media<br />\n220. William Cantwell - Painting&nbsp\;&nbsp\;<br />\n221. Audrey Hauserman - Fiber<br />\n222. Jan Barco - Mixed Media<br />\n223. Jon Bandish - Painting&nbsp\;<br />\n224. Linda Lurcott - Jewelry&nbsp\;<br />\n225. Linda McAdams - Mixed Media<br />\n226. Yvonne Torelli - Painting&nbsp\;<br />\n227. Michele Ross - Jewelry&nbsp\;<br />\n228. Christine Rush - Mixed Media<br />\n229. Mary Yeagley-Bower - Clay&nbsp\;<br />\n230. Fritz Grubb - Painting&nbsp\;<br />\n231. Kazuko Fuller - Jewelry&nbsp\;<br />\n232. Bob Bohannon - Wood<br />\n233. Chris Matias - Clay<br />\n234. Lord&#39\;s Landscaping&nbsp\;<br />\n235. Ellen Robinson - Clay&nbsp\;<br />\n236. Carl Lynch - Mixed Media<br />\n237. Bayside&nbsp\;<br />\n<br />\nParkwood Street Bootha<br />\n301. Tom Mannon - Wood<br />\n302. Vera Kirilenko - Mixed Media<br />\n303. Barbara Randall - Mixed Media&nbsp\;<br />\n304. Nicole Diem - Clay&nbsp\;<br />\n305. Mara Balodis - Fiber&nbsp\;<br />\n306. Tonya Perri - Jewelry&nbsp\;<br />\n307. Christine Diamond - Fiber&nbsp\;<br />\n308. Every Life Works&nbsp\;<br />\n309. Gilbert Carey - Wood<br />\n310. Joanne Ludwig - Fiber<br />\n311. Susan Whitehouse - Jewelry&nbsp\;<br />\n312. Darlene Freas - Mixed Media<br />\n313. Patricia Vojtech - Photography&nbsp\;<br />\n314. Dolores Fawkes - Jewelry&nbsp\;<br />\n315. Peter Guilday - Glass<br />\n316. Marlyse Heaps - Photography<br />\n317. Georgie LeHoop - Mixed Media<br />\n318. Cornelia Dabson - Glass<br />\n319. Gary Crowl - Wood<br />\n<br />\n<br />\n<strong>Accommodations</strong><br />\nHoliday Inn Express\, Bethany Beach: The Holiday Inn Express in Bethany Beach is offering a double queen room for $289 for Friday\, September 10 through Sunday\, September 12. A 2 night minimum stay is required. To book your stay\, please <strong><a href="https://www.ihg.com/holidayinnexpress/hotels/us/en/bethany-beach/bhnde/hoteldetail?fromRedirect=true&amp\;qSrt=sBR&amp\;qIta=99801505&amp\;icdv=99801505&amp\;qSlH=BHNDE&amp\;qGrpCd=ART&amp\;setPMCookies=true&amp\;qSHBrC=EX&amp\;qDest=39642%20Jefferson%20Bridge%20Rd\,%20Bethany%20Beach\,%20DE\,%20US&amp\;srb_u=1" target="_blank">click here</a></strong>.</span><br />\n<br />\n<span style="font-size: 14px\;"><span style="font-family: arial\;"><strong>SUPPORTING ARTS IN THE COMMUNITY</strong></span><br />\n<br />\n<span style="font-family: arial\;"><strong>Silent Auction</strong><br />\nThe annual event&nbsp\;serves as a fundraiser for the arts programs at&nbsp\;five local schools. The silent auction is comprised of pieces donated by participating artists\, and is hosted on the Bethany Beach Bandstand from 10 am - 2 pm. The schools which benefit from the silent auction are Lord Baltimore Elementary School\, Southern Delaware School of the Arts\, John M. Clayton Elementary School\, Phillip C. Showell Elementary School and Selbyville Middle School.</span></span><br />\n<br />\n<span style="font-size: 14px\;"><span style="font-family: arial\;"><span style="font-size: 14px\;"><span style="font-family: arial\;"><strong>Sponsorship Opportunities</strong>:<br />\nIf you are interested in becoming&nbsp\;a sponsor for the Bethany Beach Boardwalk Arts Festival\, please see all available opportunities <a href="https://chambermaster.blob.core.windows.net/userfiles/UserFiles/chambers/2126/File/AF/2021/2021Sponsorship-AF.pdf" target="_blank"><strong>here</strong></a>.<br />\n<br />\n<strong>Volunteers</strong><br />\nInterested in assisting the Chamber with this event? <strong><a href="https://www.signupgenius.com/go/60b0b4ca9ab22a1fc1-43rd" target="_blank">Click here</a></strong> to sign up for a volunteer shift or <strong><a href="https://chambermaster.blob.core.windows.net/userfiles/UserFiles/chambers/2126/File/AF/2021/Volunteers/ArtsFestivalPaperVolunteerForm.pdf" target="_blank">click here</a></strong> for a paper volunteer form. All paper volunteer forms can be returned to events@thequietresorts.com.</span></span></span></span>\n<p style="margin: 0in 0in 0pt\;"><br />\n<span style="font-size: 14px\;"><span style="font-family: arial\;"><strong><span style="font-size: 14px\;"><span style="font-family: arial\;">In the event that inclement weather is forecasted that poses a threat to public safety\, the festival has a rain date scheduled of Sunday\, September 12\, 2021. All announcements regarding show date will be made on this web site.</span></span></strong></span></span><br />\n&nbsp\;</p>\n</div>\n\n<div>\n<div style="text-align: center\;"><em><span style="font-size: 14px\;"><span style="font-family: arial\;">The Bethany-Fenwick Area Chamber of Commerce is a non-profit organization dedicated to enhancing business throughout our area and promoting The Quiet Resorts as a year-round tourism destination.&nbsp\;</span></span></em></div>\n</div>\n
LOCATION:Downtown Bethany Beach
UID:e.2126.21873
SEQUENCE:3
DTSTAMP:20260424T134948Z
URL:http://business.thequietresorts.com/events/details/43rd-annual-bethany-beach-boardwalk-arts-festival-21873
END:VEVENT

END:VCALENDAR
