BEGIN:VCALENDAR
VERSION:2.0
PRODID:-//ChamberMaster//Event Calendar 2.0//EN
METHOD:PUBLISH
X-PUBLISHED-TTL:P3D
REFRESH-INTERVAL:P3D
CALSCALE:GREGORIAN
BEGIN:VEVENT
DTSTART:20220311T160000Z
DTEND:20220318T020000Z
X-MICROSOFT-CDO-ALLDAYEVENT:FALSE
SUMMARY:4 St. Pat's PARTY Days at The Salted Rim Margarita Bar & Grille
DESCRIPTION:YOUR ST PAT'S PARTY HEADQUARTERS  \n\n4 Days to Party\n\nAll Day & Night\n\n\n\nFriday 3/11\n\nSaturday 3/12 \n\nSunday 3/13\n\nThursday 3/17 Locals Blow Out\n\n\n\nEntertainment\n\nFriday 3/11   DJ Pat 8-11\n\nSaturday 3/12   DJ Rupe 12-6 and DJ Pat 6-12\n\nWatch us in the OC Parade on Saturday then come party at The Salted Rim\n\nSunday 3/13   DJ Pat 2-5\n\nTHURSDAY 3/17 - Locals Blow Out   DJ Pat 2-8\n\n\n\nFood Specials\n\nCorned Beef & Cabbage  $11.17\n\nCorned Beef Reuben  $11.99\n\nCorned Beef Sandwich  $11.99\n\nIrish Stew  $9.17\n\nShepard's Pie  $13.17\n\nBangers & Mash  $13.17\n\nFish & Chips  $12.17\n\nWhile They Last!!\n\n\n\nDrink Specials\n\nGreen Draft  $3.00\n\nGreen Margaritas (house non-frozen) $6.00\n\nGuinness  $6.00\n\nJello Shooters  $1.00\n\nFireball  $3.00\n\nCar Bombs  $8.00\n\nIrish Coffee  $8.00\n\nGreen Shooters  $3.00\n\n\n\nSt. Pat's T-Shirts available\, get them while they last!!!\n\n\n\nCOME GET YOUR IRISH ON!!!\n\n\n\n* Happy Hour NOT available during St. Pat's Event Days *
X-ALT-DESC;FMTTYPE=text/html:<div style="text-align:center"><span style="font-family:comic sans ms"><span style="font-size:20px"><span style="color:rgb(0\, 204\, 51)"><strong>YOUR ST PAT&#39\;S PARTY HEADQUARTERS&nbsp\;</strong></span>&nbsp\;</span></span></div>\n\n<div style="text-align:center"><span style="font-family:arial"><span style="font-size:14px"><strong><span style="font-size:16px"><span style="font-family:comic sans ms">4 Days to Party</span></span></strong><br />\nAll Day &amp\; Night<br />\n<br />\n<span style="color:#FF8C00"><em><strong>Friday 3/11<br />\nSaturday 3/12&nbsp\;<br />\nSunday 3/13</strong></em></span><br />\n<span style="color:#339933"><em><strong>Thursday 3/17 Locals Blow Out</strong></em></span><br />\n<br />\n<span style="color:#008000"><em><strong>Entertainment</strong></em></span></span></span></div>\n\n<div style="margin-left:200px"><span style="font-family:arial"><span style="font-size:14px"><strong>Friday 3/11</strong>&nbsp\;&bull\; DJ Pat 8-11<br />\n<strong>Saturday 3/12</strong>&nbsp\;&bull\; DJ Rupe 12-6 and DJ Pat 6-12<br />\n<span style="font-size:12px">Watch us in the OC Parade on Saturday then come party at The Salted Rim</span><br />\n<strong>Sunday 3/13</strong>&nbsp\;&bull\; DJ Pat 2-5<br />\n<strong>THURSDAY 3/17</strong> - <strong><span style="color:#008000"><em>Locals Blow Out</em></span></strong> &bull\; DJ Pat 2-8</span></span></div>\n\n<div style="text-align:center"><br />\n<span style="font-family:arial"><span style="font-size:14px"><span style="color:#006400"><em><strong>Food Specials</strong></em></span></span></span></div>\n\n<div style="margin-left:240px">Corned Beef &amp\; Cabbage&nbsp\; <span style="font-size:11px">$11.17</span><br />\nCorned Beef Reuben&nbsp\; <span style="font-size:11px">$11.99</span><br />\nCorned Beef Sandwich&nbsp\; <span style="font-size:11px">$11.99</span><br />\nIrish Stew&nbsp\; <span style="font-size:11px">$9.17</span><br />\nShepard&#39\;s Pie&nbsp\; <span style="font-size:11px">$13.17</span><br />\nBangers &amp\; Mash&nbsp\; <span style="font-size:11px">$13.17</span></div>\n\n<div style="margin-left:240px"><span style="font-family:arial"><span style="font-size:14px">Fish &amp\; Chips&nbsp\; <span style="font-size:11px">$12.17</span><br />\n<span style="font-size:11px">While They Last!!</span></span></span></div>\n\n<div style="text-align:center"><br />\n<span style="font-size:14px"><strong><span style="color:#006400"><em>Drink Specials</em></span></strong></span></div>\n\n<div style="margin-left:240px"><span style="font-family:arial"><span style="font-size:14px"><span style="color:rgb(0\, 0\, 0)">Green Draft&nbsp\; <span style="font-size:11px">$3.00</span></span></span></span><br />\n<span style="background-color:rgb(255\, 255\, 255)\; font-family:arial\; font-size:14px">Green Margaritas&nbsp\;<span style="font-size:11px"><span style="font-size:10px">(house non-frozen)&nbsp\;</span><span style="font-size:12px"><span style="font-size:11px">$6.00</span></span></span></span><br />\n<span style="color:rgb(0\, 0\, 0)\; font-family:arial\; font-size:14px">Guinness&nbsp\; <span style="font-size:11px">$6.00</span></span><br />\n<span style="font-family:arial"><span style="font-size:14px"><span style="color:rgb(0\, 0\, 0)">Jello Shooters&nbsp\; <span style="font-size:11px">$1.00</span></span></span></span><br />\n<span style="color:rgb(0\, 0\, 0)\; font-family:arial\; font-size:14px">Fireball&nbsp\; <span style="font-size:11px">$3.00</span></span><br />\n<span style="font-family:arial"><span style="font-size:14px"><span style="color:rgb(0\, 0\, 0)">Car Bombs&nbsp\; <span style="font-size:11px">$8.00</span><br />\nIrish Coffee&nbsp\; <span style="font-size:11px">$8.00</span><br />\nGreen Shooters&nbsp\; <span style="font-size:11px">$3.00</span></span></span></span></div>\n\n<div style="text-align:center"><br />\nSt. Pat&#39\;s T-Shirts available\, get them while they last!!!<br />\n<br />\n<span style="font-family:arial"><span style="font-size:14px"><span style="color:#FF8C00"><em><strong><span style="font-size:16px">COME GET YOUR IRISH ON!!!</span></strong></em></span><br />\n<br />\n<span style="color:#000000"><em><strong><span style="font-size:16px"><span style="font-size:12px">* Happy Hour NOT available during St. Pat&#39\;s Event Days *</span></span></strong></em></span></span></span></div>\n
LOCATION:The Salted Rim Margarita Bar & Grille 35553 Atlantic Avenue Millville\, DE 19967
UID:e.2126.23521
SEQUENCE:3
DTSTAMP:20260424T055257Z
URL:http://business.thequietresorts.com/events/details/4-st-pat-s-party-days-at-the-salted-rim-margarita-bar-grille-03-11-2022-23521
END:VEVENT

END:VCALENDAR
