BEGIN:VCALENDAR
VERSION:2.0
PRODID:-//ChamberMaster//Event Calendar 2.0//EN
METHOD:PUBLISH
X-PUBLISHED-TTL:P3D
REFRESH-INTERVAL:P3D
CALSCALE:GREGORIAN
BEGIN:VEVENT
DTSTART:20240408T133000Z
DTEND:20240411T193000Z
X-MICROSOFT-CDO-ALLDAYEVENT:FALSE
SUMMARY:4-Day Watercolor Workshop at the Art League of Ocean City
DESCRIPTION:4-Day Expressive Watercolor: Flowers to Figures with Janet Rogers\n\n\n\nMon-Thurs\, April 8-11 from 9:30am-3:30pm\n\n\n\n$450 Members\, $565 Non-Members\n\nFresh flowers in the studio will be the inspiration for the beginning of this dynamic workshop   progressing to the head and figure. Through a series of fun painting exercises\, students will develop a more loose and natural approach   giving them an opportunity to be more spontaneous and expressive in their paintings.\n\nClick here to register or call us at 410-524-9433: https://canvas.artleagueofoceancity.org/classes/526
X-ALT-DESC;FMTTYPE=text/html:<p><strong>4-Day Expressive Watercolor: Flowers to Figures with Janet Rogers</strong><br />\n<br />\nMon-Thurs\, April 8-11 from 9:30am-3:30pm<br />\n<br />\n$450 Members\, $565 Non-Members</p>\n\n<p>Fresh flowers in the studio will be the inspiration for the beginning of this dynamic workshop &ndash\; progressing to the head and figure. Through a series of fun painting exercises\, students will develop a more loose and natural approach &ndash\; giving them an opportunity to be more spontaneous and expressive in their paintings.</p>\n\n<p>Click here to register or call us at 410-524-9433:&nbsp\;<a href="https://canvas.artleagueofoceancity.org/classes/526">https://canvas.artleagueofoceancity.org/classes/526</a></p>\n
LOCATION:Art League of Ocean City 502 94th Street Ocean City\, MD 21842
UID:e.2126.28628
SEQUENCE:3
DTSTAMP:20260420T074536Z
URL:http://business.thequietresorts.com/events/details/4-day-watercolor-workshop-at-the-art-league-of-ocean-city-28628
END:VEVENT

END:VCALENDAR
