BEGIN:VCALENDAR
VERSION:2.0
PRODID:-//ChamberMaster//Event Calendar 2.0//EN
METHOD:PUBLISH
X-PUBLISHED-TTL:P3D
REFRESH-INTERVAL:P3D
CALSCALE:GREGORIAN
BEGIN:VEVENT
DTSTART:20221025T210000Z
DTEND:20221027T000000Z
X-MICROSOFT-CDO-ALLDAYEVENT:FALSE
SUMMARY:3rd Annual Whimsical Woods 2022
DESCRIPTION:3rd Annual Whimsical Woods\n\nPresented by Lord's Landscaping Inc\, & Lord's Mercantile\n\n\n\nTwo night event that has attendees navigate through the 5 acre fantasy-filled forest and collect candy and other goodies from your favorite superheroes and movie characters.  Lots of time for photo ops with different characters.  The Whimsical Woods will be fun for all ages with an optional "Haunted Greenhouse" trail at the very end.  Adult attendees can enjoy a free beverage from the Bethany Beach Beverage Company and kids will receive a free book from Bethany Beach Books.  \n\nAll proceeds from the event\, including sponsorships and tickets\, will be donated to the Ball4All Foundation.  \n\n\n\nMore informations and Sponsor Form
X-ALT-DESC;FMTTYPE=text/html:<p dir="ltr" style="line-height: 1.2\; margin-right: -1.5pt\; text-align: center\; margin-top: 5pt\; margin-bottom: 0pt\;"><span style="font-size:14px\;"><span style="font-family:arial\;"><strong><span id="docs-internal-guid-12f08616-7fff-ee0a-4676-60b062a86901"><span style="color: rgb(0\, 0\, 0)\; background-color: transparent\; font-variant-numeric: normal\; font-variant-east-asian: normal\; vertical-align: baseline\; white-space: pre-wrap\;">3rd Annual Whimsical Woods</span></span></strong></span></span></p>\n\n<p dir="ltr" style="line-height: 1.38\; text-align: center\; margin-top: 6pt\; margin-bottom: 0pt\;"><span style="font-size:14px\;"><span style="font-family:arial\;"><span id="docs-internal-guid-12f08616-7fff-ee0a-4676-60b062a86901"><span style="color: rgb(102\, 102\, 102)\; background-color: transparent\; font-style: italic\; font-variant-numeric: normal\; font-variant-east-asian: normal\; vertical-align: baseline\; white-space: pre-wrap\;">Presented by Lord&#39\;s Landscaping Inc\, &amp\; Lord&#39\;s Mercantile</span></span><br />\n<br />\nTwo night event that has attendees navigate through the 5 acre fantasy-filled forest and collect candy and other goodies from your favorite superheroes and movie characters.&nbsp\; Lots of time for photo ops with different characters.&nbsp\; The Whimsical Woods will be fun for all ages with an optional &quot\;Haunted Greenhouse&quot\; trail at the very end.&nbsp\; Adult attendees can enjoy a free beverage from the Bethany Beach Beverage Company and kids will receive a free book from Bethany Beach Books.&nbsp\;&nbsp\;<br />\nAll proceeds from the event\, including sponsorships and tickets\, will be donated to the Ball4All Foundation.&nbsp\;&nbsp\;</span></span><br />\n<br />\n<a href="https://chambermaster.blob.core.windows.net/userfiles/UserFiles/chambers/2126/File/LordsSponsorshipWhimsicalWood2022.pdf">More informations&nbsp\;and Sponsor Form</a></p>\n
LOCATION:Lord's Landscaping 35577 Atlantic Avenue Millville\, DE 19967
UID:e.2126.24088
SEQUENCE:3
DTSTAMP:20260421T173104Z
URL:http://business.thequietresorts.com/events/details/3rd-annual-whimsical-woods-2022-24088
END:VEVENT

END:VCALENDAR
