BEGIN:VCALENDAR
VERSION:2.0
PRODID:-//ChamberMaster//Event Calendar 2.0//EN
METHOD:PUBLISH
X-PUBLISHED-TTL:P3D
REFRESH-INTERVAL:P3D
CALSCALE:GREGORIAN
BEGIN:VEVENT
DTSTART:20240511T130000Z
DTEND:20240511T210000Z
X-MICROSOFT-CDO-ALLDAYEVENT:FALSE
SUMMARY:3rd Annual Southern Delaware Arts Festival at Sussex Central High School
DESCRIPTION:Join Sussex Central High School for the 3rd Annual Arts Festival!\n\n\n\nCelebrating the vibrant visual and performing arts in Southern Delaware. Admission is free from 9am - 5pm on Saturday\, May 11th.\n\n\n\nWe will feature activities including student performances\, local vendors\, community music\, kids crafts\, workshops\, local artists\, and more!\n\n\n\nIf you would like to run a workshop or give a performance\, contact phoebe.marvel@irsd.k12de.us.
X-ALT-DESC;FMTTYPE=text/html:Join Sussex Central High School for the 3rd Annual Arts Festival!<br />\n<br />\nCelebrating the vibrant visual and performing arts in Southern Delaware. Admission is free from 9am - 5pm on Saturday\, May 11th.<br />\n<br />\nWe will feature activities including student performances\, local vendors\, community music\, kids crafts\, workshops\, local artists\, and more!<br />\n<br />\nIf you would like to run a workshop or give a performance\, contact phoebe.marvel@irsd.k12de.us.
LOCATION:Sussex Central High School 206026 Patriots Way Georgetown\, DE 19947
UID:e.2126.29260
SEQUENCE:3
DTSTAMP:20260420T060855Z
URL:http://business.thequietresorts.com/events/details/3rd-annual-southern-delaware-arts-festival-at-sussex-central-high-school-29260
END:VEVENT

END:VCALENDAR
