BEGIN:VCALENDAR
VERSION:2.0
PRODID:-//ChamberMaster//Event Calendar 2.0//EN
METHOD:PUBLISH
X-PUBLISHED-TTL:P3D
REFRESH-INTERVAL:P3D
CALSCALE:GREGORIAN
BEGIN:VEVENT
DTSTART:20191129T150000Z
DTEND:20191201T220000Z
X-MICROSOFT-CDO-ALLDAYEVENT:FALSE
SUMMARY:3rd Annual Shop Small Extravaganza
DESCRIPTION:It is the 3rd Annual Shop Small Extravaganza! This years' stores will be Attics of My Life\, Jayne's Reliable\, Pieces on Main\, Roots Garden Center\, Eclectic\, Lavender & Lace and Magnolia Rifle. Individual stores will be having sales\, food\, drinks and more!\n\n \n\n	All stores listed in our event will have a pile of goodies from the above stores\n	For every $25 spent (in each individual store) earns you a ticket to win that store's pile of goodies. At the end of our event\, each store will draw 1 ticket and that person will win the pile in that store.
X-ALT-DESC;FMTTYPE=text/html:<span style="font-family: arial\;"><span style="font-size: 14px\;">It is the 3rd Annual Shop Small Extravaganza! This years&#39\; stores will be Attics of My Life\, Jayne&#39\;s Reliable\, Pieces on Main\, Roots Garden Center\, Eclectic\, Lavender &amp\; Lace and Magnolia Rifle. Individual stores will be having sales\, food\, drinks and more!</span></span><br />\n&nbsp\;\n<ul>\n	<li><span style="font-family: arial\;"><span style="font-size: 14px\;">All stores listed in our event will have a pile of goodies from the above stores</span></span></li>\n	<li><span style="font-size: 14px\;"><span style="font-family: arial\;">For every $25 spent (in each individual store) earns you a ticket to win that store&#39\;s pile of goodies. At the end of our event\, each store will draw 1 ticket and that person will win the pile in that store.</span></span></li>\n</ul>\n
LOCATION:At participating businesses Jayne's Reliable 33034 Main St\, Dagsboro\, DE 19939 Roots Landscaping & Garden Center 36226 Dupont Blvd\, Selbyville\, DE 19975 Magnolia Rifle Boutique 37238 Lighthouse Rd\, Selbyville\, DE 19975 Lavender & Lace Antiques and Gifts 34902 Atlantic Ave\, Ocean View\, DE 19970 Eclectic Fenwick Store 1204 Coastal Hwy\, Fenwick Island\, DE 19944 Pieces on Main 33119 Main St Dagsboro\, DE 19939
UID:e.2126.19450
SEQUENCE:3
DTSTAMP:20260426T034401Z
URL:http://business.thequietresorts.com/events/details/3rd-annual-shop-small-extravaganza-19450
END:VEVENT

END:VCALENDAR
