BEGIN:VCALENDAR
VERSION:2.0
PRODID:-//ChamberMaster//Event Calendar 2.0//EN
METHOD:PUBLISH
X-PUBLISHED-TTL:P3D
REFRESH-INTERVAL:P3D
CALSCALE:GREGORIAN
BEGIN:VEVENT
DTSTART:20231021T140000Z
DTEND:20231021T180000Z
X-MICROSOFT-CDO-ALLDAYEVENT:FALSE
SUMMARY:3rd Annual Selbyville Trunk or Treat
DESCRIPTION:Come out to Selbyville's Volunteer Fire Department on Saturday\, October 21st\, from 10:00 AM - 2:00 PM for the 3rd Annual Trunk or Treat! \n\n\n\nIn addition to Halloween candy and a children's costume parade and competition\, activities and entertainment include:\n\n	Music by DJ Brian K. Hall\n	Cascading Carlos: The Juggler\n	Fenwick Island Lions Club 50/50 raffle\n	Selbyville VFD Ladies Auxiliary Food & Beverage Service\n	Delaware Alcohol & Tobacco Enforcement DUI Trailer\n\nSponsored by Selbyville Volunteer Fire Co.\, Town of Selbyville\, and the Selbyville Police Department.
X-ALT-DESC;FMTTYPE=text/html:Come out to Selbyville&#39\;s Volunteer Fire Department on Saturday\, October 21st\, from 10:00 AM - 2:00 PM for the 3rd Annual Trunk or Treat!&nbsp\;<br />\n<br />\nIn addition to Halloween candy and a children&#39\;s costume parade and competition\, activities and entertainment include:\n<ul>\n	<li>Music by DJ Brian K. Hall</li>\n	<li>Cascading Carlos: The Juggler</li>\n	<li>Fenwick Island Lions Club 50/50 raffle</li>\n	<li>Selbyville VFD Ladies Auxiliary Food &amp\; Beverage Service</li>\n	<li>Delaware Alcohol &amp\; Tobacco Enforcement DUI Trailer</li>\n</ul>\nSponsored by Selbyville Volunteer Fire Co.\, Town of Selbyville\, and the Selbyville Police Department.
LOCATION:Selbyville VFD Parking Lot 30 N. Main St. Selbyville\, DE 19975
UID:e.2126.26605
SEQUENCE:3
DTSTAMP:20260420T201325Z
URL:http://business.thequietresorts.com/events/details/3rd-annual-selbyville-trunk-or-treat-26605
END:VEVENT

END:VCALENDAR
