BEGIN:VCALENDAR
VERSION:2.0
PRODID:-//ChamberMaster//Event Calendar 2.0//EN
METHOD:PUBLISH
X-PUBLISHED-TTL:P3D
REFRESH-INTERVAL:P3D
CALSCALE:GREGORIAN
BEGIN:VEVENT
DTSTART:20210514T200000Z
DTEND:20210514T210000Z
X-MICROSOFT-CDO-ALLDAYEVENT:FALSE
SUMMARY:360 Fitness & Barre "Grand Opening & Ribbon Cutting"
DESCRIPTION:Join the staff at 360 Fitness & Barre in celebrating their Grand Opening and Ribbon Cutting on Friday May 14\, 2021 beginning at 4:00pm.  \n\n\n\nEnjoy refreshments & door prizes.
X-ALT-DESC;FMTTYPE=text/html:<span style="color: rgb(51\, 51\, 51)\; font-family: sans-serif\, Arial\, Verdana\, &quot\;Trebuchet MS&quot\;\; font-size: 13px\; background-color: rgb(255\, 255\, 255)\;">Join the staff at 360 Fitness &amp\; Barre in celebrating their Grand Opening and Ribbon Cutting on Friday May 14\, 2021 beginning at 4:00pm.&nbsp\;&nbsp\;<br />\n<br />\nEnjoy refreshments &amp\; door prizes.</span><br />\n&nbsp\;
LOCATION:360 Fitness & Barre 33350 Market Place at Sea Colony Bethany Beach\, DE 19930
UID:e.2126.22012
SEQUENCE:3
DTSTAMP:20260424T204627Z
URL:http://business.thequietresorts.com/events/details/360-fitness-barre-grand-opening-ribbon-cutting-22012
END:VEVENT

END:VCALENDAR
