BEGIN:VCALENDAR
VERSION:2.0
PRODID:-//ChamberMaster//Event Calendar 2.0//EN
METHOD:PUBLISH
X-PUBLISHED-TTL:P3D
REFRESH-INTERVAL:P3D
CALSCALE:GREGORIAN
BEGIN:VEVENT
DTSTART:20240316T130000Z
DTEND:20240316T160000Z
X-MICROSOFT-CDO-ALLDAYEVENT:FALSE
SUMMARY:34th Annual Beach Grass Planting in Fenwick Island
DESCRIPTION:Since March 1990\, many dedicated volunteers have helped to build and protect Delaware's sand dunes by planting cape American beach grass on Delaware's ocean and bay beaches. Their efforts have been very successful in helping to re-establish the vegetation along our coastline. \n\n\n\nThe 2024 beach grass planting will be on Saturday\, March 16th from 9am - noon. \n\n\n\nPlease register online at: https://dnrec.delaware.gov/watershed-stewardship/beaches/beach-grass/
X-ALT-DESC;FMTTYPE=text/html:Since March 1990\, many dedicated volunteers have helped to build and protect Delaware&#39\;s sand dunes by planting cape American beach grass on Delaware&#39\;s ocean and bay beaches. Their efforts have been very successful in helping to re-establish the vegetation along our coastline.&nbsp\;<br />\n<br />\nThe 2024 beach grass planting will be on Saturday\, March 16th from 9am - noon.&nbsp\;<br />\n<br />\nPlease register online at:&nbsp\;https://dnrec.delaware.gov/watershed-stewardship/beaches/beach-grass/
LOCATION:Fenwick Island\, DE
UID:e.2126.28443
SEQUENCE:3
DTSTAMP:20260420T074026Z
URL:http://business.thequietresorts.com/events/details/34th-annual-beach-grass-planting-in-fenwick-island-28443
END:VEVENT

END:VCALENDAR
