BEGIN:VCALENDAR
VERSION:2.0
PRODID:-//ChamberMaster//Event Calendar 2.0//EN
METHOD:PUBLISH
X-PUBLISHED-TTL:P3D
REFRESH-INTERVAL:P3D
CALSCALE:GREGORIAN
BEGIN:VEVENT
DTSTART;VALUE=DATE:20200901
DTEND;VALUE=DATE:20200918
TRANSP:TRANSPARENT
X-MICROSOFT-CDO-ALLDAYEVENT:TRUE
SUMMARY:2nd Annual Virtual Girls Night Out 5K (GNO)
DESCRIPTION:Run/walk with a PURPOSE and make a difference in the journey of breast cancer survivors in Delaware this September! The Delaware Breast Cancer Coalition (DBCC) invites you to register for a powerful\, Virtual 5K with your family\, friends or organization and proudly show your support by joining over 1100 past participants for the 3rd Annual Girl's Night Out (men also welcome) ! Join us from your favorite walking or running location\, show your amazing team spirit and compete to win some cool team prizes\, with all event proceeds benefiting the programs and services of the DBCC. Now\, more than ever\, we need your support to sustain the vital programs and services offered to those who rely on us most\, so bring on the girl-power and don't let a pandemic stand in the way of helping us deliver our mission!
X-ALT-DESC;FMTTYPE=text/html:<span style="font-size: 14px\;"><span style="font-family: arial\;">Run/walk with a PURPOSE and make a difference in the journey of breast cancer survivors in Delaware this September! The Delaware Breast Cancer Coalition (DBCC) invites you to register for a powerful\, Virtual 5K with your family\, friends or organization and proudly show your support by joining over 1100 past participants for the 3rd Annual Girl&rsquo\;s Night Out (men also welcome) ! Join us from your favorite walking or running location\, show your amazing team spirit and compete to win some cool team prizes\, with all event proceeds benefiting the programs and services of the DBCC. Now\, more than ever\, we need your support to sustain the vital programs and services offered to those who rely on us most\, so bring on the girl-power and don&rsquo\;t let a pandemic stand in the way of helping us deliver our mission!</span></span>
LOCATION:Anywhere\, USA
UID:e.2126.21749
SEQUENCE:3
DTSTAMP:20260425T145243Z
URL:http://business.thequietresorts.com/events/details/2nd-annual-virtual-girls-night-out-5k-gno-21749
END:VEVENT

END:VCALENDAR
