BEGIN:VCALENDAR
VERSION:2.0
PRODID:-//ChamberMaster//Event Calendar 2.0//EN
METHOD:PUBLISH
X-PUBLISHED-TTL:P3D
REFRESH-INTERVAL:P3D
CALSCALE:GREGORIAN
BEGIN:VEVENT
DTSTART:20231117T220000Z
DTEND:20231118T010000Z
X-MICROSOFT-CDO-ALLDAYEVENT:FALSE
SUMMARY:2nd Annual Royale Festival of Lights
DESCRIPTION:Join Princess Royale Oceanfront Resort as they kick-off their 2nd annual Royale Festival of Lights. All ages welcome. Tickets include: food\, beer and wine\, complimentary hot chocolate for the kids.\n\n\n\nWe'll have a gingerbread house competition\, cookie decorating station\, pictures with Santa\, raffles\, and live entertainment with opening performance by OC Stars.\n\n\n\nSponsorships are available\, portion of proceeds benefit Believe In Tomorrow Children's Foundation - Beach Respite Housing Program.
X-ALT-DESC;FMTTYPE=text/html:Join Princess Royale Oceanfront Resort as they kick-off their 2nd annual Royale Festival of Lights. All ages welcome. Tickets include: food\, beer and wine\, complimentary hot chocolate for the kids.<br />\n<br />\nWe&#39\;ll have a gingerbread house competition\, cookie decorating station\, pictures with Santa\, raffles\, and live entertainment with opening performance by OC Stars.<br />\n<br />\nSponsorships are available\, portion of proceeds benefit Believe In Tomorrow Children&#39\;s Foundation - Beach Respite Housing Program.
LOCATION:Princess Royale Oceanfront Resort 9100 Coastal Highway Ocean City\, MD 21842
UID:e.2126.27014
SEQUENCE:3
DTSTAMP:20260420T183428Z
URL:http://business.thequietresorts.com/events/details/2nd-annual-royale-festival-of-lights-27014
END:VEVENT

END:VCALENDAR
