BEGIN:VCALENDAR
VERSION:2.0
PRODID:-//ChamberMaster//Event Calendar 2.0//EN
METHOD:PUBLISH
X-PUBLISHED-TTL:P3D
REFRESH-INTERVAL:P3D
CALSCALE:GREGORIAN
BEGIN:VEVENT
DTSTART:20230101T140000Z
DTEND:20230101T173000Z
X-MICROSOFT-CDO-ALLDAYEVENT:FALSE
SUMMARY:29th Annual Penguin Swim
DESCRIPTION:Atlantic General Hospital's\n\n29th Annual Penguin Swim\n\nSunday\, January 1\, 2023\n\nFundraiser to support our Community's Healthcare Heroes\n\n\nRegister: on or before December 10 to receive an official 2023 AGH Penguin Swim short-sleeve t-shirt.\n\nShirts will be available while supplies last for participants who register after 12/10/2022.\n\n\n\nCheck in & Registration 9:00am-11:30am\n\nSwim is at 12:00pm\n\n\n\nParticipate as an individual or part of a team!\n\nTrophies awarded to individuals & teams who raise the most money. Participants raising $100 or more will receive a 2023 Penguin Swim Long sleeve t-shirt while supplies last\n\n\n\n*Unable to attend? Participate  in the cyber swim!\n\nSee website for more details
X-ALT-DESC;FMTTYPE=text/html:<div style="text-align: center\;"><span style="font-size:14px\;"><span style="font-family:arial\;">Atlantic General Hospital&#39\;s<br />\n<strong>29th Annual Penguin Swim</strong><br />\nSunday\, January 1\, 2023<br />\nFundraiser to support our Community&#39\;s Healthcare Heroes</span></span></div>\n<br />\n<span style="font-size:14px\;"><span style="font-family:arial\;"><strong>Register</strong>: on or before December 10 to receive an official 2023 AGH Penguin Swim short-sleeve t-shirt.<br />\nShirts will be available while supplies last for participants who register after 12/10/2022.<br />\n<br />\n<strong>Check in &amp\; Registration 9:00am-11:30am<br />\nSwim is at 12:00pm</strong><br />\n<br />\nParticipate as an individual or part of a team!<br />\nTrophies awarded to individuals &amp\; teams who raise the most money. Participants raising $100 or more will receive a 2023 Penguin Swim Long sleeve t-shirt while supplies last<br />\n<br />\n<em>*Unable to attend? Participate&nbsp\; in the cyber swim!<br />\nSee website for more details</em></span></span><br />\n<br />\n&nbsp\;
LOCATION:Princess Royale Oceanfront 91st Street & the Ocean Ocean City\, Maryland
UID:e.2126.24865
SEQUENCE:3
DTSTAMP:20260421T092943Z
URL:http://business.thequietresorts.com/events/details/29th-annual-penguin-swim-24865
END:VEVENT

END:VCALENDAR
