BEGIN:VCALENDAR
VERSION:2.0
PRODID:-//ChamberMaster//Event Calendar 2.0//EN
METHOD:PUBLISH
X-PUBLISHED-TTL:P3D
REFRESH-INTERVAL:P3D
CALSCALE:GREGORIAN
BEGIN:VEVENT
DTSTART:20231214T213000Z
DTEND:20231215T020000Z
X-MICROSOFT-CDO-ALLDAYEVENT:FALSE
SUMMARY:287th Army Band Annual Holiday Concert
DESCRIPTION:You're invited to the 287th Army Band Holiday Concert. All are welcome to attend this free event!\n\n\n\nHigh School band students are invited to perform with the Greatest Band in the Land ~ The 287th Army Band. High School band students are invited to a pre-concert rehearsal with the 287th Army Band at Delaware State University! During the concert\, you have the opportunity to perform on stage with the 287th Army Band!\n\n\n\nRehearsal starts at 4:30pm and the concert starts at 7:00pm. A meal will be provided.\n\n\n\nRSVP to SFC Joseph Ramos by December 8th: joseph.e.ramos17@mil@army.mil or 302-436-7422.
X-ALT-DESC;FMTTYPE=text/html:You&#39\;re invited to the 287th Army Band Holiday Concert. All are welcome to attend this free event!<br />\n<br />\nHigh School band students are invited to perform with the Greatest Band in the Land ~ The 287th Army Band. High School band students are invited to a pre-concert rehearsal with the 287th Army Band at Delaware State University! During the concert\, you have the opportunity to perform on stage with the 287th Army Band!<br />\n<br />\nRehearsal starts at 4:30pm and the concert starts at 7:00pm. A meal will be provided.<br />\n<br />\nRSVP to SFC Joseph Ramos by December 8th: joseph.e.ramos17@mil@army.mil or 302-436-7422.
LOCATION:Delaware State University Bank of America Building 1200 N. Dupont Hwy. Dover\, DE 19904
UID:e.2126.27330
SEQUENCE:3
DTSTAMP:20260420T152147Z
URL:http://business.thequietresorts.com/events/details/287th-army-band-annual-holiday-concert-27330
END:VEVENT

END:VCALENDAR
