BEGIN:VCALENDAR
VERSION:2.0
PRODID:-//ChamberMaster//Event Calendar 2.0//EN
METHOD:PUBLISH
X-PUBLISHED-TTL:P3D
REFRESH-INTERVAL:P3D
CALSCALE:GREGORIAN
BEGIN:VEVENT
DTSTART:20210704T233000Z
DTEND:20210705T010000Z
X-MICROSOFT-CDO-ALLDAYEVENT:FALSE
SUMMARY:287th Army Band
DESCRIPTION:Organized in Wilmington\, DE in 1921 & originally the band of the 198th Coast Artillery Regiment\, the 287th served in the Asiatic-Pacific Theater in WWII at Bora Bora & later-occupied Japan. The band traveled to Bolivia in 1993 and to Germany in 2005.  The concert band will be performing Big Band\, Broadway\, and patriotic tunes. www.287armyband.com
X-ALT-DESC;FMTTYPE=text/html:<span style="background-color:rgba(255\, 255\, 255\, 0.95)\; color:rgb(68\, 68\, 68)\; font-family:arial\; font-size:14.4px">Organized in Wilmington\, DE in 1921 &amp\; originally the band of the 198th Coast Artillery Regiment\, the 287th served in the Asiatic-Pacific Theater in WWII at Bora Bora &amp\; later-occupied Japan. The band traveled to Bolivia in 1993 and to Germany in 2005. &nbsp\;The concert band will be performing Big Band\, Broadway\, and patriotic tunes. www.287armyband.com&nbsp\;</span>
LOCATION:Bethany Beach Bandstand Garfield Parkway & Boardwalk\, Bethany Beach
UID:e.2126.22566
SEQUENCE:3
DTSTAMP:20260424T172859Z
URL:http://business.thequietresorts.com/events/details/287th-army-band-22566
END:VEVENT

END:VCALENDAR
