BEGIN:VCALENDAR
VERSION:2.0
PRODID:-//ChamberMaster//Event Calendar 2.0//EN
METHOD:PUBLISH
X-PUBLISHED-TTL:P3D
REFRESH-INTERVAL:P3D
CALSCALE:GREGORIAN
BEGIN:VEVENT
DTSTART:20221112T150000Z
DTEND:20221113T210000Z
X-MICROSOFT-CDO-ALLDAYEVENT:FALSE
SUMMARY:26th Annual Southeastern Delaware Artists Studio Tour
DESCRIPTION:26th Annual Southeastern Delaware Artists Studio Tour\n\nNovember 12 & 13\, 2022\n\n\n\nJoin artists producing multiple art forms and fine crafts from the region at their working studios and galleries during a self guided tour. Travel at your leisure\, picking which studios to visit during these two days-or visit them all!\n\nBuy raffle tickets\, "Art in the Hat"\, benefitting local school arts programs. $5 each or 5 for $20
X-ALT-DESC;FMTTYPE=text/html:<div style="text-align: center\;"><strong>26th Annual Southeastern Delaware Artists Studio Tour<br />\nNovember 12 &amp\; 13\, 2022</strong><br />\n<br />\nJoin artists producing multiple art forms and fine crafts from the region at their working studios and galleries during a self guided tour. Travel at your leisure\, picking which studios to visit during these two days-or visit them all!<br />\nBuy raffle tickets\, &quot\;Art in the Hat&quot\;\, benefitting local school arts programs. $5 each or 5 for $20&nbsp\;&nbsp\;<br />\n&nbsp\;</div>\n
LOCATION:Self Guided Tour Scan QR code for map or visit website
UID:e.2126.24845
SEQUENCE:3
DTSTAMP:20260421T141957Z
URL:http://business.thequietresorts.com/events/details/26th-annual-southeastern-delaware-artists-studio-tour-24845
END:VEVENT

END:VCALENDAR
