BEGIN:VCALENDAR
VERSION:2.0
PRODID:-//ChamberMaster//Event Calendar 2.0//EN
METHOD:PUBLISH
X-PUBLISHED-TTL:P3D
REFRESH-INTERVAL:P3D
CALSCALE:GREGORIAN
BEGIN:VEVENT
DTSTART:20240515T113000Z
DTEND:20240515T170000Z
X-MICROSOFT-CDO-ALLDAYEVENT:FALSE
SUMMARY:26th Annual Breast Cancer Update with DE Breast Cancer Coalition
DESCRIPTION:The 2024 Breast Cancer Update Program will focus on conquering the unknown while rising above a breast cancer diagnosis. Prominent physicians from throughout Delaware will present on topics ranging from access\, equity\, and barriers to care\, to reoccurrence of breast cancer. \n\n\n\nUnique among medical conferences in Delaware\, the Annual Breast Cancer Update of the Delaware Breast Cancer Coalition (DBCC) provides a 360-degree view of breast cancer research\, treatment\, and patient experiences. It is one of the few conferences attended by medical professionals\, social workers\, breast cancer survivors\, medical students\, and community members available at no cost.\n\n\n\nThis year's event will be available virtually and in person at Goldey-Beacom College in Wilmington\, DE.
X-ALT-DESC;FMTTYPE=text/html:<div>The 2024 Breast Cancer Update Program will focus on conquering the unknown while rising above a breast cancer diagnosis. Prominent physicians from throughout Delaware will present on topics ranging from access\, equity\, and barriers to care\, to reoccurrence of breast cancer.&nbsp\;<br />\n<br />\nUnique among medical conferences in Delaware\, the Annual Breast Cancer Update of the Delaware Breast Cancer Coalition (DBCC) provides a 360-degree view of breast cancer research\, treatment\, and patient experiences. It is one of the few conferences attended by medical professionals\, social workers\, breast cancer survivors\, medical students\, and community members available at no cost.</div>\n\n<div><br />\nThis year&#39\;s event will be available virtually and in person at Goldey-Beacom College in Wilmington\, DE.</div>\n
LOCATION:Goldey-Beacom College 4701 Limestone Rd. Wilmington\, DE 19808
UID:e.2126.28440
SEQUENCE:3
DTSTAMP:20260420T042158Z
URL:http://business.thequietresorts.com/events/details/26th-annual-breast-cancer-update-with-de-breast-cancer-coalition-28440
END:VEVENT

END:VCALENDAR
