BEGIN:VCALENDAR
VERSION:2.0
PRODID:-//ChamberMaster//Event Calendar 2.0//EN
METHOD:PUBLISH
X-PUBLISHED-TTL:P3D
REFRESH-INTERVAL:P3D
CALSCALE:GREGORIAN
BEGIN:VEVENT
DTSTART:20221007T133000Z
DTEND:20221007T190000Z
X-MICROSOFT-CDO-ALLDAYEVENT:FALSE
SUMMARY:25th Annual Contractors For A Cause Golf Tournament
DESCRIPTION:It is once again time for the Annual Contractors for a Cause's Golf Outing! This year we are celebrating our tournament's 25th year\, and we are excited to join together as "Good Contractors doing Good things for Good People" and raise money for Justin's Beach House\, our Legacy Scholarship Fund\, the Helping Hands Program\, and our Good Neighbor Fund\, all while enjoying a great day with colleagues and friends at the beautiful Cripple Creek Golf and Country Club.
X-ALT-DESC;FMTTYPE=text/html:<span style="color: rgb(5\, 5\, 5)\; font-family: &quot\;Segoe UI Historic&quot\;\, &quot\;Segoe UI&quot\;\, Helvetica\, Arial\, sans-serif\; font-size: 15px\;">It is once again time for the Annual Contractors for a Cause&rsquo\;s Golf Outing! This year we are celebrating our tournament&rsquo\;s 25th year\, and we are excited to join together as &ldquo\;Good Contractors doing Good things for Good People&rdquo\; and raise money for Justin&rsquo\;s Beach House\, our Legacy Scholarship Fund\, the Helping Hands Program\, and our Good Neighbor Fund\, all while enjoying a great day with colleagues and friends at the beautiful Cripple Creek Golf and Country Club.</span>
LOCATION:Cripple Creek Golf and Country Club 29494 Cripple Creek Drive Dagsboro\, DE
UID:e.2126.24106
SEQUENCE:3
DTSTAMP:20260421T160718Z
URL:http://business.thequietresorts.com/events/details/25th-annual-contractors-for-a-cause-golf-tournament-24106
END:VEVENT

END:VCALENDAR
