BEGIN:VCALENDAR
VERSION:2.0
PRODID:-//ChamberMaster//Event Calendar 2.0//EN
METHOD:PUBLISH
X-PUBLISHED-TTL:P3D
REFRESH-INTERVAL:P3D
CALSCALE:GREGORIAN
BEGIN:VEVENT
DTSTART;VALUE=DATE:20230419
DTEND;VALUE=DATE:20230420
TRANSP:TRANSPARENT
X-MICROSOFT-CDO-ALLDAYEVENT:TRUE
SUMMARY:25th Annual Breast Cancer Update
DESCRIPTION:The Delaware Breast Cancer Coalition's (DBCC) Annual Breast Cancer Update began as a small scientific meeting to update physicians about the latest trends in breast cancer diagnosis and treatment.\n\nRecognizing the importance of sharing the most up-to-date information the Breast Cancer Update has grown to an annual educational conference offered free to the public.\n\nAccess & Advances \n\nin Breast Cancer Care & Therapies\nVirtual via Zoom\n\nCPU credits available
X-ALT-DESC;FMTTYPE=text/html:<p>The Delaware Breast Cancer Coalition&rsquo\;s (DBCC) Annual Breast Cancer Update&nbsp\;began as a small scientific meeting to update physicians about the latest trends in breast cancer diagnosis and treatment.</p>\n\n<p>Recognizing the importance of sharing the most up-to-date information the Breast Cancer Update has grown to an annual educational conference offered&nbsp\;free to the public.</p>\n\n<p><strong>Access &amp\; Advances</strong><strong> </strong></p>\n\n<p><strong>in Breast Cancer Care &amp\; Therapies</strong></p>\nVirtual via Zoom<br />\nCPU credits available
LOCATION:Virtual via Zoom
UID:e.2126.24873
SEQUENCE:3
DTSTAMP:20260421T040422Z
URL:http://business.thequietresorts.com/events/details/25th-annual-breast-cancer-update-24873
END:VEVENT

END:VCALENDAR
