BEGIN:VCALENDAR
VERSION:2.0
PRODID:-//ChamberMaster//Event Calendar 2.0//EN
METHOD:PUBLISH
X-PUBLISHED-TTL:P3D
REFRESH-INTERVAL:P3D
CALSCALE:GREGORIAN
BEGIN:VEVENT
DTSTART:20241201T140000Z
DTEND:20241201T180000Z
X-MICROSOFT-CDO-ALLDAYEVENT:FALSE
SUMMARY:21st Annual Sea Colony Turkey Trot 5k Run/Walk
DESCRIPTION:WE ARE BACK for our 21st Annual Turkey Trot 5K Run/Walk to benefit Special Olympics Delaware & Beebe Healthcare South Coastal Health Campus. Join us on Sunday\, December 1\, 2024 at the Sea Colony Freeman Fitness Center and walk/run through Sea Colony's beautiful community for a great cause. Race starts at 9 a.m. \n\n\n\nRACE DIRECTOR:\n\nTim Bamforth\, Seashore Striders/Seashore Strider Event Production\, Inc.\n\n\n\nRACE TIMING:\n\nSeashore Strider Event Production will chip time the event using the Chronotrack chip timing system.\n\n\n\nRACE AMENITIES:\n\nCustom Short sleeve unisex cotton race shirt\, 5 year age group awards\, and refreshments! (T-Shirts are guaranteed if entry is received by the 11/17 order deadline. We will do our best to get t-shirts to all participants\, however after the 17th - no guarantee. Thank you!)\n\n\n\nPARKING:\n\nPlenty of parking is available near the start/finish line and throughout the Sea Colony Community.\n\n\n\nAWARDS:\n\nAwards will be presented to the Overall\, Master\, and the top three finishers in the following age groups from 9u to 80+ (9 & U\, 10-13\, 14-19\, 20-24\, 25-29\, 30-34\, 35-39\, 40-44\, 45-49\, 50-54\, 55-59\, 60-64\, 65-69\, 70-74\, 75-79\, 80+)\n\n\n\nRACE ENTRY FEE: \n\n$30 Pre-Registration Fee (ends Saturday\, November 30\, 2024 at 10 pm)\n\n$35 Race day Registration Fee (Race day registration 7:30 - 8:45 a.m.)\n\n\n\nREGISTER HERE! https://runsignup.com/Race/DE/BethanyBeach/SeaColonyTurkeyTrot5kRun
X-ALT-DESC;FMTTYPE=text/html:<strong>WE ARE BACK for our 21st Annual Turkey Trot 5K Run/Walk to benefit Special Olympics Delaware &amp\; Beebe Healthcare South Coastal Health Campus.</strong> Join us on Sunday\, December 1\, 2024 at the Sea Colony Freeman Fitness Center and walk/run through Sea Colony&rsquo\;s beautiful community for a great cause. Race starts at 9 a.m.&nbsp\;<br />\n<br />\n<strong>RACE DIRECTOR:</strong><br />\nTim Bamforth\, Seashore Striders/Seashore Strider Event Production\, Inc.<br />\n<br />\n<strong>RACE TIMING:</strong><br />\nSeashore Strider Event Production will chip time the event using the Chronotrack chip timing system.<br />\n<br />\n<strong>RACE AMENITIES:</strong><br />\nCustom Short sleeve unisex cotton race shirt\, 5 year age group awards\, and refreshments! <em>(T-Shirts are guaranteed if entry is received by the 11/17 order deadline. We will do our best to get t-shirts to all participants\, however after the 17th - no guarantee. Thank you!)</em><br />\n<br />\n<strong>PARKING:</strong><br />\nPlenty of parking is available near the start/finish line and throughout the Sea Colony Community.<br />\n<br />\n<strong>AWARDS:</strong><br />\nAwards will be presented to the Overall\, Master\, and the top three finishers in the following age groups from 9u to 80+ (9 &amp\; U\, 10-13\, 14-19\, 20-24\, 25-29\, 30-34\, 35-39\, 40-44\, 45-49\, 50-54\, 55-59\, 60-64\, 65-69\, 70-74\, 75-79\, 80+)<br />\n<br />\n<strong>RACE ENTRY FEE:&nbsp\;</strong><br />\n$30 Pre-Registration Fee (ends Saturday\, November 30\, 2024 at 10 pm)<br />\n$35 Race day Registration Fee (Race day registration 7:30 - 8:45 a.m.)<br />\n<br />\n<strong>REGISTER HERE!</strong> <a href="https://runsignup.com/Race/DE/BethanyBeach/SeaColonyTurkeyTrot5kRun">https://runsignup.com/Race/DE/BethanyBeach/SeaColonyTurkeyTrot5kRun</a>
LOCATION:Sea Colony Freeman Fitness Center 38994 Westway Dr. Bethany Beach\, DE 19930
UID:e.2126.31069
SEQUENCE:3
DTSTAMP:20260421T033620Z
URL:http://business.thequietresorts.com/events/details/21st-annual-sea-colony-turkey-trot-5k-run-walk-31069
END:VEVENT

END:VCALENDAR
