BEGIN:VCALENDAR
VERSION:2.0
PRODID:-//ChamberMaster//Event Calendar 2.0//EN
METHOD:PUBLISH
X-PUBLISHED-TTL:P3D
REFRESH-INTERVAL:P3D
CALSCALE:GREGORIAN
BEGIN:VEVENT
DTSTART:20200226T223000Z
DTEND:20200329T020000Z
X-MICROSOFT-CDO-ALLDAYEVENT:FALSE
SUMMARY:20th Annual GALA BY THE SEA
DESCRIPTION:Join us for the 20th Anniversary celebration to benefit Believe In Tomorrow Children's House The Sea\, at the Holiday Inn 66th St in Ocean City. Cocktail hour starts at 5:30p with live entertainment and food prepared by the areas finest chefs and restaurants. Dinner and music to follow. Silent auction\, raffles \, Jewelry from Park Place Jewelers and more. Tx are $75 and ALL proceeds benefit the Children's House By The Sea\, providing respite housing for critically ill children and their famillies. For more info visit www.believeintomorrow.org/gala or call 410-723-2842
X-ALT-DESC;FMTTYPE=text/html:<span style="font-size: 14px\;"><span style="font-family: arial\;">Join us for the 20th Anniversary celebration to benefit Believe In Tomorrow Children&#39\;s House The Sea\, at the Holiday Inn 66th St in Ocean City. Cocktail hour starts at 5:30p with live entertainment and food prepared by the areas finest chefs and restaurants. Dinner and music to follow. Silent auction\, raffles \, Jewelry from Park Place Jewelers and more. Tx are $75 and ALL proceeds benefit the Children&#39\;s House By The Sea\, providing respite housing for critically ill children and their famillies. For more info visit www.believeintomorrow.org/gala or call 410-723-2842</span></span>
LOCATION:Holiday Inn 6600 Coastal Highway Ocean City\, MD
UID:e.2126.20271
SEQUENCE:3
DTSTAMP:20260425T225232Z
URL:http://business.thequietresorts.com/events/details/20th-annual-gala-by-the-sea-20271
END:VEVENT

END:VCALENDAR
