BEGIN:VCALENDAR
VERSION:2.0
PRODID:-//ChamberMaster//Event Calendar 2.0//EN
METHOD:PUBLISH
X-PUBLISHED-TTL:P3D
REFRESH-INTERVAL:P3D
CALSCALE:GREGORIAN
BEGIN:VEVENT
DTSTART:20200328T213000Z
DTEND:20200329T020000Z
X-MICROSOFT-CDO-ALLDAYEVENT:FALSE
SUMMARY:20th Annual Believe In Tomorrow GALA BY THE SEA
DESCRIPTION:You are cordially invited to the 20th Anniversary celebration to benefit Believe In Tomorrow Children's House By The Sea at the Holiday Inn 66th Ocean City. Tx are $75 and include Cocktail hour with tastings from the areas finest chefs\, dinner' music\, silent auction. gift baskets \, raffles\, mystery boxes courtesy of Park Place Jewelers and more. For tickets please call Wayne at 410-723 2842 or visit www.believeintomorrow.org/gala
X-ALT-DESC;FMTTYPE=text/html:<span style="font-size: 14px\;"><span style="font-family: arial\;">You are cordially invited to the 20th Anniversary celebration to benefit Believe In Tomorrow Children&#39\;s House By The Sea at the Holiday Inn 66th Ocean City. Tx are $75 and include Cocktail hour with tastings from the areas finest chefs\, dinner&#39\; music\, silent auction. gift baskets \, raffles\, mystery boxes courtesy of Park Place Jewelers and more. For tickets please call Wayne at 410-723 2842 or visit www.believeintomorrow.org/gala</span></span>
LOCATION:Holiday Inn 6600 Coastal Hwy Ocean City\, MD 21842
UID:e.2126.20148
SEQUENCE:3
DTSTAMP:20260425T225355Z
URL:http://business.thequietresorts.com/events/details/20th-annual-believe-in-tomorrow-gala-by-the-sea-20148
END:VEVENT

END:VCALENDAR
