BEGIN:VCALENDAR
VERSION:2.0
PRODID:-//ChamberMaster//Event Calendar 2.0//EN
METHOD:PUBLISH
X-PUBLISHED-TTL:P3D
REFRESH-INTERVAL:P3D
CALSCALE:GREGORIAN
BEGIN:VEVENT
DTSTART:20240615T233000Z
DTEND:20240616T020000Z
X-MICROSOFT-CDO-ALLDAYEVENT:FALSE
SUMMARY:2024 Sussex Academy Summer Social At Salted Vines Winery
DESCRIPTION:Join Sussex Academy for their 2024 Summer Social at Salted Vines Winery!\n\nIt's a time of celebration\, fun\, networking/socializing\, food\, music\, and more. \n\n\n\nEnjoy Live entertainment\, winery tours\, food\, and a cash bar. \n\n\n\nPurchase Tickets Online for $50 per Adult.\n\n\n\nWe can't wait to SUMMER and SOCIAL with you! #SASummerSocial24
X-ALT-DESC;FMTTYPE=text/html:Join Sussex Academy for their 2024 Summer Social at Salted Vines Winery!<br />\nIt&#39\;s a time of celebration\, fun\, networking/socializing\, food\, music\, and more.&nbsp\;<br />\n<br />\nEnjoy Live entertainment\, winery tours\, food\, and a cash bar.&nbsp\;<br />\n<br />\nPurchase Tickets Online for $50 per Adult.<br />\n<br />\nWe can&#39\;t wait to SUMMER and SOCIAL with you! #SASummerSocial24
LOCATION:Salted Vines Winery 32512 Blackwater Road Frankford\, DE 19945
UID:e.2126.29298
SEQUENCE:3
DTSTAMP:20260420T055931Z
URL:http://business.thequietresorts.com/events/details/2024-sussex-academy-summer-social-at-salted-vines-winery-29298
END:VEVENT

END:VCALENDAR
