BEGIN:VCALENDAR
VERSION:2.0
PRODID:-//ChamberMaster//Event Calendar 2.0//EN
METHOD:PUBLISH
X-PUBLISHED-TTL:P3D
REFRESH-INTERVAL:P3D
CALSCALE:GREGORIAN
BEGIN:VEVENT
DTSTART:20240613T203000Z
DTEND:20240613T223000Z
X-MICROSOFT-CDO-ALLDAYEVENT:FALSE
SUMMARY:2024 Summer Social at Nally Homes
DESCRIPTION:Join the Nally team and the Bethany-Fenwick Area Chamber of Commerce for a Summer Social on Thursday\, June 13th at the new Nally Homes office in Bethany.  From 4:30 - 6:30 PM\, network with other chamber members before we fully head into the summer season\, see Nally's new office space\, and enjoy catering by DiFebo's and live music by Ben Davis!
X-ALT-DESC;FMTTYPE=text/html:Join the Nally team and the Bethany-Fenwick Area Chamber of Commerce for a Summer Social on Thursday\, June 13th at the new Nally Homes office in Bethany.&nbsp\; From 4:30 - 6:30 PM\, network with other chamber members before we fully head into the summer season\, see Nally&#39\;s new office space\, and enjoy catering by DiFebo&#39\;s and live music by Ben Davis!<br />\n<br />\n&nbsp\;
LOCATION:Nally Homes 22 Beach Plum Rd. Bethany Beach\, DE 19930
UID:e.2126.29291
SEQUENCE:3
DTSTAMP:20260420T055628Z
URL:http://business.thequietresorts.com/events/details/2024-summer-social-at-nally-homes-29291
END:VEVENT

END:VCALENDAR
