BEGIN:VCALENDAR
VERSION:2.0
PRODID:-//ChamberMaster//Event Calendar 2.0//EN
METHOD:PUBLISH
X-PUBLISHED-TTL:P3D
REFRESH-INTERVAL:P3D
CALSCALE:GREGORIAN
BEGIN:VEVENT
DTSTART:20240503T140000Z
DTEND:20240503T170000Z
X-MICROSOFT-CDO-ALLDAYEVENT:FALSE
SUMMARY:2024 Shred It and Forget It with WSFS
DESCRIPTION:Shred your confidential documents for free at the Shred It and Forget It event on Friday\, May 3rd from 10:00am - 1:00 pm at the Bethany-Fenwick Area Chamber of Commerce. Sponsored by WSFS Bank\, this opportunity to shred your confidential documents helps to protect yourself from consumer fraud and identity theft. \n\n\n\nBring as much as you want! A Shred It truck will be onsite in the Chamber parking lot to collect all sensitive documentation.
X-ALT-DESC;FMTTYPE=text/html:<span style="font-size:14px\;"><span style="font-family:arial\;">Shred your confidential documents for free at the <strong>Shred It and Forget It</strong> event on<strong> Friday\, May 3rd</strong>&nbsp\;<strong>from 10:00am&nbsp\;- 1:00 pm</strong> at the <strong>Bethany-Fenwick Area Chamber of Commerce</strong>. Sponsored by WSFS Bank\, this opportunity to shred your confidential documents helps to protect yourself from consumer fraud and identity theft.&nbsp\;<br />\n<br />\nBring as much as you want! A Shred It truck will be onsite in the Chamber parking lot to collect all sensitive documentation.</span></span><br />\n&nbsp\;
LOCATION:Bethany-Fenwick Area Chamber of Commerce 36913 Coastal Hwy. Fenwick Island\, DE 19944
UID:e.2126.27639
SEQUENCE:3
DTSTAMP:20260420T042009Z
URL:http://business.thequietresorts.com/events/details/2024-shred-it-and-forget-it-with-wsfs-27639
END:VEVENT

END:VCALENDAR
