BEGIN:VCALENDAR
VERSION:2.0
PRODID:-//ChamberMaster//Event Calendar 2.0//EN
METHOD:PUBLISH
X-PUBLISHED-TTL:P3D
REFRESH-INTERVAL:P3D
CALSCALE:GREGORIAN
BEGIN:VEVENT
DTSTART:20240223T170000Z
DTEND:20240223T190000Z
X-MICROSOFT-CDO-ALLDAYEVENT:FALSE
SUMMARY:2024 Joshua M. Freeman First Responder Awards
DESCRIPTION:The Bethany-Fenwick Area Chamber of Commerce is pleased to honor the outstanding police officers\, paramedics\, EMTs and firefighters who help keep our local communities safe throughout the year. The 2024 Joshua M. Freeman First Responder Awards Ceremony\, formerly known as the Valor Awards\, is presented by the Carl M. Freeman Companies. For over 20 years\, this ceremony has provided due recognition and honor to the incredible men and women in local First Responder companies and departments for their service and dedication to our community.\n\nAwards:\n\nEach participating Company and Department will submit a nomination for the 2024 EMT\, Firefighter\, Officer\, and Paramedic of the Year to be honored during the ceremony.\n\nNominations that have been submitted as "eligible" for consideration of the Overall Valor Award will be submitted to the event committee members and all participating Chiefs and Captains for a vote.\n\nNew this year\, The Good Samaritan Award\, sponsored by Bethany Beach Books\, will be presented to a local citizen who has demonstrated courage\, skill\, and resourcefulness in an effort to help someone in need.\n\n \n\nAttendance for department Chiefs and Honorees is complimentary.\n\nGuests of awardees & dignitaries are invited to join for $30\n\n\n\nThis year's luncheon will be hosted at The Coastal Kitchen at Bear Trap Dunes. \n \n\nMENU OPTIONS\n\nChicken Entree\n\n Chicken Picatta\, pan-seared chicken breast\, with lemon-caper butter\, angel hair pasta & grilled rapini\n\n\n\nSteak Entree\n\nChopped Sirloin Steak with carmelized onions\, mushrooms\, pan gravy\, shredded potato cake\, fine herbs & malibu carrots\n\n\n\nVegetable Entree\n\nVegetable Strudel with puff pastry\, season vegetable ratatouille &red pepper coulis\n\n\n\nDessert\n\nChocolate Bread Pudding with Creme Anglaise\n\n\n\nThank You\, Sponsors!
X-ALT-DESC;FMTTYPE=text/html:<div style="text-align: center\;"><br />\n<span style="text-align: left\; text-transform: none\; text-indent: 0px\; letter-spacing: normal\; font-style: normal\; font-variant: normal\; font-weight: 400\; text-decoration: none\; word-spacing: 0px\; float: none\; white-space: normal\; orphans: 2\; background-color: transparent\; -webkit-text-stroke-width: 0px\; display: inline !important\;">The Bethany-Fenwick Area Chamber of Commerce is pleased to honor the outstanding police officers\, paramedics\, EMTs and firefighters who help keep our local communities safe throughout the year. The 2024 Joshua M. Freeman First Responder Awards Ceremony\, formerly known as the Valor Awards\, is presented by the Carl M. Freeman Companies. For over 20 years\, this ceremony has provided due recognition and honor to the incredible men and women in local First Responder companies and departments for their service and dedication to our community.</span></div>\n\n<div><strong>Awards:</strong><br />\nEach participating Company and Department will submit a nomination for the <strong>2024 EMT\, Firefighter\,&nbsp\;Officer\, and Paramedic of the Year</strong> to be honored during the ceremony.<br />\nNominations that have been submitted as &quot\;eligible&quot\; for consideration of the <strong>Overall Valor Award</strong> will be submitted to the event committee members and all participating Chiefs and Captains for a vote.<br />\nNew this year\,&nbsp\;<strong>The Good Samaritan Award</strong>\, sponsored by Bethany Beach Books\,&nbsp\;will be presented&nbsp\;to a local citizen&nbsp\;who has demonstrated courage\, skill\, and resourcefulness in an effort to help someone in need.</div>\n\n<div style="text-align: center\;">&nbsp\;</div>\n\n<div><span style="text-align: left\; text-transform: none\; text-indent: 0px\; letter-spacing: normal\; font-style: normal\; font-variant: normal\; font-weight: 400\; text-decoration: none\; word-spacing: 0px\; float: none\; white-space: normal\; orphans: 2\; background-color: transparent\; -webkit-text-stroke-width: 0px\; display: inline !important\;"><strong>Attendance for department Chiefs and Honorees is complimentary.<br />\nGuests of awardees &amp\; dignitaries are invited to join for $30</strong><br />\n<br />\n<strong>This year&#39\;s luncheon will be hosted at The Coastal Kitchen at Bear Trap Dunes.&nbsp\;</strong></span></div>\n&nbsp\;\n\n<div style="text-align: center\;"><span style="text-align: left\; text-transform: none\; text-indent: 0px\; letter-spacing: normal\; font-style: normal\; font-variant: normal\; font-weight: 400\; text-decoration: none\; word-spacing: 0px\; float: none\; white-space: normal\; orphans: 2\; background-color: transparent\; -webkit-text-stroke-width: 0px\; display: inline !important\;"><strong>MENU OPTIONS</strong><br />\n<strong>Chicken Entree</strong><br />\n&nbsp\;Chicken&nbsp\;Picatta\, p</span>an-seared chicken breast\, with lemon-caper butter\, angel hair pasta &amp\; grilled rapini<br />\n<br />\n<strong>Steak Entree</strong><br />\nChopped Sirloin Steak&nbsp\;with carmelized onions\, mushrooms\, pan gravy\, shredded potato cake\, fine herbs &amp\; malibu carrots<br />\n<br />\n<strong>Vegetable Entree</strong><br />\nVegetable Strudel&nbsp\;with puff pastry\, season vegetable ratatouille &amp\;red pepper coulis<br />\n<br />\n<strong>Dessert</strong><br />\nChocolate Bread Pudding with Creme Anglaise</div>\n\n<div style="text-align: center\;"><br />\n<strong>Thank You\, Sponsors!</strong><br />\n<br />\n&nbsp\;</div>\n
LOCATION:Coastal Kitchen at Bear Trap Dunes 7 Clubhouse Dr. Ocean View\, DE 19970
UID:e.2126.27322
SEQUENCE:3
DTSTAMP:20260420T093733Z
URL:http://business.thequietresorts.com/events/details/2024-joshua-m-freeman-first-responder-awards-27322
END:VEVENT

END:VCALENDAR
